BEGIN:VCALENDAR
VERSION:2.0
PRODID:-//jEvents 2.0 for Joomla//EN
CALSCALE:GREGORIAN
METHOD:PUBLISH
BEGIN:VTIMEZONE
TZID:Europe/Berlin
BEGIN:STANDARD
DTSTART:20181028T020000
RDATE:20190331T030000
TZOFFSETFROM:+0200
TZOFFSETTO:+0100
TZNAME:Europe/Berlin CET
END:STANDARD
BEGIN:STANDARD
DTSTART:20191027T020000
RDATE:20200329T030000
TZOFFSETFROM:+0200
TZOFFSETTO:+0100
TZNAME:Europe/Berlin CET
END:STANDARD
BEGIN:STANDARD
DTSTART:20201025T020000
RDATE:20210328T030000
TZOFFSETFROM:+0200
TZOFFSETTO:+0100
TZNAME:Europe/Berlin CET
END:STANDARD
BEGIN:STANDARD
DTSTART:20211031T020000
RDATE:20220327T030000
TZOFFSETFROM:+0200
TZOFFSETTO:+0100
TZNAME:Europe/Berlin CET
END:STANDARD
BEGIN:STANDARD
DTSTART:20221030T020000
RDATE:20230326T030000
TZOFFSETFROM:+0200
TZOFFSETTO:+0100
TZNAME:Europe/Berlin CET
END:STANDARD
BEGIN:STANDARD
DTSTART:20231029T020000
RDATE:20240331T030000
TZOFFSETFROM:+0200
TZOFFSETTO:+0100
TZNAME:Europe/Berlin CET
END:STANDARD
BEGIN:DAYLIGHT
DTSTART:20180518T110000
RDATE:20181028T020000
TZOFFSETFROM:+0100
TZOFFSETTO:+0200
TZNAME:Europe/Berlin CEST
END:DAYLIGHT
BEGIN:DAYLIGHT
DTSTART:20190331T030000
RDATE:20191027T020000
TZOFFSETFROM:+0100
TZOFFSETTO:+0200
TZNAME:Europe/Berlin CEST
END:DAYLIGHT
BEGIN:DAYLIGHT
DTSTART:20200329T030000
RDATE:20201025T020000
TZOFFSETFROM:+0100
TZOFFSETTO:+0200
TZNAME:Europe/Berlin CEST
END:DAYLIGHT
BEGIN:DAYLIGHT
DTSTART:20210328T030000
RDATE:20211031T020000
TZOFFSETFROM:+0100
TZOFFSETTO:+0200
TZNAME:Europe/Berlin CEST
END:DAYLIGHT
BEGIN:DAYLIGHT
DTSTART:20220327T030000
RDATE:20221030T020000
TZOFFSETFROM:+0100
TZOFFSETTO:+0200
TZNAME:Europe/Berlin CEST
END:DAYLIGHT
BEGIN:DAYLIGHT
DTSTART:20230326T030000
RDATE:20231029T020000
TZOFFSETFROM:+0100
TZOFFSETTO:+0200
TZNAME:Europe/Berlin CEST
END:DAYLIGHT
END:VTIMEZONE
BEGIN:VEVENT
UID:bf8d88d3099046aa6c4fb0b63a678200
CATEGORIES:Sprache
CREATED:20190321T121905
SUMMARY:Morjensschöppche - "Hein Engelhardt" (Öcher Platt e. V.)
DESCRIPTION;ENCODING=QUOTED-PRINTABLE:Veranstaltung: Morjensschöbbche - "Hein Engelhardt" (Öcher Platt e. V.)Küns
 tler: \n\ndiverse Vereinsmitglieder\nOrt: \n\nSaal Kommer\n\n\nForster Lind
 e 55 \n52078 Aachen-Forst\n   Termin: 19.05.2019Beginn: 11:00 Uhr\nEnde: ca
 . 13:00 Uhr(Einlass:) ca. 30 Minuten vor Beginn *1   Kosten: Eintritt freiE
 intritt: Mitglieder + Gäste  ...Veranstalter: siehe offizielle Bekanntgabe 
 weitere Infos zum Termin auf:http://www.oecher-platt.de/index.php/veranstal
 tungen.html\n\n\nAnmerkungen: (Alle Angaben ohne Gewähr)\n*1: abweichende E
 inlasszeiten sind (soweit bekannt) angegeben.\n*2: Eintrittskarte pro Perso
 n, Ermäßigungen bitte beim Veranstalter erfragen\n\n
DTSTAMP:20260424T155933Z
DTSTART;TZID=Europe/Berlin:20190519T110000
DTEND;TZID=Europe/Berlin:20190519T130000
SEQUENCE:0
TRANSP:OPAQUE
END:VEVENT
END:VCALENDAR