BEGIN:VCALENDAR
VERSION:2.0
PRODID:-//jEvents 2.0 for Joomla//EN
CALSCALE:GREGORIAN
METHOD:PUBLISH
BEGIN:VTIMEZONE
TZID:Europe/Berlin
BEGIN:STANDARD
DTSTART:20181031T190000
RDATE:20190331T030000
TZOFFSETFROM:+0200
TZOFFSETTO:+0100
TZNAME:Europe/Berlin CET
END:STANDARD
BEGIN:STANDARD
DTSTART:20191027T020000
RDATE:20200329T030000
TZOFFSETFROM:+0200
TZOFFSETTO:+0100
TZNAME:Europe/Berlin CET
END:STANDARD
BEGIN:STANDARD
DTSTART:20201025T020000
RDATE:20210328T030000
TZOFFSETFROM:+0200
TZOFFSETTO:+0100
TZNAME:Europe/Berlin CET
END:STANDARD
BEGIN:STANDARD
DTSTART:20211031T020000
RDATE:20220327T030000
TZOFFSETFROM:+0200
TZOFFSETTO:+0100
TZNAME:Europe/Berlin CET
END:STANDARD
BEGIN:STANDARD
DTSTART:20221030T020000
RDATE:20230326T030000
TZOFFSETFROM:+0200
TZOFFSETTO:+0100
TZNAME:Europe/Berlin CET
END:STANDARD
BEGIN:STANDARD
DTSTART:20231029T020000
RDATE:20240331T030000
TZOFFSETFROM:+0200
TZOFFSETTO:+0100
TZNAME:Europe/Berlin CET
END:STANDARD
BEGIN:DAYLIGHT
DTSTART:20190331T030000
RDATE:20191027T020000
TZOFFSETFROM:+0100
TZOFFSETTO:+0200
TZNAME:Europe/Berlin CEST
END:DAYLIGHT
BEGIN:DAYLIGHT
DTSTART:20200329T030000
RDATE:20201025T020000
TZOFFSETFROM:+0100
TZOFFSETTO:+0200
TZNAME:Europe/Berlin CEST
END:DAYLIGHT
BEGIN:DAYLIGHT
DTSTART:20210328T030000
RDATE:20211031T020000
TZOFFSETFROM:+0100
TZOFFSETTO:+0200
TZNAME:Europe/Berlin CEST
END:DAYLIGHT
BEGIN:DAYLIGHT
DTSTART:20220327T030000
RDATE:20221030T020000
TZOFFSETFROM:+0100
TZOFFSETTO:+0200
TZNAME:Europe/Berlin CEST
END:DAYLIGHT
BEGIN:DAYLIGHT
DTSTART:20230326T030000
RDATE:20231029T020000
TZOFFSETFROM:+0100
TZOFFSETTO:+0200
TZNAME:Europe/Berlin CEST
END:DAYLIGHT
END:VTIMEZONE
BEGIN:VEVENT
UID:e69a0c7a5444812e8603397b7c44f6a4
CATEGORIES:Kabarett
CREATED:20190401T173909
SUMMARY:Jung, wat biste jroß jeworden! (Jürgen B. Hausmann)
LOCATION:Stadthalle Alsdorf\, Annastraße 2-6\, 52477 Alsdorf
DESCRIPTION;ENCODING=QUOTED-PRINTABLE:Veranstaltung: Junge, wat biste jroß jeworden!...\nKünstler: \n\nJürgen B. 
 Hausmann\nOrt: Stadthalle Alsdorf, \nAnnastraße 2-6, 52477 Alsdorf   Termin
 : 01.11.2019Beginn: 19:00 UhrEnde: unbekannt(Einlass:) ca. 30-60 Minuten vo
 r Beginn *1   Kosten: ca. 35 € (Preis pro Person *2)Eintritt: im Regelfall 
 Vorverkauf / BestellungVeranstalter: siehe offizielle Bekanntgabe weitere I
 nfos zum Termin auf: http://www.juergen-beckers.de/go/kalender/~/~/~/~/30.h
 tml\n\nhttp://www.stadthalle-alsdorf.de/index.php\n\n\n \n\n\nAnmerkungen: 
 (Alle Angaben ohne Gewähr)\n*1: abweichende Einlasszeiten sind (soweit beka
 nnt) angegeben.\n*2: Eintrittskarte pro Person, Ermäßigungen bitte beim Ver
 anstalter erfragen\n\n
CONTACT:190000230
DTSTAMP:20260419T173106Z
DTSTART;TZID=Europe/Berlin:20191101T190000
DTEND;TZID=Europe/Berlin:20191101T210000
SEQUENCE:0
TRANSP:OPAQUE
END:VEVENT
END:VCALENDAR