BEGIN:VCALENDAR
VERSION:2.0
PRODID:-//jEvents 2.0 for Joomla//EN
CALSCALE:GREGORIAN
METHOD:PUBLISH
BEGIN:VTIMEZONE
TZID:Europe/Berlin
BEGIN:STANDARD
DTSTART:20181213T200000
RDATE:20190331T030000
TZOFFSETFROM:+0200
TZOFFSETTO:+0100
TZNAME:Europe/Berlin CET
END:STANDARD
BEGIN:STANDARD
DTSTART:20191027T020000
RDATE:20200329T030000
TZOFFSETFROM:+0200
TZOFFSETTO:+0100
TZNAME:Europe/Berlin CET
END:STANDARD
BEGIN:STANDARD
DTSTART:20201025T020000
RDATE:20210328T030000
TZOFFSETFROM:+0200
TZOFFSETTO:+0100
TZNAME:Europe/Berlin CET
END:STANDARD
BEGIN:STANDARD
DTSTART:20211031T020000
RDATE:20220327T030000
TZOFFSETFROM:+0200
TZOFFSETTO:+0100
TZNAME:Europe/Berlin CET
END:STANDARD
BEGIN:STANDARD
DTSTART:20221030T020000
RDATE:20230326T030000
TZOFFSETFROM:+0200
TZOFFSETTO:+0100
TZNAME:Europe/Berlin CET
END:STANDARD
BEGIN:STANDARD
DTSTART:20231029T020000
RDATE:20240331T030000
TZOFFSETFROM:+0200
TZOFFSETTO:+0100
TZNAME:Europe/Berlin CET
END:STANDARD
BEGIN:DAYLIGHT
DTSTART:20190331T030000
RDATE:20191027T020000
TZOFFSETFROM:+0100
TZOFFSETTO:+0200
TZNAME:Europe/Berlin CEST
END:DAYLIGHT
BEGIN:DAYLIGHT
DTSTART:20200329T030000
RDATE:20201025T020000
TZOFFSETFROM:+0100
TZOFFSETTO:+0200
TZNAME:Europe/Berlin CEST
END:DAYLIGHT
BEGIN:DAYLIGHT
DTSTART:20210328T030000
RDATE:20211031T020000
TZOFFSETFROM:+0100
TZOFFSETTO:+0200
TZNAME:Europe/Berlin CEST
END:DAYLIGHT
BEGIN:DAYLIGHT
DTSTART:20220327T030000
RDATE:20221030T020000
TZOFFSETFROM:+0100
TZOFFSETTO:+0200
TZNAME:Europe/Berlin CEST
END:DAYLIGHT
BEGIN:DAYLIGHT
DTSTART:20230326T030000
RDATE:20231029T020000
TZOFFSETFROM:+0100
TZOFFSETTO:+0200
TZNAME:Europe/Berlin CEST
END:DAYLIGHT
END:VTIMEZONE
BEGIN:VEVENT
UID:7cab872aa848f3b16a4e9107506ef63d
CATEGORIES:Kabarett
CREATED:20190401T174237
SUMMARY:Jung, wat biste jroß jeworden! (Jürgen B. Hausmann)
LOCATION:Eurogress Aachen\, Monheimsallee 48\, 52062 Aachen (Europa-Saal)
DESCRIPTION;ENCODING=QUOTED-PRINTABLE:Veranstaltung: Jung, wat biste jroß jeworden...\nKünstler: \n\nJürgen B. Ha
 usmann\nOrt: Eurogress Aachen, \nMonheimsallee 48, 52062 Aachen (Europa-Saa
 l)   Termin: 14.12.2019Beginn: 20:00 UhrEnde: unbekannt(Einlass:) ca. 30-60
  Minuten vor Beginn *1   Kosten: ca. 35€ (Preis pro Person *2)Eintritt: im 
 Regelfall Vorverkauf / BestellungVeranstalter: siehe offizielle Bekanntgabe
  weitere Infos zum Termin auf: http://www.juergen-beckers.de/go/kalender/~/
 ~/~/~/30.html\n\n \n\n\nAnmerkungen: (Alle Angaben ohne Gewähr)\n*1: abweic
 hende Einlasszeiten sind (soweit bekannt) angegeben.\n*2: Eintrittskarte pr
 o Person, Ermäßigungen bitte beim Veranstalter erfragen\n\n
CONTACT:190000230
DTSTAMP:20260419T191620Z
DTSTART;TZID=Europe/Berlin:20191214T200000
DTEND;TZID=Europe/Berlin:20191214T220000
SEQUENCE:0
TRANSP:OPAQUE
END:VEVENT
END:VCALENDAR