BEGIN:VCALENDAR
VERSION:2.0
PRODID:-//jEvents 2.0 for Joomla//EN
CALSCALE:GREGORIAN
METHOD:PUBLISH
BEGIN:VTIMEZONE
TZID:Europe/Berlin
BEGIN:STANDARD
DTSTART:20181104T200000
RDATE:20190331T030000
TZOFFSETFROM:+0200
TZOFFSETTO:+0100
TZNAME:Europe/Berlin CET
END:STANDARD
BEGIN:STANDARD
DTSTART:20191027T020000
RDATE:20200329T030000
TZOFFSETFROM:+0200
TZOFFSETTO:+0100
TZNAME:Europe/Berlin CET
END:STANDARD
BEGIN:STANDARD
DTSTART:20201025T020000
RDATE:20210328T030000
TZOFFSETFROM:+0200
TZOFFSETTO:+0100
TZNAME:Europe/Berlin CET
END:STANDARD
BEGIN:STANDARD
DTSTART:20211031T020000
RDATE:20220327T030000
TZOFFSETFROM:+0200
TZOFFSETTO:+0100
TZNAME:Europe/Berlin CET
END:STANDARD
BEGIN:STANDARD
DTSTART:20221030T020000
RDATE:20230326T030000
TZOFFSETFROM:+0200
TZOFFSETTO:+0100
TZNAME:Europe/Berlin CET
END:STANDARD
BEGIN:STANDARD
DTSTART:20231029T020000
RDATE:20240331T030000
TZOFFSETFROM:+0200
TZOFFSETTO:+0100
TZNAME:Europe/Berlin CET
END:STANDARD
BEGIN:DAYLIGHT
DTSTART:20190331T030000
RDATE:20191027T020000
TZOFFSETFROM:+0100
TZOFFSETTO:+0200
TZNAME:Europe/Berlin CEST
END:DAYLIGHT
BEGIN:DAYLIGHT
DTSTART:20200329T030000
RDATE:20201025T020000
TZOFFSETFROM:+0100
TZOFFSETTO:+0200
TZNAME:Europe/Berlin CEST
END:DAYLIGHT
BEGIN:DAYLIGHT
DTSTART:20210328T030000
RDATE:20211031T020000
TZOFFSETFROM:+0100
TZOFFSETTO:+0200
TZNAME:Europe/Berlin CEST
END:DAYLIGHT
BEGIN:DAYLIGHT
DTSTART:20220327T030000
RDATE:20221030T020000
TZOFFSETFROM:+0100
TZOFFSETTO:+0200
TZNAME:Europe/Berlin CEST
END:DAYLIGHT
BEGIN:DAYLIGHT
DTSTART:20230326T030000
RDATE:20231029T020000
TZOFFSETFROM:+0100
TZOFFSETTO:+0200
TZNAME:Europe/Berlin CEST
END:DAYLIGHT
END:VTIMEZONE
BEGIN:VEVENT
UID:dc111a7e0ff110a1d3b5761f97cd109c
CATEGORIES:Kabarett
CREATED:20190408T135435
SUMMARY:Solo für 2 - Best of
LOCATION:Mayersche Buchhandlung\, Forum M\, Buchkremerstrasse 1-7\, 52062 Aachen
DESCRIPTION;ENCODING=QUOTED-PRINTABLE:Veranstaltung: Solo für 2 (Best of)\nKünstler: \n\nSolo für 2 (Jan &amp; Ma
 nfred Savelsberg)\n\nOrt: Mayersche Buchhandlung, Forum M, \nBuchkremerstra
 sse 1-7, 52062 Aachen   Termin: 05.11.2019Beginn: 20:00 UhrEnde: unbekannt(
 Einlass:) ca. 30-60 Minuten vor Beginn *1   Kosten: ca. 15 € (Preis pro Per
 son *2)Eintritt: VorverkaufVeranstalter: siehe offizielle Bekanntgabe weite
 re Infos zum Termin auf:\n\nhttp://www.forum-m-aachen.de/veranstaltungskale
 nder-aachen/\n\n\nhttps://www.mayersche.de/Solo-fuer-2-Best-of-marm-mayersc
 he-pform-me-Jan-Savelsberg.html\n\n\nAnmerkungen: (Alle Angaben ohne Gewähr
 )\n*1: abweichende Einlasszeiten sind (soweit bekannt) angegeben.\n*2: Eint
 rittskarte pro Person, Ermäßigungen bitte beim Veranstalter erfragen\n\n
CONTACT:190000233
DTSTAMP:20260419T172134Z
DTSTART;TZID=Europe/Berlin:20191105T200000
DTEND;TZID=Europe/Berlin:20191105T220000
SEQUENCE:0
TRANSP:OPAQUE
END:VEVENT
END:VCALENDAR