BEGIN:VCALENDAR
VERSION:2.0
PRODID:-//jEvents 2.0 for Joomla//EN
CALSCALE:GREGORIAN
METHOD:PUBLISH
BEGIN:VTIMEZONE
TZID:Europe/Berlin
BEGIN:STANDARD
DTSTART:20181113T193000
RDATE:20190331T030000
TZOFFSETFROM:+0200
TZOFFSETTO:+0100
TZNAME:Europe/Berlin CET
END:STANDARD
BEGIN:STANDARD
DTSTART:20191027T020000
RDATE:20200329T030000
TZOFFSETFROM:+0200
TZOFFSETTO:+0100
TZNAME:Europe/Berlin CET
END:STANDARD
BEGIN:STANDARD
DTSTART:20201025T020000
RDATE:20210328T030000
TZOFFSETFROM:+0200
TZOFFSETTO:+0100
TZNAME:Europe/Berlin CET
END:STANDARD
BEGIN:STANDARD
DTSTART:20211031T020000
RDATE:20220327T030000
TZOFFSETFROM:+0200
TZOFFSETTO:+0100
TZNAME:Europe/Berlin CET
END:STANDARD
BEGIN:STANDARD
DTSTART:20221030T020000
RDATE:20230326T030000
TZOFFSETFROM:+0200
TZOFFSETTO:+0100
TZNAME:Europe/Berlin CET
END:STANDARD
BEGIN:STANDARD
DTSTART:20231029T020000
RDATE:20240331T030000
TZOFFSETFROM:+0200
TZOFFSETTO:+0100
TZNAME:Europe/Berlin CET
END:STANDARD
BEGIN:DAYLIGHT
DTSTART:20190331T030000
RDATE:20191027T020000
TZOFFSETFROM:+0100
TZOFFSETTO:+0200
TZNAME:Europe/Berlin CEST
END:DAYLIGHT
BEGIN:DAYLIGHT
DTSTART:20200329T030000
RDATE:20201025T020000
TZOFFSETFROM:+0100
TZOFFSETTO:+0200
TZNAME:Europe/Berlin CEST
END:DAYLIGHT
BEGIN:DAYLIGHT
DTSTART:20210328T030000
RDATE:20211031T020000
TZOFFSETFROM:+0100
TZOFFSETTO:+0200
TZNAME:Europe/Berlin CEST
END:DAYLIGHT
BEGIN:DAYLIGHT
DTSTART:20220327T030000
RDATE:20221030T020000
TZOFFSETFROM:+0100
TZOFFSETTO:+0200
TZNAME:Europe/Berlin CEST
END:DAYLIGHT
BEGIN:DAYLIGHT
DTSTART:20230326T030000
RDATE:20231029T020000
TZOFFSETFROM:+0100
TZOFFSETTO:+0200
TZNAME:Europe/Berlin CEST
END:DAYLIGHT
END:VTIMEZONE
BEGIN:VEVENT
UID:da6a5b9fb8d35cb5a24066415748052a
CATEGORIES:Kabarett
CREATED:20190508T092338
SUMMARY:Mullefluppetpreisverleihung der AZ 2019
LOCATION:Saalbau Rothe-Erde Kappertz-Hölle\, Hüttenstr.45\, 52068 Aachen
DESCRIPTION;ENCODING=QUOTED-PRINTABLE:Veranstaltung: Mullefluppetpreisverleihung der AZ\nKünstler: \n\nPreisträge
 r: \nRolf Gerrards\n\n\n\nu. a. Dieter Kaspari, Michael Cosler, Robert Esse
 r\nOrt: Saalbau Rothe-Erde Kappertz-Hölle, Hüttenstr.45, 52068 Aachen   Ter
 min: 14.11.2019 (DO)\nBeginn: 19.30 UhrEnde: -(Einlass:) ca. 30-60 Minuten 
 vor Beginn *1   Kosten: -Eintritt: nur eingeladene GästeVeranstalter: siehe
  offizielle Bekanntgabe weitere Infos zum Termin auf:\n\n\n \n\n\nAnmerkung
 en: (Alle Angaben ohne Gewähr)\n*1: abweichende Einlasszeiten sind (soweit 
 bekannt) angegeben.\n*2: Eintrittskarte pro Person, Ermäßigungen bitte beim
  Veranstalter erfragen\n
CONTACT:190000217
DTSTAMP:20260419T154602Z
DTSTART;TZID=Europe/Berlin:20191114T193000
DTEND;TZID=Europe/Berlin:20191114T230000
SEQUENCE:0
TRANSP:OPAQUE
END:VEVENT
END:VCALENDAR