BEGIN:VCALENDAR
VERSION:2.0
PRODID:-//jEvents 2.0 for Joomla//EN
CALSCALE:GREGORIAN
METHOD:PUBLISH
BEGIN:VTIMEZONE
TZID:Europe/Berlin
BEGIN:STANDARD
DTSTART:20181028T020000
RDATE:20190331T030000
TZOFFSETFROM:+0200
TZOFFSETTO:+0100
TZNAME:Europe/Berlin CET
END:STANDARD
BEGIN:STANDARD
DTSTART:20191027T020000
RDATE:20200329T030000
TZOFFSETFROM:+0200
TZOFFSETTO:+0100
TZNAME:Europe/Berlin CET
END:STANDARD
BEGIN:STANDARD
DTSTART:20201025T020000
RDATE:20210328T030000
TZOFFSETFROM:+0200
TZOFFSETTO:+0100
TZNAME:Europe/Berlin CET
END:STANDARD
BEGIN:STANDARD
DTSTART:20211031T020000
RDATE:20220327T030000
TZOFFSETFROM:+0200
TZOFFSETTO:+0100
TZNAME:Europe/Berlin CET
END:STANDARD
BEGIN:STANDARD
DTSTART:20221030T020000
RDATE:20230326T030000
TZOFFSETFROM:+0200
TZOFFSETTO:+0100
TZNAME:Europe/Berlin CET
END:STANDARD
BEGIN:STANDARD
DTSTART:20231029T020000
RDATE:20240331T030000
TZOFFSETFROM:+0200
TZOFFSETTO:+0100
TZNAME:Europe/Berlin CET
END:STANDARD
BEGIN:DAYLIGHT
DTSTART:20181025T190000
RDATE:20181028T020000
TZOFFSETFROM:+0100
TZOFFSETTO:+0200
TZNAME:Europe/Berlin CEST
END:DAYLIGHT
BEGIN:DAYLIGHT
DTSTART:20190331T030000
RDATE:20191027T020000
TZOFFSETFROM:+0100
TZOFFSETTO:+0200
TZNAME:Europe/Berlin CEST
END:DAYLIGHT
BEGIN:DAYLIGHT
DTSTART:20200329T030000
RDATE:20201025T020000
TZOFFSETFROM:+0100
TZOFFSETTO:+0200
TZNAME:Europe/Berlin CEST
END:DAYLIGHT
BEGIN:DAYLIGHT
DTSTART:20210328T030000
RDATE:20211031T020000
TZOFFSETFROM:+0100
TZOFFSETTO:+0200
TZNAME:Europe/Berlin CEST
END:DAYLIGHT
BEGIN:DAYLIGHT
DTSTART:20220327T030000
RDATE:20221030T020000
TZOFFSETFROM:+0100
TZOFFSETTO:+0200
TZNAME:Europe/Berlin CEST
END:DAYLIGHT
BEGIN:DAYLIGHT
DTSTART:20230326T030000
RDATE:20231029T020000
TZOFFSETFROM:+0100
TZOFFSETTO:+0200
TZNAME:Europe/Berlin CEST
END:DAYLIGHT
END:VTIMEZONE
BEGIN:VEVENT
UID:1702de9b879abc0a5af0eee63320b448
CATEGORIES:Theater
CREATED:20190516T235916
SUMMARY:Aue Daag, joue Vermaach - (VB Erholungsges. Eilendorf)
LOCATION:Saalbau Rothe Erde\, Kappertzhölle\, Hüttenstraße 45-47\, 52068 Aachen
DESCRIPTION;ENCODING=QUOTED-PRINTABLE:Veranstaltung: Aue Daag, joue Vermaach\nKünstler: \n\nVolksbühne Erholungsg
 esellschaft \nEilendorf 1889 e. V.\n\nOrt: Saalbau Rothe Erde, Kappertzhöll
 e, \nHüttenstraße 45-47, \n52068 Aachen   Termin: 26.10.2019Beginn: 19:00 U
 hrEnde: ca. 21:30 Uhr(Einlass:) ca. 1h vor Beginn   Kosten: 9,- € (pro Pers
 on) *2\n9,- € AbendkasseEintritt: \nTickets:\nSaalbau Kappertz\nHüttenstraß
 e 45\n52068 Aachen\nTel: 0241 555708\n\nSchreibwaren Heckers\nSeverinstraße
  124\n52080 Aachen\nTel: 0241 9127319\n\nVeranstalter: Volksbühne Erholungs
 gesellschaft \n1889 Eilendorf e.V. weitere Infos zum Termin auf: https://ww
 w.erholungsgesellschaft-eilendorf.de/termine.php  \n\nAnmerkungen: (Alle An
 gaben ohne Gewähr)\n*1: abweichende Einlasszeiten sind (soweit bekannt) ang
 egeben.\n*2: Eintrittskarte pro Person, Ermäßigungen bitte beim Veranstalte
 r erfragen\n\n\n\n \n
CONTACT:190000208
DTSTAMP:20260420T000201Z
DTSTART;TZID=Europe/Berlin:20191026T190000
DTEND;TZID=Europe/Berlin:20191026T220000
SEQUENCE:0
TRANSP:OPAQUE
END:VEVENT
END:VCALENDAR