BEGIN:VCALENDAR
VERSION:2.0
PRODID:-//jEvents 2.0 for Joomla//EN
CALSCALE:GREGORIAN
METHOD:PUBLISH
BEGIN:VTIMEZONE
TZID:Europe/Berlin
BEGIN:STANDARD
DTSTART:20181116T180000
RDATE:20190331T030000
TZOFFSETFROM:+0200
TZOFFSETTO:+0100
TZNAME:Europe/Berlin CET
END:STANDARD
BEGIN:STANDARD
DTSTART:20191027T020000
RDATE:20200329T030000
TZOFFSETFROM:+0200
TZOFFSETTO:+0100
TZNAME:Europe/Berlin CET
END:STANDARD
BEGIN:STANDARD
DTSTART:20201025T020000
RDATE:20210328T030000
TZOFFSETFROM:+0200
TZOFFSETTO:+0100
TZNAME:Europe/Berlin CET
END:STANDARD
BEGIN:STANDARD
DTSTART:20211031T020000
RDATE:20220327T030000
TZOFFSETFROM:+0200
TZOFFSETTO:+0100
TZNAME:Europe/Berlin CET
END:STANDARD
BEGIN:STANDARD
DTSTART:20221030T020000
RDATE:20230326T030000
TZOFFSETFROM:+0200
TZOFFSETTO:+0100
TZNAME:Europe/Berlin CET
END:STANDARD
BEGIN:STANDARD
DTSTART:20231029T020000
RDATE:20240331T030000
TZOFFSETFROM:+0200
TZOFFSETTO:+0100
TZNAME:Europe/Berlin CET
END:STANDARD
BEGIN:DAYLIGHT
DTSTART:20190331T030000
RDATE:20191027T020000
TZOFFSETFROM:+0100
TZOFFSETTO:+0200
TZNAME:Europe/Berlin CEST
END:DAYLIGHT
BEGIN:DAYLIGHT
DTSTART:20200329T030000
RDATE:20201025T020000
TZOFFSETFROM:+0100
TZOFFSETTO:+0200
TZNAME:Europe/Berlin CEST
END:DAYLIGHT
BEGIN:DAYLIGHT
DTSTART:20210328T030000
RDATE:20211031T020000
TZOFFSETFROM:+0100
TZOFFSETTO:+0200
TZNAME:Europe/Berlin CEST
END:DAYLIGHT
BEGIN:DAYLIGHT
DTSTART:20220327T030000
RDATE:20221030T020000
TZOFFSETFROM:+0100
TZOFFSETTO:+0200
TZNAME:Europe/Berlin CEST
END:DAYLIGHT
BEGIN:DAYLIGHT
DTSTART:20230326T030000
RDATE:20231029T020000
TZOFFSETFROM:+0100
TZOFFSETTO:+0200
TZNAME:Europe/Berlin CEST
END:DAYLIGHT
END:VTIMEZONE
BEGIN:VEVENT
UID:6c11b8826047c0662caf882f1037e150
CATEGORIES:Theater
CREATED:20190517T000223
SUMMARY:Aue Daag, joue Vermaach - (VB Erholungsges. Eilendorf)
LOCATION:Saalbau Rothe Erde\, Kappertzhölle\, Hüttenstraße 45-47\, 52068 Aachen
DESCRIPTION;ENCODING=QUOTED-PRINTABLE:Veranstaltung: Aue Daag, joue Vermaach\nKünstler: \n\nVolksbühne Erholungsg
 esellschaft \nEilendorf 1889 e. V.\n\nOrt: Saalbau Rothe Erde, Kappertzhöll
 e, \nHüttenstraße 45-47, \n52068 Aachen   Termin: 17.11.2019Beginn: 18:00 U
 hrEnde: ca. 21:00 Uhr(Einlass:) ca. 01h 30m Uhr vor Beginn   Kosten: 9,- € 
 (pro Person) *2\n9,- € AbendkasseEintritt: \nTickets:\nSaalbau Kappertz\nHü
 ttenstraße 45\n52068 Aachen\nTel: 0241 555708\n\nSchreibwaren Heckers\nSeve
 rinstraße 124\n52080 Aachen\nTel: 0241 9127319\n\nVeranstalter: Volksbühne 
 Erholungsgesellschaft \n1889 Eilendorf e.V. weitere Infos zum Termin auf: h
 ttps://www.erholungsgesellschaft-eilendorf.de/termine.php  \n\nAnmerkungen:
  (Alle Angaben ohne Gewähr)\n*1: abweichende Einlasszeiten sind (soweit bek
 annt) angegeben.\n*2: Eintrittskarte pro Person, Ermäßigungen bitte beim Ve
 ranstalter erfragen\n\n\n\n \n
CONTACT:190000208
DTSTAMP:20260419T154552Z
DTSTART;TZID=Europe/Berlin:20191117T180000
DTEND;TZID=Europe/Berlin:20191117T210000
SEQUENCE:0
TRANSP:OPAQUE
END:VEVENT
END:VCALENDAR