BEGIN:VCALENDAR
VERSION:2.0
PRODID:-//jEvents 2.0 for Joomla//EN
CALSCALE:GREGORIAN
METHOD:PUBLISH
BEGIN:VTIMEZONE
TZID:Europe/Berlin
BEGIN:STANDARD
DTSTART:20181028T020000
RDATE:20190331T030000
TZOFFSETFROM:+0200
TZOFFSETTO:+0100
TZNAME:Europe/Berlin CET
END:STANDARD
BEGIN:STANDARD
DTSTART:20191027T020000
RDATE:20200329T030000
TZOFFSETFROM:+0200
TZOFFSETTO:+0100
TZNAME:Europe/Berlin CET
END:STANDARD
BEGIN:STANDARD
DTSTART:20201025T020000
RDATE:20210328T030000
TZOFFSETFROM:+0200
TZOFFSETTO:+0100
TZNAME:Europe/Berlin CET
END:STANDARD
BEGIN:STANDARD
DTSTART:20211031T020000
RDATE:20220327T030000
TZOFFSETFROM:+0200
TZOFFSETTO:+0100
TZNAME:Europe/Berlin CET
END:STANDARD
BEGIN:STANDARD
DTSTART:20221030T020000
RDATE:20230326T030000
TZOFFSETFROM:+0200
TZOFFSETTO:+0100
TZNAME:Europe/Berlin CET
END:STANDARD
BEGIN:STANDARD
DTSTART:20231029T020000
RDATE:20240331T030000
TZOFFSETFROM:+0200
TZOFFSETTO:+0100
TZNAME:Europe/Berlin CET
END:STANDARD
BEGIN:DAYLIGHT
DTSTART:20181008T210500
RDATE:20181028T020000
TZOFFSETFROM:+0100
TZOFFSETTO:+0200
TZNAME:Europe/Berlin CEST
END:DAYLIGHT
BEGIN:DAYLIGHT
DTSTART:20190331T030000
RDATE:20191027T020000
TZOFFSETFROM:+0100
TZOFFSETTO:+0200
TZNAME:Europe/Berlin CEST
END:DAYLIGHT
BEGIN:DAYLIGHT
DTSTART:20200329T030000
RDATE:20201025T020000
TZOFFSETFROM:+0100
TZOFFSETTO:+0200
TZNAME:Europe/Berlin CEST
END:DAYLIGHT
BEGIN:DAYLIGHT
DTSTART:20210328T030000
RDATE:20211031T020000
TZOFFSETFROM:+0100
TZOFFSETTO:+0200
TZNAME:Europe/Berlin CEST
END:DAYLIGHT
BEGIN:DAYLIGHT
DTSTART:20220327T030000
RDATE:20221030T020000
TZOFFSETFROM:+0100
TZOFFSETTO:+0200
TZNAME:Europe/Berlin CEST
END:DAYLIGHT
BEGIN:DAYLIGHT
DTSTART:20230326T030000
RDATE:20231029T020000
TZOFFSETFROM:+0100
TZOFFSETTO:+0200
TZNAME:Europe/Berlin CEST
END:DAYLIGHT
END:VTIMEZONE
BEGIN:VEVENT
UID:bf6fb435d13889d7d229494c7ea5a380
CATEGORIES:Sprache
CREATED:20190527T164459
SUMMARY:Börjerfunk op Antenne AC (Radio)
LOCATION:Radio (Antenne AC)
DESCRIPTION;ENCODING=QUOTED-PRINTABLE:Veranstaltung: Börjerfunk op Antenne AC (Radio)Künstler: \n\ndiverse\nOrt: 
 Radiosender Antenne AC\nAachen auf 100,1 Mhz und Stolberg auf 107,8 Mhz   T
 ermin: 09.10.2019Beginn: 21:05 Uhr\nEnde: ca. 22:00 Uhr(Einlass:) -   Koste
 n: Eintritt freiEintritt: -Veranstalter: siehe offizielle Bekanntgabe weite
 re Infos zum Termin auf:http://www.oecher-platt.de/index.php/veranstaltunge
 n.html\n\n\nAnmerkungen: (Alle Angaben ohne Gewähr)\n*1: abweichende Einlas
 szeiten sind (soweit bekannt) angegeben.\n*2: Eintrittskarte pro Person, Er
 mäßigungen bitte beim Veranstalter erfragen\n\n
CONTACT:190000258
X-EXTRAINFO:Gemäß Landesmediengesetz stellen alle Lokalradios in NRW, so auch Antenne A
 C, Sendezeit für Bürgerinnen und Bürger zur Verfügung. Diese Sendungen werd
 en von Bürgerfunkgruppen gestaltet und produziert. Antenne AC hat keinen Ei
 nfluss auf Musik oder Inhalt dieser Sendungen. Ausgestrahlt werden sie in d
 er Regel nach den Nachrichten um 21 Uhr, sonn- und feiertags nach den Nachr
 ichten um 19 Uhr. Kontakt zu den Bürgerfunkgruppen in Aachen und der Region
  stellen die Kollegen an der Antenne AC-Hotline 0700 1078 1078 gern her. 
DTSTAMP:20260419T201758Z
DTSTART;TZID=Europe/Berlin:20191009T210500
DTEND;TZID=Europe/Berlin:20191009T220000
SEQUENCE:0
TRANSP:OPAQUE
END:VEVENT
END:VCALENDAR