BEGIN:VCALENDAR
VERSION:2.0
PRODID:-//jEvents 2.0 for Joomla//EN
CALSCALE:GREGORIAN
METHOD:PUBLISH
BEGIN:VTIMEZONE
TZID:Europe/Berlin
BEGIN:STANDARD
DTSTART:20181028T020000
RDATE:20190331T030000
TZOFFSETFROM:+0200
TZOFFSETTO:+0100
TZNAME:Europe/Berlin CET
END:STANDARD
BEGIN:STANDARD
DTSTART:20191027T020000
RDATE:20200329T030000
TZOFFSETFROM:+0200
TZOFFSETTO:+0100
TZNAME:Europe/Berlin CET
END:STANDARD
BEGIN:STANDARD
DTSTART:20201025T020000
RDATE:20210328T030000
TZOFFSETFROM:+0200
TZOFFSETTO:+0100
TZNAME:Europe/Berlin CET
END:STANDARD
BEGIN:STANDARD
DTSTART:20211031T020000
RDATE:20220327T030000
TZOFFSETFROM:+0200
TZOFFSETTO:+0100
TZNAME:Europe/Berlin CET
END:STANDARD
BEGIN:STANDARD
DTSTART:20221030T020000
RDATE:20230326T030000
TZOFFSETFROM:+0200
TZOFFSETTO:+0100
TZNAME:Europe/Berlin CET
END:STANDARD
BEGIN:STANDARD
DTSTART:20231029T020000
RDATE:20240331T030000
TZOFFSETFROM:+0200
TZOFFSETTO:+0100
TZNAME:Europe/Berlin CET
END:STANDARD
BEGIN:DAYLIGHT
DTSTART:20180831T190000
RDATE:20181028T020000
TZOFFSETFROM:+0100
TZOFFSETTO:+0200
TZNAME:Europe/Berlin CEST
END:DAYLIGHT
BEGIN:DAYLIGHT
DTSTART:20190331T030000
RDATE:20191027T020000
TZOFFSETFROM:+0100
TZOFFSETTO:+0200
TZNAME:Europe/Berlin CEST
END:DAYLIGHT
BEGIN:DAYLIGHT
DTSTART:20200329T030000
RDATE:20201025T020000
TZOFFSETFROM:+0100
TZOFFSETTO:+0200
TZNAME:Europe/Berlin CEST
END:DAYLIGHT
BEGIN:DAYLIGHT
DTSTART:20210328T030000
RDATE:20211031T020000
TZOFFSETFROM:+0100
TZOFFSETTO:+0200
TZNAME:Europe/Berlin CEST
END:DAYLIGHT
BEGIN:DAYLIGHT
DTSTART:20220327T030000
RDATE:20221030T020000
TZOFFSETFROM:+0100
TZOFFSETTO:+0200
TZNAME:Europe/Berlin CEST
END:DAYLIGHT
BEGIN:DAYLIGHT
DTSTART:20230326T030000
RDATE:20231029T020000
TZOFFSETFROM:+0100
TZOFFSETTO:+0200
TZNAME:Europe/Berlin CEST
END:DAYLIGHT
END:VTIMEZONE
BEGIN:VEVENT
UID:819cde913a82b30638cfa827fa692a40
CATEGORIES:Kabarett
CREATED:20190527T165515
SUMMARY:Au Banan! Wendelin Haverkamp und Freunde 2019
LOCATION:Burg Wilhelmstein\, An Wilhelmstein 52146 Würselen (Bardenberg)
DESCRIPTION;ENCODING=QUOTED-PRINTABLE:Veranstaltung: \n\nAu Banan! \nKünstler: \n\nKabaretist: Wendelin Haverkamp
 \nLars Reichow, Moritz Netenjakob und Matthias Reuter\n\nOrt: \n\nBurg Wilh
 elmstein,\nAn Wilhelmstein\n52146 Würselen (Bardenberg)\n   Termin: 01.09.2
 019Beginn: 19:00 Uhr\nEnde: ca. 22:00 Uhr(Einlass:) ca. 30-60 Min. vor Begi
 nn *1   Kosten: 32,00 € (Preis pro Person *2)Eintritt: -Veranstalter: siehe
  offizielle Bekanntgabe weitere Infos zum Termin auf: https://www.burg-wilh
 elmstein.com/tickets/tickets-kaufen/wenelin-haverkamp-und-freunde/ http://w
 ww.wendelin-haverkamp.de/termine/ \n\nAnmerkungen: (Alle Angaben ohne Gewäh
 r)\n*1: abweichende Einlasszeiten sind (soweit bekannt) angegeben.\n*2: Ein
 trittskarte pro Person, Ermäßigungen bitte beim Veranstalter erfragen\n
CONTACT:190000231
DTSTAMP:20260419T220247Z
DTSTART;TZID=Europe/Berlin:20190901T190000
DTEND;TZID=Europe/Berlin:20190901T220000
SEQUENCE:0
TRANSP:OPAQUE
END:VEVENT
END:VCALENDAR