BEGIN:VCALENDAR
VERSION:2.0
PRODID:-//jEvents 2.0 for Joomla//EN
CALSCALE:GREGORIAN
METHOD:PUBLISH
BEGIN:VTIMEZONE
TZID:Europe/Berlin
BEGIN:STANDARD
DTSTART:20181028T020000
RDATE:20190331T030000
TZOFFSETFROM:+0200
TZOFFSETTO:+0100
TZNAME:Europe/Berlin CET
END:STANDARD
BEGIN:STANDARD
DTSTART:20191027T020000
RDATE:20200329T030000
TZOFFSETFROM:+0200
TZOFFSETTO:+0100
TZNAME:Europe/Berlin CET
END:STANDARD
BEGIN:STANDARD
DTSTART:20201025T020000
RDATE:20210328T030000
TZOFFSETFROM:+0200
TZOFFSETTO:+0100
TZNAME:Europe/Berlin CET
END:STANDARD
BEGIN:STANDARD
DTSTART:20211031T020000
RDATE:20220327T030000
TZOFFSETFROM:+0200
TZOFFSETTO:+0100
TZNAME:Europe/Berlin CET
END:STANDARD
BEGIN:STANDARD
DTSTART:20221030T020000
RDATE:20230326T030000
TZOFFSETFROM:+0200
TZOFFSETTO:+0100
TZNAME:Europe/Berlin CET
END:STANDARD
BEGIN:STANDARD
DTSTART:20231029T020000
RDATE:20240331T030000
TZOFFSETFROM:+0200
TZOFFSETTO:+0100
TZNAME:Europe/Berlin CET
END:STANDARD
BEGIN:DAYLIGHT
DTSTART:20180926T200000
RDATE:20181028T020000
TZOFFSETFROM:+0100
TZOFFSETTO:+0200
TZNAME:Europe/Berlin CEST
END:DAYLIGHT
BEGIN:DAYLIGHT
DTSTART:20190331T030000
RDATE:20191027T020000
TZOFFSETFROM:+0100
TZOFFSETTO:+0200
TZNAME:Europe/Berlin CEST
END:DAYLIGHT
BEGIN:DAYLIGHT
DTSTART:20200329T030000
RDATE:20201025T020000
TZOFFSETFROM:+0100
TZOFFSETTO:+0200
TZNAME:Europe/Berlin CEST
END:DAYLIGHT
BEGIN:DAYLIGHT
DTSTART:20210328T030000
RDATE:20211031T020000
TZOFFSETFROM:+0100
TZOFFSETTO:+0200
TZNAME:Europe/Berlin CEST
END:DAYLIGHT
BEGIN:DAYLIGHT
DTSTART:20220327T030000
RDATE:20221030T020000
TZOFFSETFROM:+0100
TZOFFSETTO:+0200
TZNAME:Europe/Berlin CEST
END:DAYLIGHT
BEGIN:DAYLIGHT
DTSTART:20230326T030000
RDATE:20231029T020000
TZOFFSETFROM:+0100
TZOFFSETTO:+0200
TZNAME:Europe/Berlin CEST
END:DAYLIGHT
END:VTIMEZONE
BEGIN:VEVENT
UID:95319eeb780dab5287c2d711c189b5d5
CATEGORIES:Heämet
CREATED:20190720T203441
SUMMARY:Nachtwächter-Stadtführung (Lüüehteman)
LOCATION:An der Hotmannspief\, Alexanderstraße 15\, 52062 Aachen
DESCRIPTION;ENCODING=QUOTED-PRINTABLE:Veranstaltung: Nachtwächter-Stadtführung \n(Lüüehteman)Künstler: \n\nMarita
  Zeyen\nOrt: Hotmannspiif (Laufbrunnen), 52062 Aachen   Termin: 27.09.2019B
 eginn: 20:00 UhrEnde: ca. 21.30 Uhr(Einlass:) Treffpunkt: An der Hotmannspi
 if   Kosten: 10,00€ / 8,00€ (Erw. / Schüler bis 14 Jahre)Eintritt: \n\nRese
 rvierung unter Diese E-Mail-Adresse ist vor Spambots geschützt! Zur Anzeige
  muss JavaScript eingeschaltet sein!
				document.getElementById('cloak4ded
 e5acfb60e2807588e212e4c23727').innerHTML = '';
				var prefix = '&#109;a' +
  'i&#108;' + '&#116;o';
				var path = 'hr' + 'ef' + '=';
				var addy4dede
 5acfb60e2807588e212e4c23727 = 'm&#97;r&#105;t&#97;-z&#101;y&#101;n' + '&#64
 ;';
				addy4dede5acfb60e2807588e212e4c23727 = addy4dede5acfb60e2807588e212
 e4c23727 + 'w&#101;b' + '&#46;' + 'd&#101;';
				var addy_text4dede5acfb60e
 2807588e212e4c23727 = 'm&#97;r&#105;t&#97;-z&#101;y&#101;n' + '&#64;' + 'w&
 #101;b' + '&#46;' + 'd&#101;';document.getElementById('cloak4dede5acfb60e28
 07588e212e4c23727').innerHTML += ''+addy_text4dede5acfb60e2807588e212e4c237
 27+'';
		\n\n\noder 0241 / 165 411\nVeranstalter: siehe offizielle Bekanntg
 abe weitere Infos zum Termin auf: http://www.nachtwaechter-aachen.de/termin
 e/ \n\nAnmerkungen: (Alle Angaben ohne Gewähr)\n*1: abweichende Einlasszeit
 en sind (soweit bekannt) angegeben.\n*2: Eintrittskarte pro Person, Ermäßig
 ungen bitte beim Veranstalter erfragen\n\n
CONTACT:190000263
X-EXTRAINFO:http://www.aachen.de/de/tourismus_stadtinfo/40_70_fuehrungen/fuehrungen_ein
 zelgaeste/Themenfuehrungen-2016/index.html
DTSTAMP:20260419T204605Z
DTSTART;TZID=Europe/Berlin:20190927T200000
DTEND;TZID=Europe/Berlin:20190927T213000
SEQUENCE:0
TRANSP:OPAQUE
END:VEVENT
END:VCALENDAR