BEGIN:VCALENDAR
VERSION:2.0
PRODID:-//jEvents 2.0 for Joomla//EN
CALSCALE:GREGORIAN
METHOD:PUBLISH
BEGIN:VTIMEZONE
TZID:Europe/Berlin
BEGIN:STANDARD
DTSTART:20181028T020000
RDATE:20190331T030000
TZOFFSETFROM:+0200
TZOFFSETTO:+0100
TZNAME:Europe/Berlin CET
END:STANDARD
BEGIN:STANDARD
DTSTART:20191027T020000
RDATE:20200329T030000
TZOFFSETFROM:+0200
TZOFFSETTO:+0100
TZNAME:Europe/Berlin CET
END:STANDARD
BEGIN:STANDARD
DTSTART:20201025T020000
RDATE:20210328T030000
TZOFFSETFROM:+0200
TZOFFSETTO:+0100
TZNAME:Europe/Berlin CET
END:STANDARD
BEGIN:STANDARD
DTSTART:20211031T020000
RDATE:20220327T030000
TZOFFSETFROM:+0200
TZOFFSETTO:+0100
TZNAME:Europe/Berlin CET
END:STANDARD
BEGIN:STANDARD
DTSTART:20221030T020000
RDATE:20230326T030000
TZOFFSETFROM:+0200
TZOFFSETTO:+0100
TZNAME:Europe/Berlin CET
END:STANDARD
BEGIN:STANDARD
DTSTART:20231029T020000
RDATE:20240331T030000
TZOFFSETFROM:+0200
TZOFFSETTO:+0100
TZNAME:Europe/Berlin CET
END:STANDARD
BEGIN:DAYLIGHT
DTSTART:20180831T111500
RDATE:20181028T020000
TZOFFSETFROM:+0100
TZOFFSETTO:+0200
TZNAME:Europe/Berlin CEST
END:DAYLIGHT
BEGIN:DAYLIGHT
DTSTART:20190331T030000
RDATE:20191027T020000
TZOFFSETFROM:+0100
TZOFFSETTO:+0200
TZNAME:Europe/Berlin CEST
END:DAYLIGHT
BEGIN:DAYLIGHT
DTSTART:20200329T030000
RDATE:20201025T020000
TZOFFSETFROM:+0100
TZOFFSETTO:+0200
TZNAME:Europe/Berlin CEST
END:DAYLIGHT
BEGIN:DAYLIGHT
DTSTART:20210328T030000
RDATE:20211031T020000
TZOFFSETFROM:+0100
TZOFFSETTO:+0200
TZNAME:Europe/Berlin CEST
END:DAYLIGHT
BEGIN:DAYLIGHT
DTSTART:20220327T030000
RDATE:20221030T020000
TZOFFSETFROM:+0100
TZOFFSETTO:+0200
TZNAME:Europe/Berlin CEST
END:DAYLIGHT
BEGIN:DAYLIGHT
DTSTART:20230326T030000
RDATE:20231029T020000
TZOFFSETFROM:+0100
TZOFFSETTO:+0200
TZNAME:Europe/Berlin CEST
END:DAYLIGHT
END:VTIMEZONE
BEGIN:VEVENT
UID:93682961d52845306005d572c1b44f8d
CATEGORIES:Musik
CREATED:20190820T211859
SUMMARY:TDI 2019 - "Aachen - das sind wir alle!"
LOCATION:Eurogress Aachen\, Monheimsallee 48\, 52062 Aachen
DESCRIPTION;ENCODING=QUOTED-PRINTABLE:Veranstaltung: \n\nTag der Integration 2019 - \n"Aachen - das sind wir alle
 !"\n\nKünstler: \n\ndiverse\nsiehe Programm (Online - PDF)\n\nOrt: \n\nEuro
 gress Aachen, Europasaal\nMonheimsallee 48, 52062 Aachen\n   Termin: 01.09.
 2019 (SO)Beginn: ab 11:15 Uhr\nEnde: 17:30 Uhr(Einlass:) ca. 10:45 Uhr   Ko
 sten: - (Preis pro Person *2)Eintritt: Eintritt freiVeranstalter: siehe off
 izielle Bekanntgabe weitere Infos zum Termin auf:\n\nhttps://www.tagderinte
 gration-aachen.de/export/sites/region-aachen-stadt/tag-der-integration-aach
 en/.galleries/Werbematerialien/STA_Flyer_TdI2019_v11_1.pdf\n\n\nbzw.\n\n\nh
 ttps://www.tagderintegration-aachen.de/export/sites/region-aachen-stadt/tag
 -der-integration-aachen/.galleries/Werbematerialien/STA_Postkarte_v8.pdf\n\
 n\nAnmerkungen: (Alle Angaben ohne Gewähr)\n*1: abweichende Einlasszeiten s
 ind (soweit bekannt) angegeben.\n*2: Eintrittskarte pro Person, Ermäßigunge
 n bitte beim Veranstalter erfragen\n
CONTACT:190000274
DTSTAMP:20260419T204611Z
DTSTART;TZID=Europe/Berlin:20190901T111500
SEQUENCE:0
TRANSP:OPAQUE
END:VEVENT
END:VCALENDAR