BEGIN:VCALENDAR
VERSION:2.0
PRODID:-//jEvents 2.0 for Joomla//EN
CALSCALE:GREGORIAN
METHOD:PUBLISH
BEGIN:VTIMEZONE
TZID:Europe/Berlin
BEGIN:STANDARD
DTSTART:20181109T150000
RDATE:20190331T030000
TZOFFSETFROM:+0200
TZOFFSETTO:+0100
TZNAME:Europe/Berlin CET
END:STANDARD
BEGIN:STANDARD
DTSTART:20191027T020000
RDATE:20200329T030000
TZOFFSETFROM:+0200
TZOFFSETTO:+0100
TZNAME:Europe/Berlin CET
END:STANDARD
BEGIN:STANDARD
DTSTART:20201025T020000
RDATE:20210328T030000
TZOFFSETFROM:+0200
TZOFFSETTO:+0100
TZNAME:Europe/Berlin CET
END:STANDARD
BEGIN:STANDARD
DTSTART:20211031T020000
RDATE:20220327T030000
TZOFFSETFROM:+0200
TZOFFSETTO:+0100
TZNAME:Europe/Berlin CET
END:STANDARD
BEGIN:STANDARD
DTSTART:20221030T020000
RDATE:20230326T030000
TZOFFSETFROM:+0200
TZOFFSETTO:+0100
TZNAME:Europe/Berlin CET
END:STANDARD
BEGIN:STANDARD
DTSTART:20231029T020000
RDATE:20240331T030000
TZOFFSETFROM:+0200
TZOFFSETTO:+0100
TZNAME:Europe/Berlin CET
END:STANDARD
BEGIN:DAYLIGHT
DTSTART:20190331T030000
RDATE:20191027T020000
TZOFFSETFROM:+0100
TZOFFSETTO:+0200
TZNAME:Europe/Berlin CEST
END:DAYLIGHT
BEGIN:DAYLIGHT
DTSTART:20200329T030000
RDATE:20201025T020000
TZOFFSETFROM:+0100
TZOFFSETTO:+0200
TZNAME:Europe/Berlin CEST
END:DAYLIGHT
BEGIN:DAYLIGHT
DTSTART:20210328T030000
RDATE:20211031T020000
TZOFFSETFROM:+0100
TZOFFSETTO:+0200
TZNAME:Europe/Berlin CEST
END:DAYLIGHT
BEGIN:DAYLIGHT
DTSTART:20220327T030000
RDATE:20221030T020000
TZOFFSETFROM:+0100
TZOFFSETTO:+0200
TZNAME:Europe/Berlin CEST
END:DAYLIGHT
BEGIN:DAYLIGHT
DTSTART:20230326T030000
RDATE:20231029T020000
TZOFFSETFROM:+0100
TZOFFSETTO:+0200
TZNAME:Europe/Berlin CEST
END:DAYLIGHT
END:VTIMEZONE
BEGIN:VEVENT
UID:23303e8a8b525e97daed223d3d9d7af1
CATEGORIES:För os Kenger
CREATED:20190824T165041
SUMMARY:De Düvelskess / Die verhexten Printen (Öcher Schängche für Kinder)
LOCATION:Löhergraben 22\, 52062 Aachen
DESCRIPTION;ENCODING=QUOTED-PRINTABLE:Veranstaltung: De Düvelkess &amp; Die verhexten Printen \n(zwei Einakter!)\
 n (Öcher Schängchen - Kinderstück)Künstler: \n\nÖcher Schängchen, Nieres u.
  v. m.\n(Traditionelle Stockpuppenbühne)\n\nOrt: \n\nStadtpuppenbühne Öcher
  Schängche\nBarockfabrik, Löhergraben 22, 52064 Aachen\n   Termin: 10.11.20
 19Beginn: 15:00 UhrEnde: unbekannt(Einlass:) 14:30 Uhr   Kosten: ca. 3 bzw.
  5 € (Kinder / Erwachsenen) pro Karte \n(ermäßigt 2 bzw. 3 €) *2Eintritt: T
 ageskasseVeranstalter: siehe offizielle Bekanntgabe weitere Infos zum Termi
 n:http://www.aachen.de/de/kultur_freizeit/kultur/theater/oecher_schaengche/
 Spielplan_2019_20_DIN_A_4.pdf\n\nDer Anteil der Sprache "Öcher Platt" ist n
 ur ca. 40-60% (je nach Kinderstück), sodass die Kinder die Handlung fast vo
 llständig verstehen können.\n\nEinige Kinderstücke können ein paar kleine "
 ängstliche Szenen" enthalten. Die empfohlene Altersstufe pro Stück kann bei
 m Veranstalter erfragt werden. \nAber, bei jedem Stück gewinnt das Gute und
  die 4. Kerze der Hoffnung stirbt bekanntlich zuletzt.\n\n\n\n\nAnmerkungen
 : (Alle Angaben ohne Gewähr)\n*1: abweichende Einlasszeiten sind (soweit be
 kannt) angegeben.\n*2: Eintrittskarte pro Person, Ermäßigungen bitte beim V
 eranstalter erfragen\n\n\n\n \n\n\nInfos zum Termin auf: http://www.aachen.
 de/de/kultur_freizeit/kultur/theater/puppenbuehne/index.html\n\n\nbzw. http
 ://www.oecher-schaengche.de/\n\n\n \n\n\n \n\n\nAnmerkungen:\n\n\nAlle Anga
 ben ohne Gewähr\n
CONTACT:190000275
DTSTAMP:20260419T143004Z
DTSTART;TZID=Europe/Berlin:20191110T150000
DTEND;TZID=Europe/Berlin:20191110T161500
SEQUENCE:0
TRANSP:OPAQUE
END:VEVENT
END:VCALENDAR