BEGIN:VCALENDAR
VERSION:2.0
PRODID:-//jEvents 2.0 for Joomla//EN
CALSCALE:GREGORIAN
METHOD:PUBLISH
BEGIN:VTIMEZONE
TZID:Europe/Berlin
BEGIN:STANDARD
DTSTART:20181028T020000
RDATE:20190331T030000
TZOFFSETFROM:+0200
TZOFFSETTO:+0100
TZNAME:Europe/Berlin CET
END:STANDARD
BEGIN:STANDARD
DTSTART:20191027T020000
RDATE:20200329T030000
TZOFFSETFROM:+0200
TZOFFSETTO:+0100
TZNAME:Europe/Berlin CET
END:STANDARD
BEGIN:STANDARD
DTSTART:20201025T020000
RDATE:20210328T030000
TZOFFSETFROM:+0200
TZOFFSETTO:+0100
TZNAME:Europe/Berlin CET
END:STANDARD
BEGIN:STANDARD
DTSTART:20211031T020000
RDATE:20220327T030000
TZOFFSETFROM:+0200
TZOFFSETTO:+0100
TZNAME:Europe/Berlin CET
END:STANDARD
BEGIN:STANDARD
DTSTART:20221030T020000
RDATE:20230326T030000
TZOFFSETFROM:+0200
TZOFFSETTO:+0100
TZNAME:Europe/Berlin CET
END:STANDARD
BEGIN:STANDARD
DTSTART:20231029T020000
RDATE:20240331T030000
TZOFFSETFROM:+0200
TZOFFSETTO:+0100
TZNAME:Europe/Berlin CET
END:STANDARD
BEGIN:DAYLIGHT
DTSTART:20180906T110000
RDATE:20181028T020000
TZOFFSETFROM:+0100
TZOFFSETTO:+0200
TZNAME:Europe/Berlin CEST
END:DAYLIGHT
BEGIN:DAYLIGHT
DTSTART:20190331T030000
RDATE:20191027T020000
TZOFFSETFROM:+0100
TZOFFSETTO:+0200
TZNAME:Europe/Berlin CEST
END:DAYLIGHT
BEGIN:DAYLIGHT
DTSTART:20200329T030000
RDATE:20201025T020000
TZOFFSETFROM:+0100
TZOFFSETTO:+0200
TZNAME:Europe/Berlin CEST
END:DAYLIGHT
BEGIN:DAYLIGHT
DTSTART:20210328T030000
RDATE:20211031T020000
TZOFFSETFROM:+0100
TZOFFSETTO:+0200
TZNAME:Europe/Berlin CEST
END:DAYLIGHT
BEGIN:DAYLIGHT
DTSTART:20220327T030000
RDATE:20221030T020000
TZOFFSETFROM:+0100
TZOFFSETTO:+0200
TZNAME:Europe/Berlin CEST
END:DAYLIGHT
BEGIN:DAYLIGHT
DTSTART:20230326T030000
RDATE:20231029T020000
TZOFFSETFROM:+0100
TZOFFSETTO:+0200
TZNAME:Europe/Berlin CEST
END:DAYLIGHT
END:VTIMEZONE
BEGIN:VEVENT
UID:f1e11181af385a745d0734abc4a12e5c
CATEGORIES:För os Kenger
CREATED:20190825T114525
SUMMARY:Monschau Kermes (Anno Dazumal)
LOCATION: Rurstraße\, 52156 Monschau 
DESCRIPTION;ENCODING=QUOTED-PRINTABLE:Veranstaltung: Monschau Kermes 2019Künstler: \n\ndiverse Künstler\n(meist o
 hne Mundart)\n\nOrt: Rurstraße\n52156 Monschau (Open-Air)   Termin: 06.09.2
 019 - 09.09.2019Beginn: (FR-MO)\nab 11:00 Uhr\nEnde: 20:00 Uhr(Einlass:) - 
   Kosten: (Fahrgeschäfte und Verpflegung kostenpflichtig)Eintritt: freiVera
 nstalter: siehe offizielle Bekanntgabe weitere Infos zum Termin auf: \n\nbz
 w. http://www.monschau-kermes.de/\n\n\nhttp://www.monschau-kermes.de/pdfs/l
 ageplan.pdf\n\n\nAnmerkungen: (Alle Angaben ohne Gewähr)\n*1: abweichende E
 inlasszeiten sind (soweit bekannt) angegeben.\n*2: Eintrittskarte pro Perso
 n, Ermäßigungen bitte beim Veranstalter erfragen\n\n\n\n \n\n\n \n
CONTACT:190000276
DTSTAMP:20260419T204448Z
DTSTART;TZID=Europe/Berlin:20190907T110000
DTEND;TZID=Europe/Berlin:20190907T200000
SEQUENCE:0
TRANSP:OPAQUE
END:VEVENT
END:VCALENDAR