BEGIN:VCALENDAR
VERSION:2.0
PRODID:-//jEvents 2.0 for Joomla//EN
CALSCALE:GREGORIAN
METHOD:PUBLISH
BEGIN:VTIMEZONE
TZID:Europe/Berlin
BEGIN:STANDARD
DTSTART:20181028T020000
RDATE:20190331T030000
TZOFFSETFROM:+0200
TZOFFSETTO:+0100
TZNAME:Europe/Berlin CET
END:STANDARD
BEGIN:STANDARD
DTSTART:20191027T020000
RDATE:20200329T030000
TZOFFSETFROM:+0200
TZOFFSETTO:+0100
TZNAME:Europe/Berlin CET
END:STANDARD
BEGIN:STANDARD
DTSTART:20201025T020000
RDATE:20210328T030000
TZOFFSETFROM:+0200
TZOFFSETTO:+0100
TZNAME:Europe/Berlin CET
END:STANDARD
BEGIN:STANDARD
DTSTART:20211031T020000
RDATE:20220327T030000
TZOFFSETFROM:+0200
TZOFFSETTO:+0100
TZNAME:Europe/Berlin CET
END:STANDARD
BEGIN:STANDARD
DTSTART:20221030T020000
RDATE:20230326T030000
TZOFFSETFROM:+0200
TZOFFSETTO:+0100
TZNAME:Europe/Berlin CET
END:STANDARD
BEGIN:STANDARD
DTSTART:20231029T020000
RDATE:20240331T030000
TZOFFSETFROM:+0200
TZOFFSETTO:+0100
TZNAME:Europe/Berlin CET
END:STANDARD
BEGIN:DAYLIGHT
DTSTART:20180919T200000
RDATE:20181028T020000
TZOFFSETFROM:+0100
TZOFFSETTO:+0200
TZNAME:Europe/Berlin CEST
END:DAYLIGHT
BEGIN:DAYLIGHT
DTSTART:20190331T030000
RDATE:20191027T020000
TZOFFSETFROM:+0100
TZOFFSETTO:+0200
TZNAME:Europe/Berlin CEST
END:DAYLIGHT
BEGIN:DAYLIGHT
DTSTART:20200329T030000
RDATE:20201025T020000
TZOFFSETFROM:+0100
TZOFFSETTO:+0200
TZNAME:Europe/Berlin CEST
END:DAYLIGHT
BEGIN:DAYLIGHT
DTSTART:20210328T030000
RDATE:20211031T020000
TZOFFSETFROM:+0100
TZOFFSETTO:+0200
TZNAME:Europe/Berlin CEST
END:DAYLIGHT
BEGIN:DAYLIGHT
DTSTART:20220327T030000
RDATE:20221030T020000
TZOFFSETFROM:+0100
TZOFFSETTO:+0200
TZNAME:Europe/Berlin CEST
END:DAYLIGHT
BEGIN:DAYLIGHT
DTSTART:20230326T030000
RDATE:20231029T020000
TZOFFSETFROM:+0100
TZOFFSETTO:+0200
TZNAME:Europe/Berlin CEST
END:DAYLIGHT
END:VTIMEZONE
BEGIN:VEVENT
UID:08b4602b4cecf18b39b82e1a40a0cf31
CATEGORIES:Musik
CREATED:20190825T125808
SUMMARY:Öcher Ovvend 2019 (September Special - Aachen)
LOCATION:Münsterplatz\, 52068 Aachen
DESCRIPTION;ENCODING=QUOTED-PRINTABLE:Veranstaltung: September Special 2019 - Öcher Ovvend (Aachen)\nKünstler: \n
 \nu. a. (Elfriede Schultz, Ägid und Laura Lennartz, Albert Henrotte, Resi S
 chumacher, der lange Meikel, BöStoMeRitz än De Originale ...)\n\n\n\nMusikb
 egleitung: Combo Jazzlite\nOrt: Münsterplatz, (Bühne vor dem DOM)\nMünsterp
 latz, 52068 Aachen   Termin: 20.09.2019Beginn: 20:00 UhrEnde: ca. 23:00 Uhr
 (Einlass:) ca. 30-60 Minuten vor Beginn *1   Kosten: Eintritt freiEintritt:
  -Veranstalter: siehe offizielle Bekanntgabe\nStadt Aachen, RWTH Aachen und
  MAC – Märkte u. Aktionskreis City e.V. weitere Infos zum Termin auf: https
 ://www.aachenseptemberspecial.de/event/oecher-ovvend/ bzw. http://www.aache
 nseptemberspecial.de/\n\n\n \n\n\nAnmerkungen: (Alle Angaben ohne Gewähr)\n
 *1: abweichende Einlasszeiten sind (soweit bekannt) angegeben.\n*2: Eintrit
 tskarte pro Person, Ermäßigungen bitte beim Veranstalter erfragen\n\n
CONTACT:190000279
DTSTAMP:20260419T204733Z
DTSTART;TZID=Europe/Berlin:20190920T200000
DTEND;TZID=Europe/Berlin:20190920T230000
SEQUENCE:0
TRANSP:OPAQUE
END:VEVENT
END:VCALENDAR