BEGIN:VCALENDAR
VERSION:2.0
PRODID:-//jEvents 2.0 for Joomla//EN
CALSCALE:GREGORIAN
METHOD:PUBLISH
BEGIN:VTIMEZONE
TZID:Europe/Berlin
BEGIN:STANDARD
DTSTART:20181112T150000
RDATE:20190331T030000
TZOFFSETFROM:+0200
TZOFFSETTO:+0100
TZNAME:Europe/Berlin CET
END:STANDARD
BEGIN:STANDARD
DTSTART:20191027T020000
RDATE:20200329T030000
TZOFFSETFROM:+0200
TZOFFSETTO:+0100
TZNAME:Europe/Berlin CET
END:STANDARD
BEGIN:STANDARD
DTSTART:20201025T020000
RDATE:20210328T030000
TZOFFSETFROM:+0200
TZOFFSETTO:+0100
TZNAME:Europe/Berlin CET
END:STANDARD
BEGIN:STANDARD
DTSTART:20211031T020000
RDATE:20220327T030000
TZOFFSETFROM:+0200
TZOFFSETTO:+0100
TZNAME:Europe/Berlin CET
END:STANDARD
BEGIN:STANDARD
DTSTART:20221030T020000
RDATE:20230326T030000
TZOFFSETFROM:+0200
TZOFFSETTO:+0100
TZNAME:Europe/Berlin CET
END:STANDARD
BEGIN:STANDARD
DTSTART:20231029T020000
RDATE:20240331T030000
TZOFFSETFROM:+0200
TZOFFSETTO:+0100
TZNAME:Europe/Berlin CET
END:STANDARD
BEGIN:DAYLIGHT
DTSTART:20190331T030000
RDATE:20191027T020000
TZOFFSETFROM:+0100
TZOFFSETTO:+0200
TZNAME:Europe/Berlin CEST
END:DAYLIGHT
BEGIN:DAYLIGHT
DTSTART:20200329T030000
RDATE:20201025T020000
TZOFFSETFROM:+0100
TZOFFSETTO:+0200
TZNAME:Europe/Berlin CEST
END:DAYLIGHT
BEGIN:DAYLIGHT
DTSTART:20210328T030000
RDATE:20211031T020000
TZOFFSETFROM:+0100
TZOFFSETTO:+0200
TZNAME:Europe/Berlin CEST
END:DAYLIGHT
BEGIN:DAYLIGHT
DTSTART:20220327T030000
RDATE:20221030T020000
TZOFFSETFROM:+0100
TZOFFSETTO:+0200
TZNAME:Europe/Berlin CEST
END:DAYLIGHT
BEGIN:DAYLIGHT
DTSTART:20230326T030000
RDATE:20231029T020000
TZOFFSETFROM:+0100
TZOFFSETTO:+0200
TZNAME:Europe/Berlin CEST
END:DAYLIGHT
END:VTIMEZONE
BEGIN:VEVENT
UID:4aefc2a6a3374b4fb5a0e321d88cbec2
CATEGORIES:Sprache
CREATED:20190825T154838
SUMMARY:Öcher Platt - Wettbewerb 2019 (Öcher Platt e. V.)
LOCATION:Aachen
DESCRIPTION;ENCODING=QUOTED-PRINTABLE:Veranstaltung: \n\nÖcher Platt Wettbewerb 2019\n(Öcher Platt e. V. \nmit Un
 terstützung der Spk AC)\nKünstler: \n\nÖcher Kenger ...\nOrt: nicht öffentl
 ich   Termin: 13.11.2019Beginn: 15:00 UhrEnde: ca. 17:00 Uhr(Einlass:) ca. 
 30 Min. vorher (begrenzte Platzanzahl)   Kosten: -Eintritt: Anmeldung erwün
 scht Veranstalter: siehe offizielle Bekanntgabe weitere Infos zum Termin au
 f:\n\n \n\n\nAnmerkungen: (Alle Angaben ohne Gewähr)\n*1: abweichende Einla
 sszeiten sind (soweit bekannt) angegeben.\n*2: Eintrittskarte pro Person, E
 rmäßigungen bitte beim Veranstalter erfragen\n
CONTACT:190000194
X-EXTRAINFO:Wegen begrenztem Platzangebot ist der Termin nicht öffentlich.
DTSTAMP:20260419T141743Z
DTSTART;TZID=Europe/Berlin:20191113T150000
DTEND;TZID=Europe/Berlin:20191113T170000
SEQUENCE:0
TRANSP:OPAQUE
END:VEVENT
END:VCALENDAR