BEGIN:VCALENDAR
VERSION:2.0
PRODID:-//jEvents 2.0 for Joomla//EN
CALSCALE:GREGORIAN
METHOD:PUBLISH
BEGIN:VTIMEZONE
TZID:Europe/Berlin
BEGIN:STANDARD
DTSTART:20181028T020000
RDATE:20190331T030000
TZOFFSETFROM:+0200
TZOFFSETTO:+0100
TZNAME:Europe/Berlin CET
END:STANDARD
BEGIN:STANDARD
DTSTART:20191027T020000
RDATE:20200329T030000
TZOFFSETFROM:+0200
TZOFFSETTO:+0100
TZNAME:Europe/Berlin CET
END:STANDARD
BEGIN:STANDARD
DTSTART:20201025T020000
RDATE:20210328T030000
TZOFFSETFROM:+0200
TZOFFSETTO:+0100
TZNAME:Europe/Berlin CET
END:STANDARD
BEGIN:STANDARD
DTSTART:20211031T020000
RDATE:20220327T030000
TZOFFSETFROM:+0200
TZOFFSETTO:+0100
TZNAME:Europe/Berlin CET
END:STANDARD
BEGIN:STANDARD
DTSTART:20221030T020000
RDATE:20230326T030000
TZOFFSETFROM:+0200
TZOFFSETTO:+0100
TZNAME:Europe/Berlin CET
END:STANDARD
BEGIN:STANDARD
DTSTART:20231029T020000
RDATE:20240331T030000
TZOFFSETFROM:+0200
TZOFFSETTO:+0100
TZNAME:Europe/Berlin CET
END:STANDARD
BEGIN:DAYLIGHT
DTSTART:20180916T190000
RDATE:20181028T020000
TZOFFSETFROM:+0100
TZOFFSETTO:+0200
TZNAME:Europe/Berlin CEST
END:DAYLIGHT
BEGIN:DAYLIGHT
DTSTART:20190331T030000
RDATE:20191027T020000
TZOFFSETFROM:+0100
TZOFFSETTO:+0200
TZNAME:Europe/Berlin CEST
END:DAYLIGHT
BEGIN:DAYLIGHT
DTSTART:20200329T030000
RDATE:20201025T020000
TZOFFSETFROM:+0100
TZOFFSETTO:+0200
TZNAME:Europe/Berlin CEST
END:DAYLIGHT
BEGIN:DAYLIGHT
DTSTART:20210328T030000
RDATE:20211031T020000
TZOFFSETFROM:+0100
TZOFFSETTO:+0200
TZNAME:Europe/Berlin CEST
END:DAYLIGHT
BEGIN:DAYLIGHT
DTSTART:20220327T030000
RDATE:20221030T020000
TZOFFSETFROM:+0100
TZOFFSETTO:+0200
TZNAME:Europe/Berlin CEST
END:DAYLIGHT
BEGIN:DAYLIGHT
DTSTART:20230326T030000
RDATE:20231029T020000
TZOFFSETFROM:+0100
TZOFFSETTO:+0200
TZNAME:Europe/Berlin CEST
END:DAYLIGHT
END:VTIMEZONE
BEGIN:VEVENT
UID:e1acc127ce5e8b96e6bda9b66de9757b
CATEGORIES:Musik
CREATED:20190827T123656
SUMMARY:Dieter Kaspari spielt den Blues
LOCATION:Von Coels-Str. 52\, 52080 Aachen
DESCRIPTION;ENCODING=QUOTED-PRINTABLE:Veranstaltung: Dieter Kaspari spielt den BluesKünstler: \n\nDieter Kaspari\
 n\nOrt: Das Buch, (Buchhandlung)\nVon Coels-Str. 52, 52080 Aachen   Termin:
  17.09.2019Beginn: 19:00 UhrEnde: ca. 20:15 Uhr(Einlass:) ca. 30-60 Minuten
  vor Beginn *1   Kosten: ca. 10 € (Preis pro Person *2)Eintritt: Vorverkauf
 Veranstalter: Das Buch, (Buchhandlung)\nVon Coels-Str. 52, 52080 Aachen wei
 tere Infos zum Termin auf:\n\nhttps://www.genialokal.de/buchhandlung/aachen
 -eilendorf/dasbuchineilendorf/Veranstaltungen/\n\n\nAnmerkungen: (Alle Anga
 ben ohne Gewähr)\n*1: abweichende Einlasszeiten sind (soweit bekannt) angeg
 eben.\n*2: Eintrittskarte pro Person, Ermäßigungen bitte beim Veranstalter 
 erfragen\n\n
CONTACT:190000222
DTSTAMP:20260419T204533Z
DTSTART;TZID=Europe/Berlin:20190917T190000
DTEND;TZID=Europe/Berlin:20190917T201500
SEQUENCE:0
TRANSP:OPAQUE
END:VEVENT
END:VCALENDAR