BEGIN:VCALENDAR
VERSION:2.0
PRODID:-//jEvents 2.0 for Joomla//EN
CALSCALE:GREGORIAN
METHOD:PUBLISH
BEGIN:VTIMEZONE
TZID:Europe/Berlin
BEGIN:STANDARD
DTSTART:20181028T020000
RDATE:20190331T030000
TZOFFSETFROM:+0200
TZOFFSETTO:+0100
TZNAME:Europe/Berlin CET
END:STANDARD
BEGIN:STANDARD
DTSTART:20191027T020000
RDATE:20200329T030000
TZOFFSETFROM:+0200
TZOFFSETTO:+0100
TZNAME:Europe/Berlin CET
END:STANDARD
BEGIN:STANDARD
DTSTART:20201025T020000
RDATE:20210328T030000
TZOFFSETFROM:+0200
TZOFFSETTO:+0100
TZNAME:Europe/Berlin CET
END:STANDARD
BEGIN:STANDARD
DTSTART:20211031T020000
RDATE:20220327T030000
TZOFFSETFROM:+0200
TZOFFSETTO:+0100
TZNAME:Europe/Berlin CET
END:STANDARD
BEGIN:STANDARD
DTSTART:20221030T020000
RDATE:20230326T030000
TZOFFSETFROM:+0200
TZOFFSETTO:+0100
TZNAME:Europe/Berlin CET
END:STANDARD
BEGIN:STANDARD
DTSTART:20231029T020000
RDATE:20240331T030000
TZOFFSETFROM:+0200
TZOFFSETTO:+0100
TZNAME:Europe/Berlin CET
END:STANDARD
BEGIN:DAYLIGHT
DTSTART:20180907T133000
RDATE:20181028T020000
TZOFFSETFROM:+0100
TZOFFSETTO:+0200
TZNAME:Europe/Berlin CEST
END:DAYLIGHT
BEGIN:DAYLIGHT
DTSTART:20190331T030000
RDATE:20191027T020000
TZOFFSETFROM:+0100
TZOFFSETTO:+0200
TZNAME:Europe/Berlin CEST
END:DAYLIGHT
BEGIN:DAYLIGHT
DTSTART:20200329T030000
RDATE:20201025T020000
TZOFFSETFROM:+0100
TZOFFSETTO:+0200
TZNAME:Europe/Berlin CEST
END:DAYLIGHT
BEGIN:DAYLIGHT
DTSTART:20210328T030000
RDATE:20211031T020000
TZOFFSETFROM:+0100
TZOFFSETTO:+0200
TZNAME:Europe/Berlin CEST
END:DAYLIGHT
BEGIN:DAYLIGHT
DTSTART:20220327T030000
RDATE:20221030T020000
TZOFFSETFROM:+0100
TZOFFSETTO:+0200
TZNAME:Europe/Berlin CEST
END:DAYLIGHT
BEGIN:DAYLIGHT
DTSTART:20230326T030000
RDATE:20231029T020000
TZOFFSETFROM:+0100
TZOFFSETTO:+0200
TZNAME:Europe/Berlin CEST
END:DAYLIGHT
END:VTIMEZONE
BEGIN:VEVENT
UID:96f89e4a3633ad0b60b62268ab8d39c5
CATEGORIES:Musik
CREATED:20190903T105035
SUMMARY:Böse mal anders (Stadtfest Kohlscheid)
LOCATION:Kaiserstraße 1 - 7\, 52134 Herzogenrath
DESCRIPTION;ENCODING=QUOTED-PRINTABLE:Veranstaltung: Böse mal Anders op et Stadtfest in KohlscheidKünstler: \n\nD
 ieter Böse (Böse mal anders)\n\nOrt: \n\nElektro Langer, \nKaiserstraße 1 -
  7, \n52134 Herzogenrath\n   Termin: 08.09.2019Beginn: ca. 13:30 Uhr \n(4x 
 20/30 Min.)\nEnde: ca. 17:00 Uhr(Einlass:)     Kosten: keine (Preis pro Per
 son *2)Eintritt: freier EintrittVeranstalter: siehe offizielle Bekanntgabe 
 weitere Infos zum Termin auf: http://www.böseband.de/termine.htm \n\nAnmerk
 ungen: (Alle Angaben ohne Gewähr)\n*1: abweichende Einlasszeiten sind (sowe
 it bekannt) angegeben.\n*2: Eintrittskarte pro Person, Ermäßigungen bitte b
 eim Veranstalter erfragen\n
CONTACT:190000221
DTSTAMP:20260419T204656Z
DTSTART;TZID=Europe/Berlin:20190908T133000
DTEND;TZID=Europe/Berlin:20190908T170000
SEQUENCE:0
TRANSP:OPAQUE
END:VEVENT
END:VCALENDAR