BEGIN:VCALENDAR
VERSION:2.0
PRODID:-//jEvents 2.0 for Joomla//EN
CALSCALE:GREGORIAN
METHOD:PUBLISH
BEGIN:VTIMEZONE
TZID:Europe/Berlin
BEGIN:STANDARD
DTSTART:20181028T020000
RDATE:20190331T030000
TZOFFSETFROM:+0200
TZOFFSETTO:+0100
TZNAME:Europe/Berlin CET
END:STANDARD
BEGIN:STANDARD
DTSTART:20191027T020000
RDATE:20200329T030000
TZOFFSETFROM:+0200
TZOFFSETTO:+0100
TZNAME:Europe/Berlin CET
END:STANDARD
BEGIN:STANDARD
DTSTART:20201025T020000
RDATE:20210328T030000
TZOFFSETFROM:+0200
TZOFFSETTO:+0100
TZNAME:Europe/Berlin CET
END:STANDARD
BEGIN:STANDARD
DTSTART:20211031T020000
RDATE:20220327T030000
TZOFFSETFROM:+0200
TZOFFSETTO:+0100
TZNAME:Europe/Berlin CET
END:STANDARD
BEGIN:STANDARD
DTSTART:20221030T020000
RDATE:20230326T030000
TZOFFSETFROM:+0200
TZOFFSETTO:+0100
TZNAME:Europe/Berlin CET
END:STANDARD
BEGIN:STANDARD
DTSTART:20231029T020000
RDATE:20240331T030000
TZOFFSETFROM:+0200
TZOFFSETTO:+0100
TZNAME:Europe/Berlin CET
END:STANDARD
BEGIN:DAYLIGHT
DTSTART:20181005T190000
RDATE:20181028T020000
TZOFFSETFROM:+0100
TZOFFSETTO:+0200
TZNAME:Europe/Berlin CEST
END:DAYLIGHT
BEGIN:DAYLIGHT
DTSTART:20190331T030000
RDATE:20191027T020000
TZOFFSETFROM:+0100
TZOFFSETTO:+0200
TZNAME:Europe/Berlin CEST
END:DAYLIGHT
BEGIN:DAYLIGHT
DTSTART:20200329T030000
RDATE:20201025T020000
TZOFFSETFROM:+0100
TZOFFSETTO:+0200
TZNAME:Europe/Berlin CEST
END:DAYLIGHT
BEGIN:DAYLIGHT
DTSTART:20210328T030000
RDATE:20211031T020000
TZOFFSETFROM:+0100
TZOFFSETTO:+0200
TZNAME:Europe/Berlin CEST
END:DAYLIGHT
BEGIN:DAYLIGHT
DTSTART:20220327T030000
RDATE:20221030T020000
TZOFFSETFROM:+0100
TZOFFSETTO:+0200
TZNAME:Europe/Berlin CEST
END:DAYLIGHT
BEGIN:DAYLIGHT
DTSTART:20230326T030000
RDATE:20231029T020000
TZOFFSETFROM:+0100
TZOFFSETTO:+0200
TZNAME:Europe/Berlin CEST
END:DAYLIGHT
END:VTIMEZONE
BEGIN:VEVENT
UID:367389c4990fe64b59a0561f4c391346
CATEGORIES:Kabarett
CREATED:20190905T073145
SUMMARY:Zömmermanns Jupp, dä arme Schlupp (Jupp Hammerschmidt)
LOCATION:Freunder Heideweg 3 52078 Aachen
DESCRIPTION;ENCODING=QUOTED-PRINTABLE:Veranstaltung: \n\nZömmermanns Jupp, dä arme Schlupp (Eifeler Platt)\n\nKün
 stler: \n\nJupp Hammerschmidt\n\nOrt: Freunder Heideweg 3\n52078 Aachen   T
 ermin: 06.10.2019Beginn: 19:00 UhrEnde: ca. 21.00 Uhr(Einlass:) ca. 18.30 U
 hr   Kosten: ca. 17,00/14,00€Eintritt: Vorbestellung oder AbendkasseVeranst
 alter: siehe offizielle Bekanntgabe weitere Infos zum Termin: https://theat
 er-brand.de/hammerschmidt_2019.html Altersempfehlung: ab 12 Jahre \n\nAnmer
 kungen: (Alle Angaben ohne Gewähr)\n*1: abweichende Einlasszeiten sind (sow
 eit bekannt) angegeben.\n*2: Eintrittskarte pro Person, Ermäßigungen bitte 
 beim Veranstalter erfragen\n\n
CONTACT:190000281
DTSTAMP:20260419T220338Z
DTSTART;TZID=Europe/Berlin:20191006T190000
DTEND;TZID=Europe/Berlin:20191006T210000
SEQUENCE:0
TRANSP:OPAQUE
END:VEVENT
END:VCALENDAR