BEGIN:VCALENDAR
VERSION:2.0
PRODID:-//jEvents 2.0 for Joomla//EN
CALSCALE:GREGORIAN
METHOD:PUBLISH
BEGIN:VTIMEZONE
TZID:Europe/Berlin
BEGIN:STANDARD
DTSTART:20181123T150000
RDATE:20190331T030000
TZOFFSETFROM:+0200
TZOFFSETTO:+0100
TZNAME:Europe/Berlin CET
END:STANDARD
BEGIN:STANDARD
DTSTART:20191027T020000
RDATE:20200329T030000
TZOFFSETFROM:+0200
TZOFFSETTO:+0100
TZNAME:Europe/Berlin CET
END:STANDARD
BEGIN:STANDARD
DTSTART:20201025T020000
RDATE:20210328T030000
TZOFFSETFROM:+0200
TZOFFSETTO:+0100
TZNAME:Europe/Berlin CET
END:STANDARD
BEGIN:STANDARD
DTSTART:20211031T020000
RDATE:20220327T030000
TZOFFSETFROM:+0200
TZOFFSETTO:+0100
TZNAME:Europe/Berlin CET
END:STANDARD
BEGIN:STANDARD
DTSTART:20221030T020000
RDATE:20230326T030000
TZOFFSETFROM:+0200
TZOFFSETTO:+0100
TZNAME:Europe/Berlin CET
END:STANDARD
BEGIN:STANDARD
DTSTART:20231029T020000
RDATE:20240331T030000
TZOFFSETFROM:+0200
TZOFFSETTO:+0100
TZNAME:Europe/Berlin CET
END:STANDARD
BEGIN:DAYLIGHT
DTSTART:20190331T030000
RDATE:20191027T020000
TZOFFSETFROM:+0100
TZOFFSETTO:+0200
TZNAME:Europe/Berlin CEST
END:DAYLIGHT
BEGIN:DAYLIGHT
DTSTART:20200329T030000
RDATE:20201025T020000
TZOFFSETFROM:+0100
TZOFFSETTO:+0200
TZNAME:Europe/Berlin CEST
END:DAYLIGHT
BEGIN:DAYLIGHT
DTSTART:20210328T030000
RDATE:20211031T020000
TZOFFSETFROM:+0100
TZOFFSETTO:+0200
TZNAME:Europe/Berlin CEST
END:DAYLIGHT
BEGIN:DAYLIGHT
DTSTART:20220327T030000
RDATE:20221030T020000
TZOFFSETFROM:+0100
TZOFFSETTO:+0200
TZNAME:Europe/Berlin CEST
END:DAYLIGHT
BEGIN:DAYLIGHT
DTSTART:20230326T030000
RDATE:20231029T020000
TZOFFSETFROM:+0100
TZOFFSETTO:+0200
TZNAME:Europe/Berlin CEST
END:DAYLIGHT
END:VTIMEZONE
BEGIN:VEVENT
UID:da779d9578e732d300feb517930134d1
CATEGORIES:För os Kenger
CREATED:20190911T163144
SUMMARY:Wie Puck Weihnachten rettet (Aachener Heimattheater 1947 e. V.)
LOCATION:Stadthalle Alsdorf\,  Annastr.2 - 6\, 52477 Alsdorf
DESCRIPTION;ENCODING=QUOTED-PRINTABLE:Veranstaltung: \n\nWie Puck Weihnachten rettet\n(Ohne Mundart Anteil!)\n\nK
 ünstler: \n\nAachener Heimattheater 1947 e. V.\nOrt: \n\nStadthalle Alsdorf
 , \nAnnastr.2 - 6, 52477 Alsdorf\n   Termin: 24.11.2019\nBeginn: 15:00 UhrE
 nde: ca. 17:00 Uhr(Einlass:) ca. 14:30 Uhr   Kosten: ab ca. 15€Eintritt: Vo
 rbestellung oder TageskasseVeranstalter: siehe offizielle Bekanntgabe weite
 re Infos zum Termin: https://www.aachener-heimattheater.de/   \n\nAnmerkung
 en: (Alle Angaben ohne Gewähr)\n*1: abweichende Einlasszeiten sind (soweit 
 bekannt) angegeben.\n*2: Eintrittskarte pro Person, Ermäßigungen bitte beim
  Veranstalter erfragen\n\n
CONTACT:190000237
DTSTAMP:20260419T154635Z
DTSTART;TZID=Europe/Berlin:20191124T150000
DTEND;TZID=Europe/Berlin:20191124T170000
SEQUENCE:0
TRANSP:OPAQUE
END:VEVENT
END:VCALENDAR