BEGIN:VCALENDAR
VERSION:2.0
PRODID:-//jEvents 2.0 for Joomla//EN
CALSCALE:GREGORIAN
METHOD:PUBLISH
BEGIN:VTIMEZONE
TZID:Europe/Berlin
BEGIN:STANDARD
DTSTART:20181030T193000
RDATE:20190331T030000
TZOFFSETFROM:+0200
TZOFFSETTO:+0100
TZNAME:Europe/Berlin CET
END:STANDARD
BEGIN:STANDARD
DTSTART:20191027T020000
RDATE:20200329T030000
TZOFFSETFROM:+0200
TZOFFSETTO:+0100
TZNAME:Europe/Berlin CET
END:STANDARD
BEGIN:STANDARD
DTSTART:20201025T020000
RDATE:20210328T030000
TZOFFSETFROM:+0200
TZOFFSETTO:+0100
TZNAME:Europe/Berlin CET
END:STANDARD
BEGIN:STANDARD
DTSTART:20211031T020000
RDATE:20220327T030000
TZOFFSETFROM:+0200
TZOFFSETTO:+0100
TZNAME:Europe/Berlin CET
END:STANDARD
BEGIN:STANDARD
DTSTART:20221030T020000
RDATE:20230326T030000
TZOFFSETFROM:+0200
TZOFFSETTO:+0100
TZNAME:Europe/Berlin CET
END:STANDARD
BEGIN:STANDARD
DTSTART:20231029T020000
RDATE:20240331T030000
TZOFFSETFROM:+0200
TZOFFSETTO:+0100
TZNAME:Europe/Berlin CET
END:STANDARD
BEGIN:DAYLIGHT
DTSTART:20190331T030000
RDATE:20191027T020000
TZOFFSETFROM:+0100
TZOFFSETTO:+0200
TZNAME:Europe/Berlin CEST
END:DAYLIGHT
BEGIN:DAYLIGHT
DTSTART:20200329T030000
RDATE:20201025T020000
TZOFFSETFROM:+0100
TZOFFSETTO:+0200
TZNAME:Europe/Berlin CEST
END:DAYLIGHT
BEGIN:DAYLIGHT
DTSTART:20210328T030000
RDATE:20211031T020000
TZOFFSETFROM:+0100
TZOFFSETTO:+0200
TZNAME:Europe/Berlin CEST
END:DAYLIGHT
BEGIN:DAYLIGHT
DTSTART:20220327T030000
RDATE:20221030T020000
TZOFFSETFROM:+0100
TZOFFSETTO:+0200
TZNAME:Europe/Berlin CEST
END:DAYLIGHT
BEGIN:DAYLIGHT
DTSTART:20230326T030000
RDATE:20231029T020000
TZOFFSETFROM:+0100
TZOFFSETTO:+0200
TZNAME:Europe/Berlin CEST
END:DAYLIGHT
END:VTIMEZONE
BEGIN:VEVENT
UID:6c6b2e35f6ead2c3cf7acfec57523ec8
CATEGORIES:Kabarett
CREATED:20190912T125625
SUMMARY:20. Herbstfest (De Krüzzbrür)
LOCATION:Pontstr. 72\, 52062 Aachen
DESCRIPTION;ENCODING=QUOTED-PRINTABLE:Veranstaltung: \n\n20. Herbstfest - 2019 \n(De Krüzzbrür)\n\nKünstler: \n\n
 u. a. Wendelin Haverkamp und Franz Brandt, Titze Lejjenad\n\nOrt: \n\nKatak
 omben der kath. Hochschulgemeinde,\nPontstr. 72, 52062 Aachen\n   Termin: 3
 1.10.2019\nBeginn: 19:30 UhrEnde: ca. 22:00 Uhr(Einlass:) ca. 19:00 Uhr *1 
   Kosten: 15€ (Preis pro Person *2)Eintritt: VVKVeranstalter: siehe offizie
 lle Bekanntgabe weitere Infos zum Termin auf:\nhttps://www.kruezzbruer.de/w
 ordpress/wp-content/uploads/2019/08/Herbstfest_2019.png \n\nAnmerkungen: (A
 lle Angaben ohne Gewähr)\n*1: abweichende Einlasszeiten sind (soweit bekann
 t) angegeben.\n*2: Eintrittskarte pro Person, Ermäßigungen bitte beim Veran
 stalter erfragen\n
CONTACT:190000285
X-EXTRAINFO:VVK:\nGemeindebüro Heilig Kreuz, Pontstr. 148, Tel. 0241/30562\nWerner Chev
 alier, Tel. 0241/38226 (Diese E-Mail-Adresse ist vor Spambots geschützt! Zu
 r Anzeige muss JavaScript eingeschaltet sein!
				document.getElementById('
 cloakd7b9453412041dd567b03fa0db024688').innerHTML = '';
				var prefix = '&
 #109;a' + 'i&#108;' + '&#116;o';
				var path = 'hr' + 'ef' + '=';
				var 
 addyd7b9453412041dd567b03fa0db024688 = 'w.ch&#101;v&#97;l&#105;&#101;r' + '
 &#64;';
				addyd7b9453412041dd567b03fa0db024688 = addyd7b9453412041dd567b0
 3fa0db024688 + 'gmx' + '&#46;' + 'd&#101;';
				var addy_textd7b9453412041d
 d567b03fa0db024688 = 'w.ch&#101;v&#97;l&#105;&#101;r' + '&#64;' + 'gmx' + '
 &#46;' + 'd&#101;';document.getElementById('cloakd7b9453412041dd567b03fa0db
 024688').innerHTML += ''+addy_textd7b9453412041dd567b03fa0db024688+'';
		)\
 nLeo Bardenheuer, Tel. 0241/870808 (Diese E-Mail-Adresse ist vor Spambots g
 eschützt! Zur Anzeige muss JavaScript eingeschaltet sein!
				document.getE
 lementById('cloakab4004fc763753e5c0621273b15ff331').innerHTML = '';
				var
  prefix = '&#109;a' + 'i&#108;' + '&#116;o';
				var path = 'hr' + 'ef' + '
 =';
				var addyab4004fc763753e5c0621273b15ff331 = 'b&#97;rd&#101;nh&#101;&
 #117;&#101;r-&#97;&#97;ch&#101;n' + '&#64;';
				addyab4004fc763753e5c06212
 73b15ff331 = addyab4004fc763753e5c0621273b15ff331 + 't-&#111;nl&#105;n&#101
 ;' + '&#46;' + 'd&#101;';
				var addy_textab4004fc763753e5c0621273b15ff331
  = 'b&#97;rd&#101;nh&#101;&#117;&#101;r-&#97;&#97;ch&#101;n' + '&#64;' + 't
 -&#111;nl&#105;n&#101;' + '&#46;' + 'd&#101;';document.getElementById('cloa
 kab4004fc763753e5c0621273b15ff331').innerHTML += ''+addy_textab4004fc763753
 e5c0621273b15ff331+'';
		)\nHerbert Steins, Tel. 0241/72190 (Diese E-Mail-A
 dresse ist vor Spambots geschützt! Zur Anzeige muss JavaScript eingeschalte
 t sein!
				document.getElementById('cloak2ac7876c1d5aeb1550159b23edef9a4f'
 ).innerHTML = '';
				var prefix = '&#109;a' + 'i&#108;' + '&#116;o';
				v
 ar path = 'hr' + 'ef' + '=';
				var addy2ac7876c1d5aeb1550159b23edef9a4f =
  'st&#101;&#105;nst&#101;&#105;ns' + '&#64;';
				addy2ac7876c1d5aeb1550159
 b23edef9a4f = addy2ac7876c1d5aeb1550159b23edef9a4f + 'w&#101;b' + '&#46;' +
  'd&#101;';
				var addy_text2ac7876c1d5aeb1550159b23edef9a4f = 'st&#101;&#
 105;nst&#101;&#105;ns' + '&#64;' + 'w&#101;b' + '&#46;' + 'd&#101;';documen
 t.getElementById('cloak2ac7876c1d5aeb1550159b23edef9a4f').innerHTML += ''+a
 ddy_text2ac7876c1d5aeb1550159b23edef9a4f+'';
		)\nsowie allen Mitgliedern d
 es Vereins
DTSTAMP:20260419T220329Z
DTSTART;TZID=Europe/Berlin:20191031T193000
SEQUENCE:0
TRANSP:OPAQUE
END:VEVENT
END:VCALENDAR