BEGIN:VCALENDAR
VERSION:2.0
PRODID:-//jEvents 2.0 for Joomla//EN
CALSCALE:GREGORIAN
METHOD:PUBLISH
BEGIN:VTIMEZONE
TZID:Europe/Berlin
BEGIN:STANDARD
DTSTART:20181028T020000
RDATE:20190331T030000
TZOFFSETFROM:+0200
TZOFFSETTO:+0100
TZNAME:Europe/Berlin CET
END:STANDARD
BEGIN:STANDARD
DTSTART:20191027T020000
RDATE:20200329T030000
TZOFFSETFROM:+0200
TZOFFSETTO:+0100
TZNAME:Europe/Berlin CET
END:STANDARD
BEGIN:STANDARD
DTSTART:20201025T020000
RDATE:20210328T030000
TZOFFSETFROM:+0200
TZOFFSETTO:+0100
TZNAME:Europe/Berlin CET
END:STANDARD
BEGIN:STANDARD
DTSTART:20211031T020000
RDATE:20220327T030000
TZOFFSETFROM:+0200
TZOFFSETTO:+0100
TZNAME:Europe/Berlin CET
END:STANDARD
BEGIN:STANDARD
DTSTART:20221030T020000
RDATE:20230326T030000
TZOFFSETFROM:+0200
TZOFFSETTO:+0100
TZNAME:Europe/Berlin CET
END:STANDARD
BEGIN:STANDARD
DTSTART:20231029T020000
RDATE:20240331T030000
TZOFFSETFROM:+0200
TZOFFSETTO:+0100
TZNAME:Europe/Berlin CET
END:STANDARD
BEGIN:DAYLIGHT
DTSTART:20180927T183000
RDATE:20181028T020000
TZOFFSETFROM:+0100
TZOFFSETTO:+0200
TZNAME:Europe/Berlin CEST
END:DAYLIGHT
BEGIN:DAYLIGHT
DTSTART:20190331T030000
RDATE:20191027T020000
TZOFFSETFROM:+0100
TZOFFSETTO:+0200
TZNAME:Europe/Berlin CEST
END:DAYLIGHT
BEGIN:DAYLIGHT
DTSTART:20200329T030000
RDATE:20201025T020000
TZOFFSETFROM:+0100
TZOFFSETTO:+0200
TZNAME:Europe/Berlin CEST
END:DAYLIGHT
BEGIN:DAYLIGHT
DTSTART:20210328T030000
RDATE:20211031T020000
TZOFFSETFROM:+0100
TZOFFSETTO:+0200
TZNAME:Europe/Berlin CEST
END:DAYLIGHT
BEGIN:DAYLIGHT
DTSTART:20220327T030000
RDATE:20221030T020000
TZOFFSETFROM:+0100
TZOFFSETTO:+0200
TZNAME:Europe/Berlin CEST
END:DAYLIGHT
BEGIN:DAYLIGHT
DTSTART:20230326T030000
RDATE:20231029T020000
TZOFFSETFROM:+0100
TZOFFSETTO:+0200
TZNAME:Europe/Berlin CEST
END:DAYLIGHT
END:VTIMEZONE
BEGIN:VEVENT
UID:67e0d5ee0bc69ffbb2ebcb3eb643d5f3
CATEGORIES:Musik
CREATED:20190913T153442
SUMMARY:Öcher Abend (u. a. met Tästbild)
LOCATION:Noah's Cafe\, Markt 18\, 52134 Herzogenrath
DESCRIPTION;ENCODING=QUOTED-PRINTABLE:Veranstaltung: Öcher Abend\nKünstler: \n\nTästbild, \nOecher Stallburschen,
  \nOecher Stadtmusikanten\n\nOrt: \n\nNoah's Cafe Bar\nMarkt 18, \n52134 He
 rzogenrath\n   Termin: 28.09.2019Beginn: ca. 18:30 Uhr \nEnde: ca. 23:00 Uh
 r(Einlass:)     Kosten: keine (Preis pro Person *2)Eintritt: freier Eintrit
 tVeranstalter: siehe offizielle Bekanntgabe weitere Infos zum Termin auf: h
 ttps://www.facebook.com/events/572025953328644/ \n\nAnmerkungen: (Alle Anga
 ben ohne Gewähr)\n*1: abweichende Einlasszeiten sind (soweit bekannt) angeg
 eben.\n*2: Eintrittskarte pro Person, Ermäßigungen bitte beim Veranstalter 
 erfragen\n
CONTACT:190000286
DTSTAMP:20260419T204534Z
DTSTART;TZID=Europe/Berlin:20190928T183000
DTEND;TZID=Europe/Berlin:20190928T230000
SEQUENCE:0
TRANSP:OPAQUE
END:VEVENT
END:VCALENDAR