BEGIN:VCALENDAR
VERSION:2.0
PRODID:-//jEvents 2.0 for Joomla//EN
CALSCALE:GREGORIAN
METHOD:PUBLISH
BEGIN:VTIMEZONE
TZID:Europe/Berlin
BEGIN:STANDARD
DTSTART:20181123T160000
RDATE:20190331T030000
TZOFFSETFROM:+0200
TZOFFSETTO:+0100
TZNAME:Europe/Berlin CET
END:STANDARD
BEGIN:STANDARD
DTSTART:20191027T020000
RDATE:20200329T030000
TZOFFSETFROM:+0200
TZOFFSETTO:+0100
TZNAME:Europe/Berlin CET
END:STANDARD
BEGIN:STANDARD
DTSTART:20201025T020000
RDATE:20210328T030000
TZOFFSETFROM:+0200
TZOFFSETTO:+0100
TZNAME:Europe/Berlin CET
END:STANDARD
BEGIN:STANDARD
DTSTART:20211031T020000
RDATE:20220327T030000
TZOFFSETFROM:+0200
TZOFFSETTO:+0100
TZNAME:Europe/Berlin CET
END:STANDARD
BEGIN:STANDARD
DTSTART:20221030T020000
RDATE:20230326T030000
TZOFFSETFROM:+0200
TZOFFSETTO:+0100
TZNAME:Europe/Berlin CET
END:STANDARD
BEGIN:STANDARD
DTSTART:20231029T020000
RDATE:20240331T030000
TZOFFSETFROM:+0200
TZOFFSETTO:+0100
TZNAME:Europe/Berlin CET
END:STANDARD
BEGIN:DAYLIGHT
DTSTART:20190331T030000
RDATE:20191027T020000
TZOFFSETFROM:+0100
TZOFFSETTO:+0200
TZNAME:Europe/Berlin CEST
END:DAYLIGHT
BEGIN:DAYLIGHT
DTSTART:20200329T030000
RDATE:20201025T020000
TZOFFSETFROM:+0100
TZOFFSETTO:+0200
TZNAME:Europe/Berlin CEST
END:DAYLIGHT
BEGIN:DAYLIGHT
DTSTART:20210328T030000
RDATE:20211031T020000
TZOFFSETFROM:+0100
TZOFFSETTO:+0200
TZNAME:Europe/Berlin CEST
END:DAYLIGHT
BEGIN:DAYLIGHT
DTSTART:20220327T030000
RDATE:20221030T020000
TZOFFSETFROM:+0100
TZOFFSETTO:+0200
TZNAME:Europe/Berlin CEST
END:DAYLIGHT
BEGIN:DAYLIGHT
DTSTART:20230326T030000
RDATE:20231029T020000
TZOFFSETFROM:+0100
TZOFFSETTO:+0200
TZNAME:Europe/Berlin CEST
END:DAYLIGHT
END:VTIMEZONE
BEGIN:VEVENT
UID:a4ac6099810631d73d6ae495ffa9cec4
CATEGORIES:Theater
CREATED:20190918T221212
SUMMARY:Prentekaffie - (Öcher Platt e. V.)
LOCATION:Saalbau Rothe Erde\, Kappertzhölle\, Hüttenstraße 45-47\, 52068 Aachen
DESCRIPTION;ENCODING=QUOTED-PRINTABLE:Veranstaltung: Prentekaffie 2019\nKünstler: Metjleder va de Jesellschaff ..
 . än änOrt: Saalbau Rothe Erde, Kappertzhölle, \nHüttenstraße 45-47, \n5206
 8 Aachen   Termin: 24.11.2019Beginn: 16:00 UhrEnde: ca. 18:00 Uhr(Einlass:)
  ca. 01h vor Beginn   Kosten: ?,- € (pro Person) *2\n?,- € AbendkasseEintri
 tt: \nTickets:beim Öcher Platt e. V.\n\nVeranstalter: Öcher Platt e.V. weit
 ere Infos zum Termin auf: https://oecher-platt.de/veranstaltungen/  \n\nAnm
 erkungen: (Alle Angaben ohne Gewähr)\n*1: abweichende Einlasszeiten sind (s
 oweit bekannt) angegeben.\n*2: Eintrittskarte pro Person, Ermäßigungen bitt
 e beim Veranstalter erfragen\n
CONTACT:190000194
DTSTAMP:20260419T141743Z
DTSTART;TZID=Europe/Berlin:20191124T160000
DTEND;TZID=Europe/Berlin:20191124T180000
SEQUENCE:0
TRANSP:OPAQUE
END:VEVENT
END:VCALENDAR