BEGIN:VCALENDAR
VERSION:2.0
PRODID:-//jEvents 2.0 for Joomla//EN
CALSCALE:GREGORIAN
METHOD:PUBLISH
BEGIN:VTIMEZONE
TZID:Europe/Berlin
BEGIN:STANDARD
DTSTART:20181028T020000
RDATE:20190331T030000
TZOFFSETFROM:+0200
TZOFFSETTO:+0100
TZNAME:Europe/Berlin CET
END:STANDARD
BEGIN:STANDARD
DTSTART:20191027T020000
RDATE:20200329T030000
TZOFFSETFROM:+0200
TZOFFSETTO:+0100
TZNAME:Europe/Berlin CET
END:STANDARD
BEGIN:STANDARD
DTSTART:20201025T020000
RDATE:20210328T030000
TZOFFSETFROM:+0200
TZOFFSETTO:+0100
TZNAME:Europe/Berlin CET
END:STANDARD
BEGIN:STANDARD
DTSTART:20211031T020000
RDATE:20220327T030000
TZOFFSETFROM:+0200
TZOFFSETTO:+0100
TZNAME:Europe/Berlin CET
END:STANDARD
BEGIN:STANDARD
DTSTART:20221030T020000
RDATE:20230326T030000
TZOFFSETFROM:+0200
TZOFFSETTO:+0100
TZNAME:Europe/Berlin CET
END:STANDARD
BEGIN:STANDARD
DTSTART:20231029T020000
RDATE:20240331T030000
TZOFFSETFROM:+0200
TZOFFSETTO:+0100
TZNAME:Europe/Berlin CET
END:STANDARD
BEGIN:DAYLIGHT
DTSTART:20181016T190000
RDATE:20181028T020000
TZOFFSETFROM:+0100
TZOFFSETTO:+0200
TZNAME:Europe/Berlin CEST
END:DAYLIGHT
BEGIN:DAYLIGHT
DTSTART:20190331T030000
RDATE:20191027T020000
TZOFFSETFROM:+0100
TZOFFSETTO:+0200
TZNAME:Europe/Berlin CEST
END:DAYLIGHT
BEGIN:DAYLIGHT
DTSTART:20200329T030000
RDATE:20201025T020000
TZOFFSETFROM:+0100
TZOFFSETTO:+0200
TZNAME:Europe/Berlin CEST
END:DAYLIGHT
BEGIN:DAYLIGHT
DTSTART:20210328T030000
RDATE:20211031T020000
TZOFFSETFROM:+0100
TZOFFSETTO:+0200
TZNAME:Europe/Berlin CEST
END:DAYLIGHT
BEGIN:DAYLIGHT
DTSTART:20220327T030000
RDATE:20221030T020000
TZOFFSETFROM:+0100
TZOFFSETTO:+0200
TZNAME:Europe/Berlin CEST
END:DAYLIGHT
BEGIN:DAYLIGHT
DTSTART:20230326T030000
RDATE:20231029T020000
TZOFFSETFROM:+0100
TZOFFSETTO:+0200
TZNAME:Europe/Berlin CEST
END:DAYLIGHT
END:VTIMEZONE
BEGIN:VEVENT
UID:7ce68317ded6cdac5159656f685911bd
CATEGORIES:Sprache
CREATED:20190918T221920
SUMMARY:Haaren im Wandel der Zeit (Öcher Platt e. V.)
LOCATION:Markt (Stauferkeller) in Haus Löwenstein\, 52062 Aachen
DESCRIPTION;ENCODING=QUOTED-PRINTABLE:Veranstaltung: Haaren im Wandel der Zeit\n(Öcher Platt e. V.)Künstler: \n\n
 Franz-Josef Heuser\n\nOrt: Markt (Stauferkeller) im Haus Löwenstein, \n5206
 2 Aachen   Termin: 17.10.2019Beginn: 19:00 Uhr\nEnde: ca. 21.00 Uhr(Einlass
 :) ca. 30 Minuten vor Beginn *1   Kosten: Eintritt frei (Mitgliedschaft + G
 etränkebeitrag) *2Eintritt: ! nur für Mitglieder ! Gäste können gerne schnu
 ppern kommen ...Veranstalter: siehe offizielle Bekanntgabe weitere Infos zu
 m Termin auf: https://oecher-platt.de/veranstaltungen/\n\n\nAnmerkungen: (A
 lle Angaben ohne Gewähr)\n*1: abweichende Einlasszeiten sind (soweit bekann
 t) angegeben.\n*2: Eintrittskarte pro Person, Ermäßigungen bitte beim Veran
 stalter erfragen\n\n\n\n \n
CONTACT:190000194
DTSTAMP:20260419T215513Z
DTSTART;TZID=Europe/Berlin:20191017T190000
DTEND;TZID=Europe/Berlin:20191017T210000
SEQUENCE:0
TRANSP:OPAQUE
END:VEVENT
END:VCALENDAR