BEGIN:VCALENDAR
VERSION:2.0
PRODID:-//jEvents 2.0 for Joomla//EN
CALSCALE:GREGORIAN
METHOD:PUBLISH
BEGIN:VTIMEZONE
TZID:Europe/Berlin
BEGIN:STANDARD
DTSTART:20181028T020000
RDATE:20190331T030000
TZOFFSETFROM:+0200
TZOFFSETTO:+0100
TZNAME:Europe/Berlin CET
END:STANDARD
BEGIN:STANDARD
DTSTART:20191027T020000
RDATE:20200329T030000
TZOFFSETFROM:+0200
TZOFFSETTO:+0100
TZNAME:Europe/Berlin CET
END:STANDARD
BEGIN:STANDARD
DTSTART:20201025T020000
RDATE:20210328T030000
TZOFFSETFROM:+0200
TZOFFSETTO:+0100
TZNAME:Europe/Berlin CET
END:STANDARD
BEGIN:STANDARD
DTSTART:20211031T020000
RDATE:20220327T030000
TZOFFSETFROM:+0200
TZOFFSETTO:+0100
TZNAME:Europe/Berlin CET
END:STANDARD
BEGIN:STANDARD
DTSTART:20221030T020000
RDATE:20230326T030000
TZOFFSETFROM:+0200
TZOFFSETTO:+0100
TZNAME:Europe/Berlin CET
END:STANDARD
BEGIN:STANDARD
DTSTART:20231029T020000
RDATE:20240331T030000
TZOFFSETFROM:+0200
TZOFFSETTO:+0100
TZNAME:Europe/Berlin CET
END:STANDARD
BEGIN:DAYLIGHT
DTSTART:20180926T200000
RDATE:20181028T020000
TZOFFSETFROM:+0100
TZOFFSETTO:+0200
TZNAME:Europe/Berlin CEST
END:DAYLIGHT
BEGIN:DAYLIGHT
DTSTART:20190331T030000
RDATE:20191027T020000
TZOFFSETFROM:+0100
TZOFFSETTO:+0200
TZNAME:Europe/Berlin CEST
END:DAYLIGHT
BEGIN:DAYLIGHT
DTSTART:20200329T030000
RDATE:20201025T020000
TZOFFSETFROM:+0100
TZOFFSETTO:+0200
TZNAME:Europe/Berlin CEST
END:DAYLIGHT
BEGIN:DAYLIGHT
DTSTART:20210328T030000
RDATE:20211031T020000
TZOFFSETFROM:+0100
TZOFFSETTO:+0200
TZNAME:Europe/Berlin CEST
END:DAYLIGHT
BEGIN:DAYLIGHT
DTSTART:20220327T030000
RDATE:20221030T020000
TZOFFSETFROM:+0100
TZOFFSETTO:+0200
TZNAME:Europe/Berlin CEST
END:DAYLIGHT
BEGIN:DAYLIGHT
DTSTART:20230326T030000
RDATE:20231029T020000
TZOFFSETFROM:+0100
TZOFFSETTO:+0200
TZNAME:Europe/Berlin CEST
END:DAYLIGHT
END:VTIMEZONE
BEGIN:VEVENT
UID:baecffd2a9ed73bad0a9c25f6df65f91
CATEGORIES:Musik
CREATED:20190919T000249
SUMMARY:Dieter Kaspari met sing Blues Bajasch e St. Foillan
LOCATION:Ursulinerstr. 1\, 52062 Aachen
DESCRIPTION;ENCODING=QUOTED-PRINTABLE:Veranstaltung: Dieter Kaspari met sing Blues Bajasch e St. FoillanKünstler:
  \n\nDieter Kaspari, Mark Beumers, Uwe Böttcher\n\nOrt: St. Foillan\nUrsuli
 nerstr. 1, 52062 Aachen   Termin: 27.09.2019Beginn: 20:00 UhrEnde: ca. ? Uh
 r(Einlass:) ca. 30-60 Minuten vor Beginn *1   Kosten: ca. ? € (Preis pro Pe
 rson *2)Eintritt: VorverkaufVeranstalter: Das Buch, (Buchhandlung)\nVon Coe
 ls-Str. 52, 52080 Aachen weitere Infos zum Termin auf: Anmerkungen: (Alle A
 ngaben ohne Gewähr)\n\n*1: abweichende Einlasszeiten sind (soweit bekannt) 
 angegeben.\n*2: Eintrittskarte pro Person, Ermäßigungen bitte beim Veransta
 lter erfragen\n\n
CONTACT:190000222
DTSTAMP:20260419T204732Z
DTSTART;TZID=Europe/Berlin:20190927T200000
SEQUENCE:0
TRANSP:OPAQUE
END:VEVENT
END:VCALENDAR