BEGIN:VCALENDAR
VERSION:2.0
PRODID:-//jEvents 2.0 for Joomla//EN
CALSCALE:GREGORIAN
METHOD:PUBLISH
BEGIN:VTIMEZONE
TZID:Europe/Berlin
BEGIN:STANDARD
DTSTART:20181213T170000
RDATE:20190331T030000
TZOFFSETFROM:+0200
TZOFFSETTO:+0100
TZNAME:Europe/Berlin CET
END:STANDARD
BEGIN:STANDARD
DTSTART:20191027T020000
RDATE:20200329T030000
TZOFFSETFROM:+0200
TZOFFSETTO:+0100
TZNAME:Europe/Berlin CET
END:STANDARD
BEGIN:STANDARD
DTSTART:20201025T020000
RDATE:20210328T030000
TZOFFSETFROM:+0200
TZOFFSETTO:+0100
TZNAME:Europe/Berlin CET
END:STANDARD
BEGIN:STANDARD
DTSTART:20211031T020000
RDATE:20220327T030000
TZOFFSETFROM:+0200
TZOFFSETTO:+0100
TZNAME:Europe/Berlin CET
END:STANDARD
BEGIN:STANDARD
DTSTART:20221030T020000
RDATE:20230326T030000
TZOFFSETFROM:+0200
TZOFFSETTO:+0100
TZNAME:Europe/Berlin CET
END:STANDARD
BEGIN:STANDARD
DTSTART:20231029T020000
RDATE:20240331T030000
TZOFFSETFROM:+0200
TZOFFSETTO:+0100
TZNAME:Europe/Berlin CET
END:STANDARD
BEGIN:DAYLIGHT
DTSTART:20190331T030000
RDATE:20191027T020000
TZOFFSETFROM:+0100
TZOFFSETTO:+0200
TZNAME:Europe/Berlin CEST
END:DAYLIGHT
BEGIN:DAYLIGHT
DTSTART:20200329T030000
RDATE:20201025T020000
TZOFFSETFROM:+0100
TZOFFSETTO:+0200
TZNAME:Europe/Berlin CEST
END:DAYLIGHT
BEGIN:DAYLIGHT
DTSTART:20210328T030000
RDATE:20211031T020000
TZOFFSETFROM:+0100
TZOFFSETTO:+0200
TZNAME:Europe/Berlin CEST
END:DAYLIGHT
BEGIN:DAYLIGHT
DTSTART:20220327T030000
RDATE:20221030T020000
TZOFFSETFROM:+0100
TZOFFSETTO:+0200
TZNAME:Europe/Berlin CEST
END:DAYLIGHT
BEGIN:DAYLIGHT
DTSTART:20230326T030000
RDATE:20231029T020000
TZOFFSETFROM:+0100
TZOFFSETTO:+0200
TZNAME:Europe/Berlin CEST
END:DAYLIGHT
END:VTIMEZONE
BEGIN:VEVENT
UID:307de223e09f67e7f11b9d4c649806f9
CATEGORIES:Musik
CREATED:20191208T210641
SUMMARY:Weihnachtlich - Unplugged (Dieter Böse)
LOCATION:Haarener Gracht\, 52080 Aachen
DESCRIPTION;ENCODING=QUOTED-PRINTABLE:Veranstaltung: Weihnachtlich: Dieter Böse - Unplugged\nKünstler: \n\nDieter
  Böse \n\nOrt: Adventsfest - Haarener Markt\nHaarener Gracht,\n52080 Aachen
    Termin: 14.12.2019Beginn: 16-18 Uhr (Auftritt: ca. 17:15 Uhr)\nEnde: ca.
  18.00 Uhr(Einlass:) ca. 30 Minuten vor Beginn *1   Kosten/Eintritt: freier
  Eintritt *2Veranstalter: siehe offizielle Bekanntgabe weitere Infos zum Te
 rmin auf: https://www.alles-in-haaren.de/event/adventfest/\n\n\nAnmerkungen
 : (Alle Angaben ohne Gewähr)\n*1: abweichende Einlasszeiten sind (soweit be
 kannt) angegeben.\n*2: Eintrittskarte pro Person, Ermäßigungen bitte beim V
 eranstalter erfragen\n\n\n\n \n
CONTACT:190000221
DTSTAMP:20260419T173040Z
DTSTART;TZID=Europe/Berlin:20191214T170000
DTEND;TZID=Europe/Berlin:20191214T180000
SEQUENCE:0
TRANSP:OPAQUE
END:VEVENT
END:VCALENDAR