BEGIN:VCALENDAR
VERSION:2.0
PRODID:-//jEvents 2.0 for Joomla//EN
CALSCALE:GREGORIAN
METHOD:PUBLISH
BEGIN:VTIMEZONE
TZID:Europe/Berlin
BEGIN:STANDARD
DTSTART:20190214T113000
RDATE:20190331T030000
TZOFFSETFROM:+0200
TZOFFSETTO:+0100
TZNAME:Europe/Berlin CET
END:STANDARD
BEGIN:STANDARD
DTSTART:20191027T020000
RDATE:20200329T030000
TZOFFSETFROM:+0200
TZOFFSETTO:+0100
TZNAME:Europe/Berlin CET
END:STANDARD
BEGIN:STANDARD
DTSTART:20201025T020000
RDATE:20210328T030000
TZOFFSETFROM:+0200
TZOFFSETTO:+0100
TZNAME:Europe/Berlin CET
END:STANDARD
BEGIN:STANDARD
DTSTART:20211031T020000
RDATE:20220327T030000
TZOFFSETFROM:+0200
TZOFFSETTO:+0100
TZNAME:Europe/Berlin CET
END:STANDARD
BEGIN:STANDARD
DTSTART:20221030T020000
RDATE:20230326T030000
TZOFFSETFROM:+0200
TZOFFSETTO:+0100
TZNAME:Europe/Berlin CET
END:STANDARD
BEGIN:STANDARD
DTSTART:20231029T020000
RDATE:20240331T030000
TZOFFSETFROM:+0200
TZOFFSETTO:+0100
TZNAME:Europe/Berlin CET
END:STANDARD
BEGIN:DAYLIGHT
DTSTART:20190331T030000
RDATE:20191027T020000
TZOFFSETFROM:+0100
TZOFFSETTO:+0200
TZNAME:Europe/Berlin CEST
END:DAYLIGHT
BEGIN:DAYLIGHT
DTSTART:20200329T030000
RDATE:20201025T020000
TZOFFSETFROM:+0100
TZOFFSETTO:+0200
TZNAME:Europe/Berlin CEST
END:DAYLIGHT
BEGIN:DAYLIGHT
DTSTART:20210328T030000
RDATE:20211031T020000
TZOFFSETFROM:+0100
TZOFFSETTO:+0200
TZNAME:Europe/Berlin CEST
END:DAYLIGHT
BEGIN:DAYLIGHT
DTSTART:20220327T030000
RDATE:20221030T020000
TZOFFSETFROM:+0100
TZOFFSETTO:+0200
TZNAME:Europe/Berlin CEST
END:DAYLIGHT
BEGIN:DAYLIGHT
DTSTART:20230326T030000
RDATE:20231029T020000
TZOFFSETFROM:+0100
TZOFFSETTO:+0200
TZNAME:Europe/Berlin CEST
END:DAYLIGHT
END:VTIMEZONE
BEGIN:VEVENT
UID:c93ddab398cdb51661a14785dc14093a
CATEGORIES:Fastelovvend
CREATED:20191209T091624
SUMMARY:Männergrippe mit Kopfkino trifft Puffel (u. a. met Tästbild, De Pöngche ...)
LOCATION:Hirsch Center Elsassstraße 139\,  52068 Aachen
DESCRIPTION;ENCODING=QUOTED-PRINTABLE:



Veranstaltung:
&nbsp;
M&auml;nnergrippe mit Kopfkino trifft Puffel\n



 K&uuml;nstler:
&nbsp;

\n\nT&auml;stbild, \nDe P&ouml;ngche, \nOecher Stadt
 musikanten,\nAngelika Kutsch\n\n



Ort:
&nbsp;

\n\nHirsch Center\nElsasss
 tra&szlig;e 139,&nbsp;\n52068 Aachen\n



&nbsp;
&nbsp;
&nbsp;


Termin:
&n
 bsp;
15.02.2020


Beginn:
&nbsp;
ca. 11:30 Uhr \n


Ende:
&nbsp;
ca. 14:30 
 Uhr


(Einlass:)
&nbsp;
&nbsp;


&nbsp;
&nbsp;
&nbsp;


Kosten:
&nbsp;
kein
 e (Preis pro Person *2)


Eintritt:
&nbsp;
freier Eintritt


Veranstalter:

 &nbsp;
siehe offizielle Bekanntgabe




&nbsp;
weitere Infos zum Termin auf
 :
&nbsp;

\n\nAnmerkungen: (Alle Angaben ohne Gew&auml;hr)\n*1: abweichende
  Einlasszeiten sind (soweit bekannt) angegeben.\n*2: Eintrittskarte pro Per
 son, Erm&auml;&szlig;igungen bitte beim Veranstalter erfragen\n

CONTACT:190000261
DTSTAMP:20260424T131822Z
DTSTART;TZID=Europe/Berlin:20200215T113000
SEQUENCE:0
TRANSP:OPAQUE
END:VEVENT
END:VCALENDAR