BEGIN:VCALENDAR
VERSION:2.0
PRODID:-//jEvents 2.0 for Joomla//EN
CALSCALE:GREGORIAN
METHOD:PUBLISH
BEGIN:VTIMEZONE
TZID:Europe/Berlin
BEGIN:STANDARD
DTSTART:20190123T173000
RDATE:20190331T030000
TZOFFSETFROM:+0200
TZOFFSETTO:+0100
TZNAME:Europe/Berlin CET
END:STANDARD
BEGIN:STANDARD
DTSTART:20191027T020000
RDATE:20200329T030000
TZOFFSETFROM:+0200
TZOFFSETTO:+0100
TZNAME:Europe/Berlin CET
END:STANDARD
BEGIN:STANDARD
DTSTART:20201025T020000
RDATE:20210328T030000
TZOFFSETFROM:+0200
TZOFFSETTO:+0100
TZNAME:Europe/Berlin CET
END:STANDARD
BEGIN:STANDARD
DTSTART:20211031T020000
RDATE:20220327T030000
TZOFFSETFROM:+0200
TZOFFSETTO:+0100
TZNAME:Europe/Berlin CET
END:STANDARD
BEGIN:STANDARD
DTSTART:20221030T020000
RDATE:20230326T030000
TZOFFSETFROM:+0200
TZOFFSETTO:+0100
TZNAME:Europe/Berlin CET
END:STANDARD
BEGIN:STANDARD
DTSTART:20231029T020000
RDATE:20240331T030000
TZOFFSETFROM:+0200
TZOFFSETTO:+0100
TZNAME:Europe/Berlin CET
END:STANDARD
BEGIN:DAYLIGHT
DTSTART:20190331T030000
RDATE:20191027T020000
TZOFFSETFROM:+0100
TZOFFSETTO:+0200
TZNAME:Europe/Berlin CEST
END:DAYLIGHT
BEGIN:DAYLIGHT
DTSTART:20200329T030000
RDATE:20201025T020000
TZOFFSETFROM:+0100
TZOFFSETTO:+0200
TZNAME:Europe/Berlin CEST
END:DAYLIGHT
BEGIN:DAYLIGHT
DTSTART:20210328T030000
RDATE:20211031T020000
TZOFFSETFROM:+0100
TZOFFSETTO:+0200
TZNAME:Europe/Berlin CEST
END:DAYLIGHT
BEGIN:DAYLIGHT
DTSTART:20220327T030000
RDATE:20221030T020000
TZOFFSETFROM:+0100
TZOFFSETTO:+0200
TZNAME:Europe/Berlin CEST
END:DAYLIGHT
BEGIN:DAYLIGHT
DTSTART:20230326T030000
RDATE:20231029T020000
TZOFFSETFROM:+0100
TZOFFSETTO:+0200
TZNAME:Europe/Berlin CEST
END:DAYLIGHT
END:VTIMEZONE
BEGIN:VEVENT
UID:d5f0cdcc787ba28ec6b2ee41d22548b8
CATEGORIES:Fastelovvend
CREATED:20200105T170525
SUMMARY:Kneipenkarneval im Noah's (Kohlscheid)
LOCATION:Markt\, 52134 Herzogenrath\, Deutschland
DESCRIPTION;ENCODING=QUOTED-PRINTABLE: Veranstaltung: Kneipenkarneval im Noah's (Kohlscheid)Künstler: \n\ndiverse
  Prinzen (u. a. MARTIN I.)\n\n\n\nNight Wiever\nOrt: Name, \nStraße, \nPLZ 
 Ort   Termin: 24.01.2020Beginn: 17:30 UhrEnde: ca. HH:mm Uhr(Einlass:) ca. 
 30min. vor Beginn   Kosten: X,- € (pro Person) *2\nX,- € AbendkasseEintritt
 : \n\n\nTickets:\nName,\nStraße\nPLZ Ort\n\n\nName,\nStraße\nPLZ Ort\nTel: 
 XXXX XXXX\n\n\nVeranstalter: Veranstalter XYZ weitere Infos zum Termin auf:
  https://www.dat-es-oche.de/images/Fastelovvend/2019_2020/2020-01-24-Noahs/
 Plakat/2020-01-24-Plakat.jpg  \n\nAnmerkungen: (Alle Angaben ohne Gewähr)\n
 *1: abweichende Einlasszeiten sind (soweit bekannt) angegeben.\n*2: Eintrit
 tskarte pro Person, Ermäßigungen bitte beim Veranstalter erfragen\n\n\n\n \
 n
CONTACT:190000286
DTSTAMP:20260424T130319Z
DTSTART;TZID=Europe/Berlin:20200124T173000
SEQUENCE:0
TRANSP:OPAQUE
END:VEVENT
END:VCALENDAR