BEGIN:VCALENDAR
VERSION:2.0
PRODID:-//jEvents 2.0 for Joomla//EN
CALSCALE:GREGORIAN
METHOD:PUBLISH
BEGIN:VTIMEZONE
TZID:Europe/Berlin
BEGIN:STANDARD
DTSTART:20190215T110000
RDATE:20190331T030000
TZOFFSETFROM:+0200
TZOFFSETTO:+0100
TZNAME:Europe/Berlin CET
END:STANDARD
BEGIN:STANDARD
DTSTART:20191027T020000
RDATE:20200329T030000
TZOFFSETFROM:+0200
TZOFFSETTO:+0100
TZNAME:Europe/Berlin CET
END:STANDARD
BEGIN:STANDARD
DTSTART:20201025T020000
RDATE:20210328T030000
TZOFFSETFROM:+0200
TZOFFSETTO:+0100
TZNAME:Europe/Berlin CET
END:STANDARD
BEGIN:STANDARD
DTSTART:20211031T020000
RDATE:20220327T030000
TZOFFSETFROM:+0200
TZOFFSETTO:+0100
TZNAME:Europe/Berlin CET
END:STANDARD
BEGIN:STANDARD
DTSTART:20221030T020000
RDATE:20230326T030000
TZOFFSETFROM:+0200
TZOFFSETTO:+0100
TZNAME:Europe/Berlin CET
END:STANDARD
BEGIN:STANDARD
DTSTART:20231029T020000
RDATE:20240331T030000
TZOFFSETFROM:+0200
TZOFFSETTO:+0100
TZNAME:Europe/Berlin CET
END:STANDARD
BEGIN:DAYLIGHT
DTSTART:20190331T030000
RDATE:20191027T020000
TZOFFSETFROM:+0100
TZOFFSETTO:+0200
TZNAME:Europe/Berlin CEST
END:DAYLIGHT
BEGIN:DAYLIGHT
DTSTART:20200329T030000
RDATE:20201025T020000
TZOFFSETFROM:+0100
TZOFFSETTO:+0200
TZNAME:Europe/Berlin CEST
END:DAYLIGHT
BEGIN:DAYLIGHT
DTSTART:20210328T030000
RDATE:20211031T020000
TZOFFSETFROM:+0100
TZOFFSETTO:+0200
TZNAME:Europe/Berlin CEST
END:DAYLIGHT
BEGIN:DAYLIGHT
DTSTART:20220327T030000
RDATE:20221030T020000
TZOFFSETFROM:+0100
TZOFFSETTO:+0200
TZNAME:Europe/Berlin CEST
END:DAYLIGHT
BEGIN:DAYLIGHT
DTSTART:20230326T030000
RDATE:20231029T020000
TZOFFSETFROM:+0100
TZOFFSETTO:+0200
TZNAME:Europe/Berlin CEST
END:DAYLIGHT
END:VTIMEZONE
BEGIN:VEVENT
UID:81cf3f864f7624de41f55f3b6cc0e986
CATEGORIES:Fastelovvend
CREATED:20200111T173647
SUMMARY:Fastelovvendsmeijß op Öcher Platt
LOCATION:Pfarre St. Rochus Schwinningstraße 96\, 52076 Aachen (Oberforstbach)
DESCRIPTION;ENCODING=QUOTED-PRINTABLE:Veranstaltung: \n\nFastelovvendsmeijß "op Öcher Platt"\n\nKünstler: \n\nÄgi
 d Lennartz, Leo Bardenheuer\nMusikzug Grün-Weiß Lichtenbusch, \nDiakon Manf
 red Ostlender, \nMafia del Musica uvm...\n\nOrt: Pfarre St. Rochus\nSchwinn
 ingstraße 96, \n52076 Aachen (Oberforstbach)\n   Termin: 16.02.2020Beginn: 
 11:00 UhrEnde: ca. 12.30 Uhr(Einlass:) ca. 30 Min. vorher   Kosten: \n\nkos
 tenlos\nEintritt: \n\n-\nVeranstalter: KG Grün-Weiss Lichtenbusch 1966 e. V
 . weitere Infos zum Termin:\n\nhttps://www.kg-lichtenbusch.de/veranstaltung
 en/\n\n\n \n\n\nAnmerkungen: (Alle Angaben ohne Gewähr)\n*1: abweichende Ei
 nlasszeiten sind (soweit bekannt) angegeben.\n*2: Eintrittskarte pro Person
 , Ermäßigungen bitte beim Veranstalter erfragen\n\n\n\n \n
DTSTAMP:20260424T131822Z
DTSTART;TZID=Europe/Berlin:20200216T110000
DTEND;TZID=Europe/Berlin:20200216T123000
SEQUENCE:0
TRANSP:OPAQUE
END:VEVENT
END:VCALENDAR