BEGIN:VCALENDAR
VERSION:2.0
PRODID:-//jEvents 2.0 for Joomla//EN
CALSCALE:GREGORIAN
METHOD:PUBLISH
BEGIN:VTIMEZONE
TZID:Europe/Berlin
BEGIN:STANDARD
DTSTART:20190205T200000
RDATE:20190331T030000
TZOFFSETFROM:+0200
TZOFFSETTO:+0100
TZNAME:Europe/Berlin CET
END:STANDARD
BEGIN:STANDARD
DTSTART:20191027T020000
RDATE:20200329T030000
TZOFFSETFROM:+0200
TZOFFSETTO:+0100
TZNAME:Europe/Berlin CET
END:STANDARD
BEGIN:STANDARD
DTSTART:20201025T020000
RDATE:20210328T030000
TZOFFSETFROM:+0200
TZOFFSETTO:+0100
TZNAME:Europe/Berlin CET
END:STANDARD
BEGIN:STANDARD
DTSTART:20211031T020000
RDATE:20220327T030000
TZOFFSETFROM:+0200
TZOFFSETTO:+0100
TZNAME:Europe/Berlin CET
END:STANDARD
BEGIN:STANDARD
DTSTART:20221030T020000
RDATE:20230326T030000
TZOFFSETFROM:+0200
TZOFFSETTO:+0100
TZNAME:Europe/Berlin CET
END:STANDARD
BEGIN:STANDARD
DTSTART:20231029T020000
RDATE:20240331T030000
TZOFFSETFROM:+0200
TZOFFSETTO:+0100
TZNAME:Europe/Berlin CET
END:STANDARD
BEGIN:DAYLIGHT
DTSTART:20190331T030000
RDATE:20191027T020000
TZOFFSETFROM:+0100
TZOFFSETTO:+0200
TZNAME:Europe/Berlin CEST
END:DAYLIGHT
BEGIN:DAYLIGHT
DTSTART:20200329T030000
RDATE:20201025T020000
TZOFFSETFROM:+0100
TZOFFSETTO:+0200
TZNAME:Europe/Berlin CEST
END:DAYLIGHT
BEGIN:DAYLIGHT
DTSTART:20210328T030000
RDATE:20211031T020000
TZOFFSETFROM:+0100
TZOFFSETTO:+0200
TZNAME:Europe/Berlin CEST
END:DAYLIGHT
BEGIN:DAYLIGHT
DTSTART:20220327T030000
RDATE:20221030T020000
TZOFFSETFROM:+0100
TZOFFSETTO:+0200
TZNAME:Europe/Berlin CEST
END:DAYLIGHT
BEGIN:DAYLIGHT
DTSTART:20230326T030000
RDATE:20231029T020000
TZOFFSETFROM:+0100
TZOFFSETTO:+0200
TZNAME:Europe/Berlin CEST
END:DAYLIGHT
END:VTIMEZONE
BEGIN:VEVENT
UID:26577d8f785002b366b75bd1acaf9ef6
CATEGORIES:Musik
CREATED:20200121T143945
SUMMARY:Lott os senge lejjv Lü (Dieter Böse)
LOCATION:Goffartstraße\, 52066 Berlin\, Deutschland
DESCRIPTION;ENCODING=QUOTED-PRINTABLE:&nbsp;




Veranstaltung:
&nbsp;
Lott os senge lejjv L&uuml;


K&uuml;nstle
 r:
&nbsp;

\n\nB&ouml;se mal anders &auml;n Thomas Muckel\n



Ort:
&nbsp;

 Burg Frankenberg, \nGoffartstrasse, \n52066 Aachen


&nbsp;
&nbsp;
&nbsp;


 
Termin:
&nbsp;
06.02.2020


Beginn:
&nbsp;
20:00 Uhr


Ende:
&nbsp;
ca. 21
 :30 Uhr


(Einlass:)
&nbsp;
ca. 1h vor Beginn


&nbsp;
&nbsp;
&nbsp;


Kost
 en:
&nbsp;
X,- &euro; (pro Person) *2\nX,- &euro; Abendkasse


Eintritt:
&n
 bsp;

\n\n\nTickets:\nName,\nStra&szlig;e\nPLZ Ort\n
\n\nName,\nStra&szlig;
 e\nPLZ Ort\nTel: XXXX XXXX\n\n\n



Veranstalter:
&nbsp;
Veranstalter XYZ


 


&nbsp;
weitere Infos zum Termin auf: URL
&nbsp;
&nbsp;

\n\nAnmerkungen:
  (Alle Angaben ohne Gew&auml;hr)\n*1: abweichende Einlasszeiten sind (sowei
 t bekannt) angegeben.\n*2: Eintrittskarte pro Person, Erm&auml;&szlig;igung
 en bitte beim Veranstalter erfragen\n\n

\n\n&nbsp;\n
CONTACT:190000221
DTSTAMP:20260424T131730Z
DTSTART;TZID=Europe/Berlin:20200206T200000
SEQUENCE:0
TRANSP:OPAQUE
END:VEVENT
END:VCALENDAR