BEGIN:VCALENDAR
VERSION:2.0
PRODID:-//jEvents 2.0 for Joomla//EN
CALSCALE:GREGORIAN
METHOD:PUBLISH
BEGIN:VTIMEZONE
TZID:Europe/Berlin
BEGIN:STANDARD
DTSTART:20190212T193000
RDATE:20190331T030000
TZOFFSETFROM:+0200
TZOFFSETTO:+0100
TZNAME:Europe/Berlin CET
END:STANDARD
BEGIN:STANDARD
DTSTART:20191027T020000
RDATE:20200329T030000
TZOFFSETFROM:+0200
TZOFFSETTO:+0100
TZNAME:Europe/Berlin CET
END:STANDARD
BEGIN:STANDARD
DTSTART:20201025T020000
RDATE:20210328T030000
TZOFFSETFROM:+0200
TZOFFSETTO:+0100
TZNAME:Europe/Berlin CET
END:STANDARD
BEGIN:STANDARD
DTSTART:20211031T020000
RDATE:20220327T030000
TZOFFSETFROM:+0200
TZOFFSETTO:+0100
TZNAME:Europe/Berlin CET
END:STANDARD
BEGIN:STANDARD
DTSTART:20221030T020000
RDATE:20230326T030000
TZOFFSETFROM:+0200
TZOFFSETTO:+0100
TZNAME:Europe/Berlin CET
END:STANDARD
BEGIN:STANDARD
DTSTART:20231029T020000
RDATE:20240331T030000
TZOFFSETFROM:+0200
TZOFFSETTO:+0100
TZNAME:Europe/Berlin CET
END:STANDARD
BEGIN:DAYLIGHT
DTSTART:20190331T030000
RDATE:20191027T020000
TZOFFSETFROM:+0100
TZOFFSETTO:+0200
TZNAME:Europe/Berlin CEST
END:DAYLIGHT
BEGIN:DAYLIGHT
DTSTART:20200329T030000
RDATE:20201025T020000
TZOFFSETFROM:+0100
TZOFFSETTO:+0200
TZNAME:Europe/Berlin CEST
END:DAYLIGHT
BEGIN:DAYLIGHT
DTSTART:20210328T030000
RDATE:20211031T020000
TZOFFSETFROM:+0100
TZOFFSETTO:+0200
TZNAME:Europe/Berlin CEST
END:DAYLIGHT
BEGIN:DAYLIGHT
DTSTART:20220327T030000
RDATE:20221030T020000
TZOFFSETFROM:+0100
TZOFFSETTO:+0200
TZNAME:Europe/Berlin CEST
END:DAYLIGHT
BEGIN:DAYLIGHT
DTSTART:20230326T030000
RDATE:20231029T020000
TZOFFSETFROM:+0100
TZOFFSETTO:+0200
TZNAME:Europe/Berlin CEST
END:DAYLIGHT
END:VTIMEZONE
BEGIN:VEVENT
UID:e90ebd2c068fe630955f4210251b3732
CATEGORIES:Musik
CREATED:20200122T082640
SUMMARY:24. Festival der Oecher Lieder (AZ)
LOCATION:Eurogress Aachen\, Monheimsallee 48\, 52062 Aachen
DESCRIPTION;ENCODING=QUOTED-PRINTABLE:Veranstaltung: \n\n24. Festival der Oecher Lieder\n\nKünstler: \n\nLEO I. u
 nd MARTIN I. (+Hofstaat)\nDe Originale, de 4 Amigos, \nde Spetzbouve, Hans 
 Montag, \nKurt Christ, Die Stallburschen\nOrt: Eurogress Aachen, \nMonheims
 allee 48, 52062 Aachen   Termin: 13.02.2020Beginn: 19:30 UhrEnde: ca. 22.30
  Uhr(Einlass:) ca. 18.30 Uhr   Kosten: ab ca. 15€Eintritt: Vorbestellung od
 er TageskasseVeranstalter: siehe offizielle Bekanntgabe weitere Infos zum T
 ermin: http://www.eventim.de/festival-der-oecher-lieder-tickets.html?affili
 ate=EVE&amp;doc=artistPages/tickets&amp;fun=artist&amp;action=tickets&amp;k
 uid=475059bzw. http://www.aachener-zeitung.de/lokales/aachen/festival-der-o
 echer-lieder-pralles-programm-fuer-den-guten-zweck-1.1551535  \n\nAnmerkung
 en: (Alle Angaben ohne Gewähr)\n*1: abweichende Einlasszeiten sind (soweit 
 bekannt) angegeben.\n*2: Eintrittskarte pro Person, Ermäßigungen bitte beim
  Veranstalter erfragen\n\n
CONTACT:190000293
DTSTAMP:20260424T131745Z
DTSTART;TZID=Europe/Berlin:20200213T193000
DTEND;TZID=Europe/Berlin:20200213T220000
SEQUENCE:0
TRANSP:OPAQUE
END:VEVENT
END:VCALENDAR