BEGIN:VCALENDAR
VERSION:2.0
PRODID:-//jEvents 2.0 for Joomla//EN
CALSCALE:GREGORIAN
METHOD:PUBLISH
BEGIN:VTIMEZONE
TZID:Europe/Berlin
BEGIN:STANDARD
DTSTART:20190221T111100
RDATE:20190331T030000
TZOFFSETFROM:+0200
TZOFFSETTO:+0100
TZNAME:Europe/Berlin CET
END:STANDARD
BEGIN:STANDARD
DTSTART:20191027T020000
RDATE:20200329T030000
TZOFFSETFROM:+0200
TZOFFSETTO:+0100
TZNAME:Europe/Berlin CET
END:STANDARD
BEGIN:STANDARD
DTSTART:20201025T020000
RDATE:20210328T030000
TZOFFSETFROM:+0200
TZOFFSETTO:+0100
TZNAME:Europe/Berlin CET
END:STANDARD
BEGIN:STANDARD
DTSTART:20211031T020000
RDATE:20220327T030000
TZOFFSETFROM:+0200
TZOFFSETTO:+0100
TZNAME:Europe/Berlin CET
END:STANDARD
BEGIN:STANDARD
DTSTART:20221030T020000
RDATE:20230326T030000
TZOFFSETFROM:+0200
TZOFFSETTO:+0100
TZNAME:Europe/Berlin CET
END:STANDARD
BEGIN:STANDARD
DTSTART:20231029T020000
RDATE:20240331T030000
TZOFFSETFROM:+0200
TZOFFSETTO:+0100
TZNAME:Europe/Berlin CET
END:STANDARD
BEGIN:DAYLIGHT
DTSTART:20190331T030000
RDATE:20191027T020000
TZOFFSETFROM:+0100
TZOFFSETTO:+0200
TZNAME:Europe/Berlin CEST
END:DAYLIGHT
BEGIN:DAYLIGHT
DTSTART:20200329T030000
RDATE:20201025T020000
TZOFFSETFROM:+0100
TZOFFSETTO:+0200
TZNAME:Europe/Berlin CEST
END:DAYLIGHT
BEGIN:DAYLIGHT
DTSTART:20210328T030000
RDATE:20211031T020000
TZOFFSETFROM:+0100
TZOFFSETTO:+0200
TZNAME:Europe/Berlin CEST
END:DAYLIGHT
BEGIN:DAYLIGHT
DTSTART:20220327T030000
RDATE:20221030T020000
TZOFFSETFROM:+0100
TZOFFSETTO:+0200
TZNAME:Europe/Berlin CEST
END:DAYLIGHT
BEGIN:DAYLIGHT
DTSTART:20230326T030000
RDATE:20231029T020000
TZOFFSETFROM:+0100
TZOFFSETTO:+0200
TZNAME:Europe/Berlin CEST
END:DAYLIGHT
END:VTIMEZONE
BEGIN:VEVENT
UID:bc39ff83dbbe11905109ba16f2c34f76
CATEGORIES:Sprache
CREATED:20200125T134612
SUMMARY:De Originale än de Night Wiever beij et Stroessefess
LOCATION:Rathausstraße\, 52072 Aachen\, Deutschland
DESCRIPTION;ENCODING=QUOTED-PRINTABLE:&nbsp;




Veranstaltung:
&nbsp;
Stroessefess e Lorenzberg


K&uuml;nstler:
 
&nbsp;

\n\nDe Originale, Night Wiever,\n
\n\nPrinz MARTIN I., Prinz DANIE
 L II. Und Hofstaate\n



Ort:
&nbsp;
Vor dem Rathaus, \nRathausstra&szlig;e
 , \n52072 Aachen


&nbsp;
&nbsp;
&nbsp;


Termin:
&nbsp;
22.02.2020


Begin
 n:
&nbsp;
11:11 Uhr


Ende:
&nbsp;
ca. 15:00 Uhr


(Einlass:)
&nbsp;
ca. 1h
  vor Beginn


&nbsp;
&nbsp;
&nbsp;


Kosten:
&nbsp;
- &euro; (pro Person) *
 2\n- &euro; Abendkasse


Eintritt:
&nbsp;

\n\n&nbsp;\n
\n\nFrei\n\n\n



V
 eranstalter:
&nbsp;

\n\nIG Laurensberger Vereine\n





&nbsp;
weitere Inf
 os zum Termin auf:&nbsp;
&nbsp;
&nbsp;

\n\nAnmerkungen: (Alle Angaben ohne
  Gew&auml;hr)\n*1: abweichende Einlasszeiten sind (soweit bekannt) angegebe
 n.\n*2: Eintrittskarte pro Person, Erm&auml;&szlig;igungen bitte beim Veran
 stalter erfragen\n\n

\n\n&nbsp;\n
CONTACT:190000211
DTSTAMP:20260424T132652Z
DTSTART;TZID=Europe/Berlin:20200222T111100
SEQUENCE:0
TRANSP:OPAQUE
END:VEVENT
END:VCALENDAR