BEGIN:VCALENDAR
VERSION:2.0
PRODID:-//jEvents 2.0 for Joomla//EN
CALSCALE:GREGORIAN
METHOD:PUBLISH
BEGIN:VTIMEZONE
TZID:Europe/Berlin
BEGIN:STANDARD
DTSTART:20190221T180000
RDATE:20190331T030000
TZOFFSETFROM:+0200
TZOFFSETTO:+0100
TZNAME:Europe/Berlin CET
END:STANDARD
BEGIN:STANDARD
DTSTART:20191027T020000
RDATE:20200329T030000
TZOFFSETFROM:+0200
TZOFFSETTO:+0100
TZNAME:Europe/Berlin CET
END:STANDARD
BEGIN:STANDARD
DTSTART:20201025T020000
RDATE:20210328T030000
TZOFFSETFROM:+0200
TZOFFSETTO:+0100
TZNAME:Europe/Berlin CET
END:STANDARD
BEGIN:STANDARD
DTSTART:20211031T020000
RDATE:20220327T030000
TZOFFSETFROM:+0200
TZOFFSETTO:+0100
TZNAME:Europe/Berlin CET
END:STANDARD
BEGIN:STANDARD
DTSTART:20221030T020000
RDATE:20230326T030000
TZOFFSETFROM:+0200
TZOFFSETTO:+0100
TZNAME:Europe/Berlin CET
END:STANDARD
BEGIN:STANDARD
DTSTART:20231029T020000
RDATE:20240331T030000
TZOFFSETFROM:+0200
TZOFFSETTO:+0100
TZNAME:Europe/Berlin CET
END:STANDARD
BEGIN:DAYLIGHT
DTSTART:20190331T030000
RDATE:20191027T020000
TZOFFSETFROM:+0100
TZOFFSETTO:+0200
TZNAME:Europe/Berlin CEST
END:DAYLIGHT
BEGIN:DAYLIGHT
DTSTART:20200329T030000
RDATE:20201025T020000
TZOFFSETFROM:+0100
TZOFFSETTO:+0200
TZNAME:Europe/Berlin CEST
END:DAYLIGHT
BEGIN:DAYLIGHT
DTSTART:20210328T030000
RDATE:20211031T020000
TZOFFSETFROM:+0100
TZOFFSETTO:+0200
TZNAME:Europe/Berlin CEST
END:DAYLIGHT
BEGIN:DAYLIGHT
DTSTART:20220327T030000
RDATE:20221030T020000
TZOFFSETFROM:+0100
TZOFFSETTO:+0200
TZNAME:Europe/Berlin CEST
END:DAYLIGHT
BEGIN:DAYLIGHT
DTSTART:20230326T030000
RDATE:20231029T020000
TZOFFSETFROM:+0100
TZOFFSETTO:+0200
TZNAME:Europe/Berlin CEST
END:DAYLIGHT
END:VTIMEZONE
BEGIN:VEVENT
UID:6d8e3e5cee202f0617b34d39845a2cdb
CATEGORIES:Fastelovvend
CREATED:20200129T202647
SUMMARY:Fastelovends-Joddesdengst op Öcher Platt (Tropi-Garde)
LOCATION:St. Fronleichnam\, Düppelstraße 21-23\, 52068 Aachen
DESCRIPTION;ENCODING=QUOTED-PRINTABLE:Veranstaltung: \n\nFastelovvends-Joddesdengst "op Öcher Platt" (Tropi-Garde
 )\n\nKünstler: \n\n? uvm...\n\nOrt: Pfarre St. Fronleichnam\nSchwinningstra
 ße 96, \n52076 Aachen (Oberforstbach)\n   Termin: 22.02.2020Beginn: 18:00 U
 hrEnde: ca. 19.00 Uhr(Einlass:) ca. 30 Min. vorher   Kosten: \n\nkostenlos\
 nEintritt: \n\n-\nVeranstalter: Tropi-Garde weitere Infos zum Termin:\n\nht
 tps://www.tropigarde.de/event-reader/fastelovends-joddesdengst-130.html\n\n
 \n \n\n\nAnmerkungen: (Alle Angaben ohne Gewähr)\n*1: abweichende Einlassze
 iten sind (soweit bekannt) angegeben.\n*2: Eintrittskarte pro Person, Ermäß
 igungen bitte beim Veranstalter erfragen\n\n\n\n \n
DTSTAMP:20260424T132435Z
DTSTART;TZID=Europe/Berlin:20200222T180000
DTEND;TZID=Europe/Berlin:20200222T190000
SEQUENCE:0
TRANSP:OPAQUE
END:VEVENT
END:VCALENDAR