BEGIN:VCALENDAR
VERSION:2.0
PRODID:-//jEvents 2.0 for Joomla//EN
CALSCALE:GREGORIAN
METHOD:PUBLISH
BEGIN:VTIMEZONE
TZID:Europe/Berlin
BEGIN:STANDARD
DTSTART:20190214T115500
RDATE:20190331T030000
TZOFFSETFROM:+0200
TZOFFSETTO:+0100
TZNAME:Europe/Berlin CET
END:STANDARD
BEGIN:STANDARD
DTSTART:20191027T020000
RDATE:20200329T030000
TZOFFSETFROM:+0200
TZOFFSETTO:+0100
TZNAME:Europe/Berlin CET
END:STANDARD
BEGIN:STANDARD
DTSTART:20201025T020000
RDATE:20210328T030000
TZOFFSETFROM:+0200
TZOFFSETTO:+0100
TZNAME:Europe/Berlin CET
END:STANDARD
BEGIN:STANDARD
DTSTART:20211031T020000
RDATE:20220327T030000
TZOFFSETFROM:+0200
TZOFFSETTO:+0100
TZNAME:Europe/Berlin CET
END:STANDARD
BEGIN:STANDARD
DTSTART:20221030T020000
RDATE:20230326T030000
TZOFFSETFROM:+0200
TZOFFSETTO:+0100
TZNAME:Europe/Berlin CET
END:STANDARD
BEGIN:STANDARD
DTSTART:20231029T020000
RDATE:20240331T030000
TZOFFSETFROM:+0200
TZOFFSETTO:+0100
TZNAME:Europe/Berlin CET
END:STANDARD
BEGIN:DAYLIGHT
DTSTART:20190331T030000
RDATE:20191027T020000
TZOFFSETFROM:+0100
TZOFFSETTO:+0200
TZNAME:Europe/Berlin CEST
END:DAYLIGHT
BEGIN:DAYLIGHT
DTSTART:20200329T030000
RDATE:20201025T020000
TZOFFSETFROM:+0100
TZOFFSETTO:+0200
TZNAME:Europe/Berlin CEST
END:DAYLIGHT
BEGIN:DAYLIGHT
DTSTART:20210328T030000
RDATE:20211031T020000
TZOFFSETFROM:+0100
TZOFFSETTO:+0200
TZNAME:Europe/Berlin CEST
END:DAYLIGHT
BEGIN:DAYLIGHT
DTSTART:20220327T030000
RDATE:20221030T020000
TZOFFSETFROM:+0100
TZOFFSETTO:+0200
TZNAME:Europe/Berlin CEST
END:DAYLIGHT
BEGIN:DAYLIGHT
DTSTART:20230326T030000
RDATE:20231029T020000
TZOFFSETFROM:+0100
TZOFFSETTO:+0200
TZNAME:Europe/Berlin CEST
END:DAYLIGHT
END:VTIMEZONE
BEGIN:VEVENT
UID:d176f373f9d02cbb8e8694b386025fb7
CATEGORIES:Sprache
CREATED:20200202T164249
SUMMARY:Aquis Alaaf
LOCATION:Adalbertstraße 100\, 52062 Aachen\, Deutschland
DESCRIPTION;ENCODING=QUOTED-PRINTABLE:&nbsp;




Veranstaltung:
&nbsp;

\n\nAquis Alaaf - \n
\n\n&Ouml;mmes&ouml;
 ns met Hazz\n



K&uuml;nstler:
&nbsp;

\n\nPrinz Martin I., PG Aachen\n
\n
 \nDe Originale usw...\n



Ort:
&nbsp;

\n\nAquis Plaza, \n
\n\n52062 Aache
 n\n



&nbsp;
&nbsp;
&nbsp;


Termin:
&nbsp;
15.02.2020


Beginn:
&nbsp;
11
 :55 Uhr


Ende:
&nbsp;
ca. 18:30 Uhr


(Einlass:)
&nbsp;
ca. 1h vor Beginn

 

&nbsp;
&nbsp;
&nbsp;


Kosten:
&nbsp;
Keine


Eintritt:
&nbsp;

\n\n&nbsp
 ;\n



Veranstalter:
&nbsp;
AKV / Aquis Plaza




&nbsp;
weitere Infos zum 
 Termin auf: URL
&nbsp;
&nbsp;

\n\nAnmerkungen: (Alle Angaben ohne Gew&auml
 ;hr)\n*1: abweichende Einlasszeiten sind (soweit bekannt) angegeben.\n*2: E
 intrittskarte pro Person, Erm&auml;&szlig;igungen bitte beim Veranstalter e
 rfragen\n\n

\n\n&nbsp;\n
CONTACT:190000211
DTSTAMP:20260424T132559Z
DTSTART;TZID=Europe/Berlin:20200215T115500
SEQUENCE:0
TRANSP:OPAQUE
END:VEVENT
END:VCALENDAR