BEGIN:VCALENDAR
VERSION:2.0
PRODID:-//jEvents 2.0 for Joomla//EN
CALSCALE:GREGORIAN
METHOD:PUBLISH
BEGIN:VTIMEZONE
TZID:Europe/Berlin
BEGIN:STANDARD
DTSTART:20191027T020000
RDATE:20200329T030000
TZOFFSETFROM:+0200
TZOFFSETTO:+0100
TZNAME:Europe/Berlin CET
END:STANDARD
BEGIN:STANDARD
DTSTART:20201025T020000
RDATE:20210328T030000
TZOFFSETFROM:+0200
TZOFFSETTO:+0100
TZNAME:Europe/Berlin CET
END:STANDARD
BEGIN:STANDARD
DTSTART:20211031T020000
RDATE:20220327T030000
TZOFFSETFROM:+0200
TZOFFSETTO:+0100
TZNAME:Europe/Berlin CET
END:STANDARD
BEGIN:STANDARD
DTSTART:20221030T020000
RDATE:20230326T030000
TZOFFSETFROM:+0200
TZOFFSETTO:+0100
TZNAME:Europe/Berlin CET
END:STANDARD
BEGIN:STANDARD
DTSTART:20231029T020000
RDATE:20240331T030000
TZOFFSETFROM:+0200
TZOFFSETTO:+0100
TZNAME:Europe/Berlin CET
END:STANDARD
BEGIN:DAYLIGHT
DTSTART:20190912T190000
RDATE:20191027T020000
TZOFFSETFROM:+0100
TZOFFSETTO:+0200
TZNAME:Europe/Berlin CEST
END:DAYLIGHT
BEGIN:DAYLIGHT
DTSTART:20200329T030000
RDATE:20201025T020000
TZOFFSETFROM:+0100
TZOFFSETTO:+0200
TZNAME:Europe/Berlin CEST
END:DAYLIGHT
BEGIN:DAYLIGHT
DTSTART:20210328T030000
RDATE:20211031T020000
TZOFFSETFROM:+0100
TZOFFSETTO:+0200
TZNAME:Europe/Berlin CEST
END:DAYLIGHT
BEGIN:DAYLIGHT
DTSTART:20220327T030000
RDATE:20221030T020000
TZOFFSETFROM:+0100
TZOFFSETTO:+0200
TZNAME:Europe/Berlin CEST
END:DAYLIGHT
BEGIN:DAYLIGHT
DTSTART:20230326T030000
RDATE:20231029T020000
TZOFFSETFROM:+0100
TZOFFSETTO:+0200
TZNAME:Europe/Berlin CEST
END:DAYLIGHT
END:VTIMEZONE
BEGIN:VEVENT
UID:0a622c3ba2bccde72da3a0b4510b2cd3
CATEGORIES:Musik
CREATED:20200707T222008
SUMMARY:Promenad op Öcher Platt (Dieter Böse)
LOCATION:Freunder Heideweg 3\, 52078 Aachen
DESCRIPTION;ENCODING=QUOTED-PRINTABLE:Veranstaltung: \n\nPromenad op Öcher Platt (Dieter Böse)\nKünstler: \n\nDie
 ter Böse\n\nOrt: Freunder Heideweg 3\n52078 Aachen   Termin: 12.09.2020Begi
 nn: 19:00 UhrEnde: ca. 20:30 Uhr(Einlass:) ca. 18.30 Uhr   Kosten: ? €Eintr
 itt: Vorverkauf z. B. Ticket RegionalVeranstalter: siehe offizielle Bekannt
 gabe weitere Infos zum Termin: https://www.theater-brand.de/   \n\nAnmerkun
 gen: (Alle Angaben ohne Gewähr)\n*1: abweichende Einlasszeiten sind (soweit
  bekannt) angegeben.\n*2: Eintrittskarte pro Person, Ermäßigungen bitte bei
 m Veranstalter erfragen\n\n
CONTACT:190000221
DTSTAMP:20260419T154552Z
DTSTART;TZID=Europe/Berlin:20200912T190000
DTEND;TZID=Europe/Berlin:20200912T210000
SEQUENCE:0
TRANSP:OPAQUE
END:VEVENT
END:VCALENDAR