BEGIN:VCALENDAR
VERSION:2.0
PRODID:-//jEvents 2.0 for Joomla//EN
CALSCALE:GREGORIAN
METHOD:PUBLISH
BEGIN:VTIMEZONE
TZID:Europe/Berlin
BEGIN:STANDARD
DTSTART:20191027T020000
RDATE:20200329T030000
TZOFFSETFROM:+0200
TZOFFSETTO:+0100
TZNAME:Europe/Berlin CET
END:STANDARD
BEGIN:STANDARD
DTSTART:20201025T020000
RDATE:20210328T030000
TZOFFSETFROM:+0200
TZOFFSETTO:+0100
TZNAME:Europe/Berlin CET
END:STANDARD
BEGIN:STANDARD
DTSTART:20211031T020000
RDATE:20220327T030000
TZOFFSETFROM:+0200
TZOFFSETTO:+0100
TZNAME:Europe/Berlin CET
END:STANDARD
BEGIN:STANDARD
DTSTART:20221030T020000
RDATE:20230326T030000
TZOFFSETFROM:+0200
TZOFFSETTO:+0100
TZNAME:Europe/Berlin CET
END:STANDARD
BEGIN:STANDARD
DTSTART:20231029T020000
RDATE:20240331T030000
TZOFFSETFROM:+0200
TZOFFSETTO:+0100
TZNAME:Europe/Berlin CET
END:STANDARD
BEGIN:DAYLIGHT
DTSTART:20190908T193000
RDATE:20191027T020000
TZOFFSETFROM:+0100
TZOFFSETTO:+0200
TZNAME:Europe/Berlin CEST
END:DAYLIGHT
BEGIN:DAYLIGHT
DTSTART:20200329T030000
RDATE:20201025T020000
TZOFFSETFROM:+0100
TZOFFSETTO:+0200
TZNAME:Europe/Berlin CEST
END:DAYLIGHT
BEGIN:DAYLIGHT
DTSTART:20210328T030000
RDATE:20211031T020000
TZOFFSETFROM:+0100
TZOFFSETTO:+0200
TZNAME:Europe/Berlin CEST
END:DAYLIGHT
BEGIN:DAYLIGHT
DTSTART:20220327T030000
RDATE:20221030T020000
TZOFFSETFROM:+0100
TZOFFSETTO:+0200
TZNAME:Europe/Berlin CEST
END:DAYLIGHT
BEGIN:DAYLIGHT
DTSTART:20230326T030000
RDATE:20231029T020000
TZOFFSETFROM:+0100
TZOFFSETTO:+0200
TZNAME:Europe/Berlin CEST
END:DAYLIGHT
END:VTIMEZONE
BEGIN:VEVENT
UID:6defa227a7bb3f2f059fe259aedf59e2
CATEGORIES:Musik
CREATED:20200708T223039
SUMMARY:Höhner 2020 auf Burg Wilhelmstein
LOCATION:An Wilhelmstein\, 52146 Würselen\, Deutschland
DESCRIPTION;ENCODING=QUOTED-PRINTABLE: Veranstaltung: Höhner auf Burg Wilhelmstein\nKünstler: \n\nHöhner\nOrt: Fr
 eilichtbühne, \nAn Wilhelmstein, \n52146 Würselen   Termin: 08.09.2020Begin
 n: 19:30 UhrEnde: ca. 22:00 Uhr(Einlass:) \n\nca. 1,5h vor Beginn\n\n\n(Nac
 h dem Soundcheck)\n   Kosten: ?,- € (pro Person) *2Eintritt: \n\n\nTickets:
 \nName,\nStraße\nPLZ Ort\n\n\nName,\nStraße\nPLZ Ort\nTel: XXXX XXXX\n\n\nV
 eranstalter: Au Ülle (Senatoren)\n\nInfo: Dies ist ein Zusatzkonzert mit ne
 uen Tickets. Die Tickets vom "verschobenen Termin von 2020 auf 2021 behalte
 n weiterhin ihre Gültigkeit und sind nicht übertragbar"! weitere Infos zum 
 Termin auf: https://www.auuelle.de/aktuelles.html \n\nAnmerkungen: (Alle An
 gaben ohne Gewähr)\n*1: abweichende Einlasszeiten sind (soweit bekannt) ang
 egeben.\n*2: Eintrittskarte pro Person, Ermäßigungen bitte beim Veranstalte
 r erfragen\n\n\n\n \n
CONTACT:190000211
DTSTAMP:20260419T141903Z
DTSTART;TZID=Europe/Berlin:20200908T193000
SEQUENCE:0
TRANSP:OPAQUE
END:VEVENT
END:VCALENDAR