BEGIN:VCALENDAR
VERSION:2.0
PRODID:-//jEvents 2.0 for Joomla//EN
CALSCALE:GREGORIAN
METHOD:PUBLISH
BEGIN:VTIMEZONE
TZID:Europe/Berlin
BEGIN:STANDARD
DTSTART:20191027T020000
RDATE:20200329T030000
TZOFFSETFROM:+0200
TZOFFSETTO:+0100
TZNAME:Europe/Berlin CET
END:STANDARD
BEGIN:STANDARD
DTSTART:20201025T020000
RDATE:20210328T030000
TZOFFSETFROM:+0200
TZOFFSETTO:+0100
TZNAME:Europe/Berlin CET
END:STANDARD
BEGIN:STANDARD
DTSTART:20211031T020000
RDATE:20220327T030000
TZOFFSETFROM:+0200
TZOFFSETTO:+0100
TZNAME:Europe/Berlin CET
END:STANDARD
BEGIN:STANDARD
DTSTART:20221030T020000
RDATE:20230326T030000
TZOFFSETFROM:+0200
TZOFFSETTO:+0100
TZNAME:Europe/Berlin CET
END:STANDARD
BEGIN:STANDARD
DTSTART:20231029T020000
RDATE:20240331T030000
TZOFFSETFROM:+0200
TZOFFSETTO:+0100
TZNAME:Europe/Berlin CET
END:STANDARD
BEGIN:DAYLIGHT
DTSTART:20190725T190000
RDATE:20191027T020000
TZOFFSETFROM:+0100
TZOFFSETTO:+0200
TZNAME:Europe/Berlin CEST
END:DAYLIGHT
BEGIN:DAYLIGHT
DTSTART:20200329T030000
RDATE:20201025T020000
TZOFFSETFROM:+0100
TZOFFSETTO:+0200
TZNAME:Europe/Berlin CEST
END:DAYLIGHT
BEGIN:DAYLIGHT
DTSTART:20210328T030000
RDATE:20211031T020000
TZOFFSETFROM:+0100
TZOFFSETTO:+0200
TZNAME:Europe/Berlin CEST
END:DAYLIGHT
BEGIN:DAYLIGHT
DTSTART:20220327T030000
RDATE:20221030T020000
TZOFFSETFROM:+0100
TZOFFSETTO:+0200
TZNAME:Europe/Berlin CEST
END:DAYLIGHT
BEGIN:DAYLIGHT
DTSTART:20230326T030000
RDATE:20231029T020000
TZOFFSETFROM:+0100
TZOFFSETTO:+0200
TZNAME:Europe/Berlin CEST
END:DAYLIGHT
END:VTIMEZONE
BEGIN:VEVENT
UID:26bb5d2f722486cd90c53cf605c41881
CATEGORIES:Musik
CREATED:20200717T152402
SUMMARY:Öcher Ovvend op d'r (TS)CHIO Sommerjaade (Dieter Böse)
LOCATION:Albert-Servais-Allee 50\, 52070 Aachen
DESCRIPTION;ENCODING=QUOTED-PRINTABLE:



Veranstaltung:
&nbsp;

\n\n&Ouml;cher Ovvend op d'r (TS)CHIO Sommerjaad
 e (Dieter B&ouml;se ...)\n



K&uuml;nstler:
&nbsp;

\n\nB&ouml;se mal Ande
 rs, Jupp Ebert, Dieter Kaspari &auml;n de Night Wiever\n\n



Ort:
&nbsp;


 \n\nAlbert-Servais-Allee 50\n52070 Aachen\n



&nbsp;
&nbsp;
&nbsp;


Termi
 n:
&nbsp;
25.07.2020


Beginn:
&nbsp;
19:00 Uhr


Ende:
&nbsp;
ca. 19:30 Uh
 r


(Einlass:)
&nbsp;
ca. 18.30 Uhr


&nbsp;
&nbsp;
&nbsp;


Kosten:
&nbsp;
 
Eintritt frei


Eintritt:
&nbsp;
-


Veranstalter:
&nbsp;
siehe offizielle
  Bekanntgabe




&nbsp;
weitere Infos zum Termin:
&nbsp;
&nbsp;
&nbsp;

\n\
 nAnmerkungen: (Alle Angaben ohne Gew&auml;hr)\n*1: abweichende Einlasszeite
 n sind (soweit bekannt) angegeben.\n*2: Eintrittskarte pro Person, Erm&auml
 ;&szlig;igungen bitte beim Veranstalter erfragen\n\n

CONTACT:190000221
DTSTAMP:20260420T202819Z
DTSTART;TZID=Europe/Berlin:20200725T190000
SEQUENCE:0
TRANSP:OPAQUE
END:VEVENT
END:VCALENDAR