BEGIN:VCALENDAR
VERSION:2.0
PRODID:-//jEvents 2.0 for Joomla//EN
CALSCALE:GREGORIAN
METHOD:PUBLISH
BEGIN:VTIMEZONE
TZID:Europe/Berlin
BEGIN:STANDARD
DTSTART:20171030T190000
RDATE:20180325T030000
TZOFFSETFROM:+0200
TZOFFSETTO:+0100
TZNAME:Europe/Berlin CET
END:STANDARD
BEGIN:STANDARD
DTSTART:20181028T020000
RDATE:20190331T030000
TZOFFSETFROM:+0200
TZOFFSETTO:+0100
TZNAME:Europe/Berlin CET
END:STANDARD
BEGIN:STANDARD
DTSTART:20191027T020000
RDATE:20200329T030000
TZOFFSETFROM:+0200
TZOFFSETTO:+0100
TZNAME:Europe/Berlin CET
END:STANDARD
BEGIN:STANDARD
DTSTART:20201025T020000
RDATE:20210328T030000
TZOFFSETFROM:+0200
TZOFFSETTO:+0100
TZNAME:Europe/Berlin CET
END:STANDARD
BEGIN:STANDARD
DTSTART:20211031T020000
RDATE:20220327T030000
TZOFFSETFROM:+0200
TZOFFSETTO:+0100
TZNAME:Europe/Berlin CET
END:STANDARD
BEGIN:STANDARD
DTSTART:20221030T020000
RDATE:20230326T030000
TZOFFSETFROM:+0200
TZOFFSETTO:+0100
TZNAME:Europe/Berlin CET
END:STANDARD
BEGIN:STANDARD
DTSTART:20231029T020000
RDATE:20240331T030000
TZOFFSETFROM:+0200
TZOFFSETTO:+0100
TZNAME:Europe/Berlin CET
END:STANDARD
BEGIN:DAYLIGHT
DTSTART:20180325T030000
RDATE:20181028T020000
TZOFFSETFROM:+0100
TZOFFSETTO:+0200
TZNAME:Europe/Berlin CEST
END:DAYLIGHT
BEGIN:DAYLIGHT
DTSTART:20190331T030000
RDATE:20191027T020000
TZOFFSETFROM:+0100
TZOFFSETTO:+0200
TZNAME:Europe/Berlin CEST
END:DAYLIGHT
BEGIN:DAYLIGHT
DTSTART:20200329T030000
RDATE:20201025T020000
TZOFFSETFROM:+0100
TZOFFSETTO:+0200
TZNAME:Europe/Berlin CEST
END:DAYLIGHT
BEGIN:DAYLIGHT
DTSTART:20210328T030000
RDATE:20211031T020000
TZOFFSETFROM:+0100
TZOFFSETTO:+0200
TZNAME:Europe/Berlin CEST
END:DAYLIGHT
BEGIN:DAYLIGHT
DTSTART:20220327T030000
RDATE:20221030T020000
TZOFFSETFROM:+0100
TZOFFSETTO:+0200
TZNAME:Europe/Berlin CEST
END:DAYLIGHT
BEGIN:DAYLIGHT
DTSTART:20230326T030000
RDATE:20231029T020000
TZOFFSETFROM:+0100
TZOFFSETTO:+0200
TZNAME:Europe/Berlin CEST
END:DAYLIGHT
END:VTIMEZONE
BEGIN:VEVENT
UID:df3c9c1a4bc90e3d9165869fd6d8586a
CATEGORIES:Musik
CREATED:20170824T090311
SUMMARY:Lennet Kann - Das Musical Teil II - Premiere (Eurogress)
DESCRIPTION;ENCODING=QUOTED-PRINTABLE:Veranstaltung: Lennet Kann - Das Musical Teil II - PremiereKünstler: \n\nKu
 rt Joußen (Lennet Kann) - uvm.\n\nOrt: Eurogress Aachen, Brüssel-Saal\nMonh
 eimsallee 48, \n52062 Aachen   Termin: 31.10.2018 - MI (Premiere)Beginn: 19
 :00 UhrEnde: ca. 22:00 Uhr(Einlass:) ca. 30-60 Minuten vor Beginn *1   Kost
 en: 28,00 €Eintritt: Vorverkauf \n(http://www.lkdm.de/#Ankername)Veranstalt
 er: siehe offizielle Bekanntgabe\n(Theater- und Konzertverein Aachen e.V.) 
 wijjere Enfermatziuene op:\n\n-&gt; http://www.lkdm.de\n\n\n-&gt; http://ww
 w.eurogress-aachen.de/de/events-details/event,233509073ed3432027d48b1a83f5f
 bd2\n\n\n-&gt; http://www.aachener-zeitung.de/lokales/aachen/reihenweise-oe
 cher-originale-auf-der-buehne-1.1183477\n\n\n \n\n\nAnmerkungen: (Alle Anga
 ben ohne Gewähr)\n*1: abweichende Einlasszeiten sind (soweit bekannt) angeg
 eben.\n*2: Eintrittskarte pro Person, Ermäßigungen bitte beim Veranstalter 
 erfragen\n\n\n\n \n\n\n \n
DTSTAMP:20260421T212924Z
DTSTART;TZID=Europe/Berlin:20181031T190000
SEQUENCE:0
TRANSP:OPAQUE
END:VEVENT
END:VCALENDAR