BEGIN:VCALENDAR
VERSION:2.0
PRODID:-//jEvents 2.0 for Joomla//EN
CALSCALE:GREGORIAN
METHOD:PUBLISH
BEGIN:VTIMEZONE
TZID:Europe/Berlin
BEGIN:STANDARD
DTSTART:20171029T020000
RDATE:20180325T030000
TZOFFSETFROM:+0200
TZOFFSETTO:+0100
TZNAME:Europe/Berlin CET
END:STANDARD
BEGIN:STANDARD
DTSTART:20181028T020000
RDATE:20190331T030000
TZOFFSETFROM:+0200
TZOFFSETTO:+0100
TZNAME:Europe/Berlin CET
END:STANDARD
BEGIN:STANDARD
DTSTART:20191027T020000
RDATE:20200329T030000
TZOFFSETFROM:+0200
TZOFFSETTO:+0100
TZNAME:Europe/Berlin CET
END:STANDARD
BEGIN:STANDARD
DTSTART:20201025T020000
RDATE:20210328T030000
TZOFFSETFROM:+0200
TZOFFSETTO:+0100
TZNAME:Europe/Berlin CET
END:STANDARD
BEGIN:STANDARD
DTSTART:20211031T020000
RDATE:20220327T030000
TZOFFSETFROM:+0200
TZOFFSETTO:+0100
TZNAME:Europe/Berlin CET
END:STANDARD
BEGIN:STANDARD
DTSTART:20221030T020000
RDATE:20230326T030000
TZOFFSETFROM:+0200
TZOFFSETTO:+0100
TZNAME:Europe/Berlin CET
END:STANDARD
BEGIN:STANDARD
DTSTART:20231029T020000
RDATE:20240331T030000
TZOFFSETFROM:+0200
TZOFFSETTO:+0100
TZNAME:Europe/Berlin CET
END:STANDARD
BEGIN:DAYLIGHT
DTSTART:20171002T160000
RDATE:20171029T020000
TZOFFSETFROM:+0100
TZOFFSETTO:+0200
TZNAME:Europe/Berlin CEST
END:DAYLIGHT
BEGIN:DAYLIGHT
DTSTART:20180325T030000
RDATE:20181028T020000
TZOFFSETFROM:+0100
TZOFFSETTO:+0200
TZNAME:Europe/Berlin CEST
END:DAYLIGHT
BEGIN:DAYLIGHT
DTSTART:20190331T030000
RDATE:20191027T020000
TZOFFSETFROM:+0100
TZOFFSETTO:+0200
TZNAME:Europe/Berlin CEST
END:DAYLIGHT
BEGIN:DAYLIGHT
DTSTART:20200329T030000
RDATE:20201025T020000
TZOFFSETFROM:+0100
TZOFFSETTO:+0200
TZNAME:Europe/Berlin CEST
END:DAYLIGHT
BEGIN:DAYLIGHT
DTSTART:20210328T030000
RDATE:20211031T020000
TZOFFSETFROM:+0100
TZOFFSETTO:+0200
TZNAME:Europe/Berlin CEST
END:DAYLIGHT
BEGIN:DAYLIGHT
DTSTART:20220327T030000
RDATE:20221030T020000
TZOFFSETFROM:+0100
TZOFFSETTO:+0200
TZNAME:Europe/Berlin CEST
END:DAYLIGHT
BEGIN:DAYLIGHT
DTSTART:20230326T030000
RDATE:20231029T020000
TZOFFSETFROM:+0100
TZOFFSETTO:+0200
TZNAME:Europe/Berlin CEST
END:DAYLIGHT
END:VTIMEZONE
BEGIN:VEVENT
UID:e453f851693b37542d106d7a378913bc
CATEGORIES:Theater
CREATED:20180306T133444
SUMMARY:För d'r Laach 3 - Et hüürt net op wieh ze doe (Theater Brand)
DESCRIPTION;ENCODING=QUOTED-PRINTABLE:Veranstaltung: \n\nFör d'r Laach 3 - Et hüürt net op wieh ze doe\nKünstler:
  \n\nTheater Brand\nOrt: Freunder Heideweg 3\n52078 Aachen   Termin: 03.10.
 2018Beginn: 16:00 UhrEnde: ca. 18.00 Uhr(Einlass:) ca. 15.30 Uhr   Kosten: 
 ab ca. 15,00€Eintritt: Vorbestellung oder TageskasseVeranstalter: siehe off
 izielle Bekanntgabe weitere Infos zum Termin: http://www.theater-brand.de/l
 aach.html Altersempfehlung: ab 14 Jahre \n\nAnmerkungen: (Alle Angaben ohne
  Gewähr)\n*1: abweichende Einlasszeiten sind (soweit bekannt) angegeben.\n*
 2: Eintrittskarte pro Person, Ermäßigungen bitte beim Veranstalter erfragen
 \n\n
X-EXTRAINFO:https://www.ticket-regional.de/events.php?mysearchEventtype=Theaterfreunde+
 Brand+1903
DTSTAMP:20260421T212933Z
DTSTART;TZID=Europe/Berlin:20181003T160000
DTEND;TZID=Europe/Berlin:20181003T180000
SEQUENCE:0
TRANSP:OPAQUE
END:VEVENT
END:VCALENDAR