BEGIN:VCALENDAR
VERSION:2.0
PRODID:-//jEvents 2.0 for Joomla//EN
CALSCALE:GREGORIAN
METHOD:PUBLISH
BEGIN:VTIMEZONE
TZID:Europe/Berlin
BEGIN:STANDARD
DTSTART:20181028T020000
RDATE:20190331T030000
TZOFFSETFROM:+0200
TZOFFSETTO:+0100
TZNAME:Europe/Berlin CET
END:STANDARD
BEGIN:STANDARD
DTSTART:20191027T020000
RDATE:20200329T030000
TZOFFSETFROM:+0200
TZOFFSETTO:+0100
TZNAME:Europe/Berlin CET
END:STANDARD
BEGIN:STANDARD
DTSTART:20201025T020000
RDATE:20210328T030000
TZOFFSETFROM:+0200
TZOFFSETTO:+0100
TZNAME:Europe/Berlin CET
END:STANDARD
BEGIN:STANDARD
DTSTART:20211031T020000
RDATE:20220327T030000
TZOFFSETFROM:+0200
TZOFFSETTO:+0100
TZNAME:Europe/Berlin CET
END:STANDARD
BEGIN:STANDARD
DTSTART:20221030T020000
RDATE:20230326T030000
TZOFFSETFROM:+0200
TZOFFSETTO:+0100
TZNAME:Europe/Berlin CET
END:STANDARD
BEGIN:STANDARD
DTSTART:20231029T020000
RDATE:20240331T030000
TZOFFSETFROM:+0200
TZOFFSETTO:+0100
TZNAME:Europe/Berlin CET
END:STANDARD
BEGIN:DAYLIGHT
DTSTART:20180501T193000
RDATE:20181028T020000
TZOFFSETFROM:+0100
TZOFFSETTO:+0200
TZNAME:Europe/Berlin CEST
END:DAYLIGHT
BEGIN:DAYLIGHT
DTSTART:20190331T030000
RDATE:20191027T020000
TZOFFSETFROM:+0100
TZOFFSETTO:+0200
TZNAME:Europe/Berlin CEST
END:DAYLIGHT
BEGIN:DAYLIGHT
DTSTART:20200329T030000
RDATE:20201025T020000
TZOFFSETFROM:+0100
TZOFFSETTO:+0200
TZNAME:Europe/Berlin CEST
END:DAYLIGHT
BEGIN:DAYLIGHT
DTSTART:20210328T030000
RDATE:20211031T020000
TZOFFSETFROM:+0100
TZOFFSETTO:+0200
TZNAME:Europe/Berlin CEST
END:DAYLIGHT
BEGIN:DAYLIGHT
DTSTART:20220327T030000
RDATE:20221030T020000
TZOFFSETFROM:+0100
TZOFFSETTO:+0200
TZNAME:Europe/Berlin CEST
END:DAYLIGHT
BEGIN:DAYLIGHT
DTSTART:20230326T030000
RDATE:20231029T020000
TZOFFSETFROM:+0100
TZOFFSETTO:+0200
TZNAME:Europe/Berlin CEST
END:DAYLIGHT
END:VTIMEZONE
BEGIN:VEVENT
UID:603d8ba86b647dba235e9739266fcf94
CATEGORIES:Theater
CREATED:20180901T141922
SUMMARY:De Fraulü vajjene Maat (Öcher Schängche)
LOCATION:Stadtpuppenbühne Öcher Schängche Barockfabrik\, Löhergraben 22\, 52064 Aach
 en
DESCRIPTION;ENCODING=QUOTED-PRINTABLE:Veranstaltung: \n\nDe Fraulü vajjene Maat\n(Öcher Schängchen)\nvon Hein Jan
 ssen\nKünstler: \n\nÖcher Schängchen, Nieres u. v. m.\n(Traditionelle Stock
 puppenbühne)\n\nOrt: \n\nStadtpuppenbühne Öcher Schängche\nBarockfabrik, Lö
 hergraben 22, 52064 Aachen\n   Termin: 02.05.2019Beginn: 19:30 UhrEnde: unb
 ekannt(Einlass:) 19:00 Uhr   Kosten: ca. 3 bzw. 5 € (Kinder / Erwachsenen) 
 pro Karte \n(ermäßigt 2 bzw. 3 €) *2Eintritt: TageskasseVeranstalter: siehe
  offizielle Bekanntgabe weitere Infos zum Termin:\n\nDer Anteil der Sprache
  "Öcher Platt" ist bei den Erwachsenenstücken mit ca. 60% (je nach Stück) h
 öher als bei den Kinderstücken. Die Handlung kann aber durchaus anhand des 
 Schauspiels nachvollzogen werden.\n\n\n\n\n\n\nAnmerkungen: (Alle Angaben o
 hne Gewähr)\n*1: abweichende Einlasszeiten sind (soweit bekannt) angegeben.
 \n*2: Eintrittskarte pro Person, Ermäßigungen bitte beim Veranstalter erfra
 gen\n\n\n\n \n\n\nInfos zum Termin auf: http://www.aachen.de/de/kultur_frei
 zeit/kultur/theater/puppenbuehne/index.html\n\n\nbzw. http://www.oecher-sch
 aengche.de/\n\n\n \n\n\n \n\n\nAnmerkungen:\n\n\nAlle Angaben ohne Gewähr\n
DTSTAMP:20260424T155933Z
DTSTART;TZID=Europe/Berlin:20190502T193000
DTEND;TZID=Europe/Berlin:20190502T213000
SEQUENCE:0
TRANSP:OPAQUE
END:VEVENT
END:VCALENDAR