BEGIN:VCALENDAR
VERSION:2.0
PRODID:-//jEvents 2.0 for Joomla//EN
CALSCALE:GREGORIAN
METHOD:PUBLISH
BEGIN:VTIMEZONE
TZID:Europe/Berlin
BEGIN:STANDARD
DTSTART:20181028T020000
RDATE:20190331T030000
TZOFFSETFROM:+0200
TZOFFSETTO:+0100
TZNAME:Europe/Berlin CET
END:STANDARD
BEGIN:STANDARD
DTSTART:20191027T020000
RDATE:20200329T030000
TZOFFSETFROM:+0200
TZOFFSETTO:+0100
TZNAME:Europe/Berlin CET
END:STANDARD
BEGIN:STANDARD
DTSTART:20201025T020000
RDATE:20210328T030000
TZOFFSETFROM:+0200
TZOFFSETTO:+0100
TZNAME:Europe/Berlin CET
END:STANDARD
BEGIN:STANDARD
DTSTART:20211031T020000
RDATE:20220327T030000
TZOFFSETFROM:+0200
TZOFFSETTO:+0100
TZNAME:Europe/Berlin CET
END:STANDARD
BEGIN:STANDARD
DTSTART:20221030T020000
RDATE:20230326T030000
TZOFFSETFROM:+0200
TZOFFSETTO:+0100
TZNAME:Europe/Berlin CET
END:STANDARD
BEGIN:STANDARD
DTSTART:20231029T020000
RDATE:20240331T030000
TZOFFSETFROM:+0200
TZOFFSETTO:+0100
TZNAME:Europe/Berlin CET
END:STANDARD
BEGIN:DAYLIGHT
DTSTART:20180509T000000
RDATE:20181028T020000
TZOFFSETFROM:+0100
TZOFFSETTO:+0200
TZNAME:Europe/Berlin CEST
END:DAYLIGHT
BEGIN:DAYLIGHT
DTSTART:20190331T030000
RDATE:20191027T020000
TZOFFSETFROM:+0100
TZOFFSETTO:+0200
TZNAME:Europe/Berlin CEST
END:DAYLIGHT
BEGIN:DAYLIGHT
DTSTART:20200329T030000
RDATE:20201025T020000
TZOFFSETFROM:+0100
TZOFFSETTO:+0200
TZNAME:Europe/Berlin CEST
END:DAYLIGHT
BEGIN:DAYLIGHT
DTSTART:20210328T030000
RDATE:20211031T020000
TZOFFSETFROM:+0100
TZOFFSETTO:+0200
TZNAME:Europe/Berlin CEST
END:DAYLIGHT
BEGIN:DAYLIGHT
DTSTART:20220327T030000
RDATE:20221030T020000
TZOFFSETFROM:+0100
TZOFFSETTO:+0200
TZNAME:Europe/Berlin CEST
END:DAYLIGHT
BEGIN:DAYLIGHT
DTSTART:20230326T030000
RDATE:20231029T020000
TZOFFSETFROM:+0100
TZOFFSETTO:+0200
TZNAME:Europe/Berlin CEST
END:DAYLIGHT
END:VTIMEZONE
BEGIN:VEVENT
UID:feb3eea4fa8fe2753d44df2cafee0b8d
CATEGORIES:För os Kenger
CREATED:20180911T184542
SUMMARY:Wahl des Streuengelchens 2019
LOCATION:Im Jakobushaus\, Jakobstraße 143\, 52064 Aachen
DESCRIPTION;ENCODING=QUOTED-PRINTABLE:Veranstaltung: Wahl des Streuengelchens 2019Künstler: \n\nMitglieder des Ve
 reins\n\nOrt: Im Jakobushaus, Jakobstraße 143, 52064 Aachen   Termin: 10.05
 .2019Beginn: 18 Uhr\nEnde: ca. 19 Uhr(Einlass:) ca. 30-60 Minuten vor Begin
 n *1   Kosten: Eintritt freiEintritt: nur VereinsmitgliederVeranstalter: si
 ehe offizielle Bekanntgabe weitere Infos zum Termin auf: http://streuengelc
 he.de/pages/termine.php\n\noder http://streuengelche.de/pages/neuigkeiten.p
 hp \n\n\nAnmerkungen: (Alle Angaben ohne Gewähr)\n*1: abweichende Einlassze
 iten sind (soweit bekannt) angegeben.\n*2: Eintrittskarte pro Person, Ermäß
 igungen bitte beim Veranstalter erfragen\n\n
DTSTAMP:20260424T143744Z
DTSTART;TZID=Europe/Berlin;VALUE=DATE:20190510
DTEND;TZID=Europe/Berlin;VALUE=DATE:20190511
SEQUENCE:0
TRANSP:OPAQUE
END:VEVENT
END:VCALENDAR