BEGIN:VCALENDAR
VERSION:2.0
PRODID:-//jEvents 2.0 for Joomla//EN
CALSCALE:GREGORIAN
METHOD:PUBLISH
BEGIN:VTIMEZONE
TZID:Europe/Berlin
BEGIN:STANDARD
DTSTART:20181028T020000
RDATE:20190331T030000
TZOFFSETFROM:+0200
TZOFFSETTO:+0100
TZNAME:Europe/Berlin CET
END:STANDARD
BEGIN:STANDARD
DTSTART:20191027T020000
RDATE:20200329T030000
TZOFFSETFROM:+0200
TZOFFSETTO:+0100
TZNAME:Europe/Berlin CET
END:STANDARD
BEGIN:STANDARD
DTSTART:20201025T020000
RDATE:20210328T030000
TZOFFSETFROM:+0200
TZOFFSETTO:+0100
TZNAME:Europe/Berlin CET
END:STANDARD
BEGIN:STANDARD
DTSTART:20211031T020000
RDATE:20220327T030000
TZOFFSETFROM:+0200
TZOFFSETTO:+0100
TZNAME:Europe/Berlin CET
END:STANDARD
BEGIN:STANDARD
DTSTART:20221030T020000
RDATE:20230326T030000
TZOFFSETFROM:+0200
TZOFFSETTO:+0100
TZNAME:Europe/Berlin CET
END:STANDARD
BEGIN:STANDARD
DTSTART:20231029T020000
RDATE:20240331T030000
TZOFFSETFROM:+0200
TZOFFSETTO:+0100
TZNAME:Europe/Berlin CET
END:STANDARD
BEGIN:DAYLIGHT
DTSTART:20180926T200000
RDATE:20181028T020000
TZOFFSETFROM:+0100
TZOFFSETTO:+0200
TZNAME:Europe/Berlin CEST
END:DAYLIGHT
BEGIN:DAYLIGHT
DTSTART:20190331T030000
RDATE:20191027T020000
TZOFFSETFROM:+0100
TZOFFSETTO:+0200
TZNAME:Europe/Berlin CEST
END:DAYLIGHT
BEGIN:DAYLIGHT
DTSTART:20200329T030000
RDATE:20201025T020000
TZOFFSETFROM:+0100
TZOFFSETTO:+0200
TZNAME:Europe/Berlin CEST
END:DAYLIGHT
BEGIN:DAYLIGHT
DTSTART:20210328T030000
RDATE:20211031T020000
TZOFFSETFROM:+0100
TZOFFSETTO:+0200
TZNAME:Europe/Berlin CEST
END:DAYLIGHT
BEGIN:DAYLIGHT
DTSTART:20220327T030000
RDATE:20221030T020000
TZOFFSETFROM:+0100
TZOFFSETTO:+0200
TZNAME:Europe/Berlin CEST
END:DAYLIGHT
BEGIN:DAYLIGHT
DTSTART:20230326T030000
RDATE:20231029T020000
TZOFFSETFROM:+0100
TZOFFSETTO:+0200
TZNAME:Europe/Berlin CEST
END:DAYLIGHT
END:VTIMEZONE
BEGIN:VEVENT
UID:7fb3b2fbe1e91d7a0bbef5de3640f300
CATEGORIES:Kabarett
CREATED:20181019T071408
SUMMARY:4. Öcher Comedy Night (Hoppla - Das Duo)
LOCATION:Saalbau Rothe Erde\, Kappertzhölle\, Hüttenstraße 45-47\, 52068 Aachen
DESCRIPTION;ENCODING=QUOTED-PRINTABLE:Veranstaltung: 4. Öcher Comedy Night\n Künstler: \n\nu. a. Hoppla - das Duo
 \n\n\n\nSolo für 2\n Ort: Saalbau Rothe Erde, Kappertzhölle, \nHüttenstraße
  45-47, \n52068 Aachen     Termin: 27.09.2019 Beginn: 20:00 Uhr Ende: unbek
 annt (Einlass:) ca. 19.00 Uhr *1     Kosten: ?,- € (pro Person) *2 Eintritt
 : \nmit Kartenvorverkauf\n(in der Buchhandlung in Aachen oder Online)\n\n V
 eranstalter:    weitere Infos zum Termin auf:http://www.hoppla-dasduo.de/#x
 l_xr_page_termine \n\nAnmerkungen: (Alle Angaben ohne Gewähr)\n*1: abweiche
 nde Einlasszeiten sind (soweit bekannt) angegeben.\n*2: Eintrittskarte pro 
 Person, Ermäßigungen bitte beim Veranstalter erfragen\n\n\n\n \n
CONTACT:190000229
DTSTAMP:20260419T204533Z
DTSTART;TZID=Europe/Berlin:20190927T200000
SEQUENCE:0
TRANSP:OPAQUE
END:VEVENT
END:VCALENDAR