BEGIN:VCALENDAR
VERSION:2.0
PRODID:-//jEvents 2.0 for Joomla//EN
CALSCALE:GREGORIAN
METHOD:PUBLISH
BEGIN:VTIMEZONE
TZID:Europe/Berlin
BEGIN:STANDARD
DTSTART:20181028T020000
RDATE:20190331T030000
TZOFFSETFROM:+0200
TZOFFSETTO:+0100
TZNAME:Europe/Berlin CET
END:STANDARD
BEGIN:STANDARD
DTSTART:20191027T020000
RDATE:20200329T030000
TZOFFSETFROM:+0200
TZOFFSETTO:+0100
TZNAME:Europe/Berlin CET
END:STANDARD
BEGIN:STANDARD
DTSTART:20201025T020000
RDATE:20210328T030000
TZOFFSETFROM:+0200
TZOFFSETTO:+0100
TZNAME:Europe/Berlin CET
END:STANDARD
BEGIN:STANDARD
DTSTART:20211031T020000
RDATE:20220327T030000
TZOFFSETFROM:+0200
TZOFFSETTO:+0100
TZNAME:Europe/Berlin CET
END:STANDARD
BEGIN:STANDARD
DTSTART:20221030T020000
RDATE:20230326T030000
TZOFFSETFROM:+0200
TZOFFSETTO:+0100
TZNAME:Europe/Berlin CET
END:STANDARD
BEGIN:STANDARD
DTSTART:20231029T020000
RDATE:20240331T030000
TZOFFSETFROM:+0200
TZOFFSETTO:+0100
TZNAME:Europe/Berlin CET
END:STANDARD
BEGIN:DAYLIGHT
DTSTART:20180503T190000
RDATE:20181028T020000
TZOFFSETFROM:+0100
TZOFFSETTO:+0200
TZNAME:Europe/Berlin CEST
END:DAYLIGHT
BEGIN:DAYLIGHT
DTSTART:20190331T030000
RDATE:20191027T020000
TZOFFSETFROM:+0100
TZOFFSETTO:+0200
TZNAME:Europe/Berlin CEST
END:DAYLIGHT
BEGIN:DAYLIGHT
DTSTART:20200329T030000
RDATE:20201025T020000
TZOFFSETFROM:+0100
TZOFFSETTO:+0200
TZNAME:Europe/Berlin CEST
END:DAYLIGHT
BEGIN:DAYLIGHT
DTSTART:20210328T030000
RDATE:20211031T020000
TZOFFSETFROM:+0100
TZOFFSETTO:+0200
TZNAME:Europe/Berlin CEST
END:DAYLIGHT
BEGIN:DAYLIGHT
DTSTART:20220327T030000
RDATE:20221030T020000
TZOFFSETFROM:+0100
TZOFFSETTO:+0200
TZNAME:Europe/Berlin CEST
END:DAYLIGHT
BEGIN:DAYLIGHT
DTSTART:20230326T030000
RDATE:20231029T020000
TZOFFSETFROM:+0100
TZOFFSETTO:+0200
TZNAME:Europe/Berlin CEST
END:DAYLIGHT
END:VTIMEZONE
BEGIN:VEVENT
UID:ff32717716194823782eb1a507385b1a
CATEGORIES:Theater
CREATED:20181101T100954
SUMMARY:Et es för ze fre/äcke (Alt-Aachener-Bühne)
LOCATION:Bürgersaal Roetgen\,  Rosentalstraße 56\, 52159 Roetgen
DESCRIPTION;ENCODING=QUOTED-PRINTABLE:Veranstaltung: \n\nEt es för ze fre/äcke\n\nKünstler: \n\nAlt-Aachener-Bühn
 e e. V.\nOrt: Bürgersaal Roetgen, \nRosentalstraße 56, 52159 Roetgen   Term
 in: 04.05.2019Beginn: 19:00 UhrEnde: ca. 21:30 Uhr(Einlass:) ca. 30 Min. vo
 rher   Kosten: \n\nsiehe Bürgersaal Roetgen\nEintritt: \n\nVVK\nVeranstalte
 r: Alt-Aachener-Bühne 1919 e. V. weitere Infos zum Termin:\n\nhttp://alt-aa
 chener-buehne.de/termine/\n\n\n \n\n\nAnmerkungen: (Alle Angaben ohne Gewäh
 r)\n*1: abweichende Einlasszeiten sind (soweit bekannt) angegeben.\n*2: Ein
 trittskarte pro Person, Ermäßigungen bitte beim Veranstalter erfragen\n\n\n
 \n \n
DTSTAMP:20260424T155933Z
DTSTART;TZID=Europe/Berlin:20190504T190000
DTEND;TZID=Europe/Berlin:20190504T230000
SEQUENCE:0
TRANSP:OPAQUE
END:VEVENT
END:VCALENDAR