BEGIN:VCALENDAR
VERSION:2.0
PRODID:-//jEvents 2.0 for Joomla//EN
CALSCALE:GREGORIAN
METHOD:PUBLISH
BEGIN:VTIMEZONE
TZID:Europe/Berlin
BEGIN:STANDARD
DTSTART:20181028T020000
RDATE:20190331T030000
TZOFFSETFROM:+0200
TZOFFSETTO:+0100
TZNAME:Europe/Berlin CET
END:STANDARD
BEGIN:STANDARD
DTSTART:20191027T020000
RDATE:20200329T030000
TZOFFSETFROM:+0200
TZOFFSETTO:+0100
TZNAME:Europe/Berlin CET
END:STANDARD
BEGIN:STANDARD
DTSTART:20201025T020000
RDATE:20210328T030000
TZOFFSETFROM:+0200
TZOFFSETTO:+0100
TZNAME:Europe/Berlin CET
END:STANDARD
BEGIN:STANDARD
DTSTART:20211031T020000
RDATE:20220327T030000
TZOFFSETFROM:+0200
TZOFFSETTO:+0100
TZNAME:Europe/Berlin CET
END:STANDARD
BEGIN:STANDARD
DTSTART:20221030T020000
RDATE:20230326T030000
TZOFFSETFROM:+0200
TZOFFSETTO:+0100
TZNAME:Europe/Berlin CET
END:STANDARD
BEGIN:STANDARD
DTSTART:20231029T020000
RDATE:20240331T030000
TZOFFSETFROM:+0200
TZOFFSETTO:+0100
TZNAME:Europe/Berlin CET
END:STANDARD
BEGIN:DAYLIGHT
DTSTART:20180621T163000
RDATE:20181028T020000
TZOFFSETFROM:+0100
TZOFFSETTO:+0200
TZNAME:Europe/Berlin CEST
END:DAYLIGHT
BEGIN:DAYLIGHT
DTSTART:20190331T030000
RDATE:20191027T020000
TZOFFSETFROM:+0100
TZOFFSETTO:+0200
TZNAME:Europe/Berlin CEST
END:DAYLIGHT
BEGIN:DAYLIGHT
DTSTART:20200329T030000
RDATE:20201025T020000
TZOFFSETFROM:+0100
TZOFFSETTO:+0200
TZNAME:Europe/Berlin CEST
END:DAYLIGHT
BEGIN:DAYLIGHT
DTSTART:20210328T030000
RDATE:20211031T020000
TZOFFSETFROM:+0100
TZOFFSETTO:+0200
TZNAME:Europe/Berlin CEST
END:DAYLIGHT
BEGIN:DAYLIGHT
DTSTART:20220327T030000
RDATE:20221030T020000
TZOFFSETFROM:+0100
TZOFFSETTO:+0200
TZNAME:Europe/Berlin CEST
END:DAYLIGHT
BEGIN:DAYLIGHT
DTSTART:20230326T030000
RDATE:20231029T020000
TZOFFSETFROM:+0100
TZOFFSETTO:+0200
TZNAME:Europe/Berlin CEST
END:DAYLIGHT
END:VTIMEZONE
BEGIN:VEVENT
UID:8a1dc8940b29cbd4e2b89e6bd59094e1
CATEGORIES:Musik
CREATED:20190314T130029
SUMMARY:Sommerfest der Naturfreunde Merkstein (u. a. met Udo S.)
LOCATION:Naturfreundehaus Merkstein\, Comeniusstr. 9\, 52134 Herzogenrath-Merkstein
DESCRIPTION;ENCODING=QUOTED-PRINTABLE:Veranstaltung: \n\nSommerfest der Naturfreunde Merkstein\n\nu. a. met Udo S
 chroll (16:30 - 17:30 Uhr)\n\nKünstler: \n\nMusikalisch: Udo S.\n\nOrt: \n\
 nNaturfreundehaus Merkstein, \nComeniusstr. 9, \n52134 Herzogenrath-Merkste
 in\n   Termin: 22.06.2019Beginn: 16:30 - 17:30 Uhr (Udo)\nEnde:  (Einlass:)
  ca. 30-60 Min. vor Beginn *1   Kosten: nicht bekannt (Preis pro Person *2)
 Eintritt: -Veranstalter: siehe offizielle Bekanntgabe weitere Infos zum Ter
 min auf: http://www.udo-schroll.de/Termine\n\nAnmerkungen: (Alle Angaben oh
 ne Gewähr)\n*1: abweichende Einlasszeiten sind (soweit bekannt) angegeben.\
 n*2: Eintrittskarte pro Person, Ermäßigungen bitte beim Veranstalter erfrag
 en\n
DTSTAMP:20260424T130311Z
DTSTART;TZID=Europe/Berlin:20190622T163000
DTEND;TZID=Europe/Berlin:20190622T173000
SEQUENCE:0
TRANSP:OPAQUE
END:VEVENT
END:VCALENDAR