BEGIN:VCALENDAR
VERSION:2.0
PRODID:-//jEvents 2.0 for Joomla//EN
CALSCALE:GREGORIAN
METHOD:PUBLISH
BEGIN:VTIMEZONE
TZID:Europe/Berlin
BEGIN:STANDARD
DTSTART:20181215T160000
RDATE:20190331T030000
TZOFFSETFROM:+0200
TZOFFSETTO:+0100
TZNAME:Europe/Berlin CET
END:STANDARD
BEGIN:STANDARD
DTSTART:20191027T020000
RDATE:20200329T030000
TZOFFSETFROM:+0200
TZOFFSETTO:+0100
TZNAME:Europe/Berlin CET
END:STANDARD
BEGIN:STANDARD
DTSTART:20201025T020000
RDATE:20210328T030000
TZOFFSETFROM:+0200
TZOFFSETTO:+0100
TZNAME:Europe/Berlin CET
END:STANDARD
BEGIN:STANDARD
DTSTART:20211031T020000
RDATE:20220327T030000
TZOFFSETFROM:+0200
TZOFFSETTO:+0100
TZNAME:Europe/Berlin CET
END:STANDARD
BEGIN:STANDARD
DTSTART:20221030T020000
RDATE:20230326T030000
TZOFFSETFROM:+0200
TZOFFSETTO:+0100
TZNAME:Europe/Berlin CET
END:STANDARD
BEGIN:STANDARD
DTSTART:20231029T020000
RDATE:20240331T030000
TZOFFSETFROM:+0200
TZOFFSETTO:+0100
TZNAME:Europe/Berlin CET
END:STANDARD
BEGIN:DAYLIGHT
DTSTART:20190331T030000
RDATE:20191027T020000
TZOFFSETFROM:+0100
TZOFFSETTO:+0200
TZNAME:Europe/Berlin CEST
END:DAYLIGHT
BEGIN:DAYLIGHT
DTSTART:20200329T030000
RDATE:20201025T020000
TZOFFSETFROM:+0100
TZOFFSETTO:+0200
TZNAME:Europe/Berlin CEST
END:DAYLIGHT
BEGIN:DAYLIGHT
DTSTART:20210328T030000
RDATE:20211031T020000
TZOFFSETFROM:+0100
TZOFFSETTO:+0200
TZNAME:Europe/Berlin CEST
END:DAYLIGHT
BEGIN:DAYLIGHT
DTSTART:20220327T030000
RDATE:20221030T020000
TZOFFSETFROM:+0100
TZOFFSETTO:+0200
TZNAME:Europe/Berlin CEST
END:DAYLIGHT
BEGIN:DAYLIGHT
DTSTART:20230326T030000
RDATE:20231029T020000
TZOFFSETFROM:+0100
TZOFFSETTO:+0200
TZNAME:Europe/Berlin CEST
END:DAYLIGHT
END:VTIMEZONE
BEGIN:VEVENT
UID:1ddbd67077b10d152f0fd04f161d2160
CATEGORIES:Musik
CREATED:20190314T131043
SUMMARY:Chressmes op Öcher Platt (Waltraud Schings &Udo S.)
LOCATION:Kath. Bücherei\, Markt 5\, 52134 Herzogenrath-Kohlscheid
DESCRIPTION;ENCODING=QUOTED-PRINTABLE:Veranstaltung: \n\nLesung mit Waltraud Schings, musikalisch garniert mit Li
 edern von "Udo S."\nKünstler: \n\nMusikalisch: Udo S.\nLesung: Waltraud Sch
 ings\n\nOrt: \n\nKath. Bücherei, \nMarkt 5, \n52134 Herzogenrath-Kohlscheid
 \n   Termin: 16.12.2019Beginn: 16:00 - 17:30 Uhr (Udo)\nEnde:  (Einlass:) c
 a. 30-60 Min. vor Beginn *1   Kosten: - (Preis pro Person *2)Eintritt: (Spe
 nden für Eintritt) \nKaffee und Kuchen für kleines GeldVeranstalter: siehe 
 offizielle Bekanntgabe weitere Infos zum Termin auf: http://www.udo-schroll
 .de/Termine\n\nAnmerkungen: (Alle Angaben ohne Gewähr)\n*1: abweichende Ein
 lasszeiten sind (soweit bekannt) angegeben.\n*2: Eintrittskarte pro Person,
  Ermäßigungen bitte beim Veranstalter erfragen\n
CONTACT:190000197
DTSTAMP:20260419T173030Z
DTSTART;TZID=Europe/Berlin:20191216T160000
SEQUENCE:0
TRANSP:OPAQUE
END:VEVENT
END:VCALENDAR