BEGIN:VCALENDAR
VERSION:2.0
PRODID:-//jEvents 2.0 for Joomla//EN
CALSCALE:GREGORIAN
METHOD:PUBLISH
BEGIN:VTIMEZONE
TZID:Europe/Berlin
BEGIN:STANDARD
DTSTART:20181028T020000
RDATE:20190331T030000
TZOFFSETFROM:+0200
TZOFFSETTO:+0100
TZNAME:Europe/Berlin CET
END:STANDARD
BEGIN:STANDARD
DTSTART:20191027T020000
RDATE:20200329T030000
TZOFFSETFROM:+0200
TZOFFSETTO:+0100
TZNAME:Europe/Berlin CET
END:STANDARD
BEGIN:STANDARD
DTSTART:20201025T020000
RDATE:20210328T030000
TZOFFSETFROM:+0200
TZOFFSETTO:+0100
TZNAME:Europe/Berlin CET
END:STANDARD
BEGIN:STANDARD
DTSTART:20211031T020000
RDATE:20220327T030000
TZOFFSETFROM:+0200
TZOFFSETTO:+0100
TZNAME:Europe/Berlin CET
END:STANDARD
BEGIN:STANDARD
DTSTART:20221030T020000
RDATE:20230326T030000
TZOFFSETFROM:+0200
TZOFFSETTO:+0100
TZNAME:Europe/Berlin CET
END:STANDARD
BEGIN:STANDARD
DTSTART:20231029T020000
RDATE:20240331T030000
TZOFFSETFROM:+0200
TZOFFSETTO:+0100
TZNAME:Europe/Berlin CET
END:STANDARD
BEGIN:DAYLIGHT
DTSTART:20181012T180000
RDATE:20181028T020000
TZOFFSETFROM:+0100
TZOFFSETTO:+0200
TZNAME:Europe/Berlin CEST
END:DAYLIGHT
BEGIN:DAYLIGHT
DTSTART:20190331T030000
RDATE:20191027T020000
TZOFFSETFROM:+0100
TZOFFSETTO:+0200
TZNAME:Europe/Berlin CEST
END:DAYLIGHT
BEGIN:DAYLIGHT
DTSTART:20200329T030000
RDATE:20201025T020000
TZOFFSETFROM:+0100
TZOFFSETTO:+0200
TZNAME:Europe/Berlin CEST
END:DAYLIGHT
BEGIN:DAYLIGHT
DTSTART:20210328T030000
RDATE:20211031T020000
TZOFFSETFROM:+0100
TZOFFSETTO:+0200
TZNAME:Europe/Berlin CEST
END:DAYLIGHT
BEGIN:DAYLIGHT
DTSTART:20220327T030000
RDATE:20221030T020000
TZOFFSETFROM:+0100
TZOFFSETTO:+0200
TZNAME:Europe/Berlin CEST
END:DAYLIGHT
BEGIN:DAYLIGHT
DTSTART:20230326T030000
RDATE:20231029T020000
TZOFFSETFROM:+0100
TZOFFSETTO:+0200
TZNAME:Europe/Berlin CEST
END:DAYLIGHT
END:VTIMEZONE
BEGIN:VEVENT
UID:1c1e540be1f41e03f03d329421de41ca
CATEGORIES:Theater
CREATED:20190405T080721
SUMMARY:Aue Daach, joue Vermaach - Premiere (Volksbühne Erholungsges. Eilendorf)
LOCATION:Saalbau Rothe Erde\, Kappertzhölle\, Hüttenstraße 45-47\, 52068 Aachen
DESCRIPTION;ENCODING=QUOTED-PRINTABLE:Veranstaltung:Aue Daag, joue Vermaach (Premiere)\nKünstler:\n\nVolksbühne E
 rholungsgesellschaft Eilendorf 1889 e. V.\n\nOrt:Saalbau Rothe Erde, Kapper
 tzhölle, \nHüttenstraße 45-47, \n52068 Aachen  Termin:13.10.2019Beginn:18:0
 0 UhrEnde:ca. 20:30 Uhr(Einlass:)ca. 1h vor Beginn  Kosten:9,- € (pro Perso
 n) *2\n9,- € AbendkasseEintritt:\nTickets:\nSaalbau Kappertz\nHüttenstraße 
 45\n52068 Aachen\nTel: 0241 555708\n\nSchreibwaren Heckers\nSeverinstraße 1
 24\n52080 Aachen\nTel: 0241 9127319\n\nVeranstalter:Volksbühne Erholungsges
 ellschaft \n1889 Eilendorf e.V. weitere Infos zum Termin auf: \nhttps://www
 .erholungsgesellschaft-eilendorf.de/termine.php \n\nAnmerkungen: (Alle Anga
 ben ohne Gewähr)\n*1: abweichende Einlasszeiten sind (soweit bekannt) angeg
 eben.\n*2: Eintrittskarte pro Person, Ermäßigungen bitte beim Veranstalter 
 erfragen\n
CONTACT:190000208
DTSTAMP:20260419T221353Z
DTSTART;TZID=Europe/Berlin:20191013T180000
DTEND;TZID=Europe/Berlin:20191013T210000
SEQUENCE:0
TRANSP:OPAQUE
END:VEVENT
END:VCALENDAR