BEGIN:VCALENDAR
VERSION:2.0
PRODID:-//jEvents 2.0 for Joomla//EN
CALSCALE:GREGORIAN
METHOD:PUBLISH
BEGIN:VTIMEZONE
TZID:Europe/Berlin
BEGIN:STANDARD
DTSTART:20181028T020000
RDATE:20190331T030000
TZOFFSETFROM:+0200
TZOFFSETTO:+0100
TZNAME:Europe/Berlin CET
END:STANDARD
BEGIN:STANDARD
DTSTART:20191027T020000
RDATE:20200329T030000
TZOFFSETFROM:+0200
TZOFFSETTO:+0100
TZNAME:Europe/Berlin CET
END:STANDARD
BEGIN:STANDARD
DTSTART:20201025T020000
RDATE:20210328T030000
TZOFFSETFROM:+0200
TZOFFSETTO:+0100
TZNAME:Europe/Berlin CET
END:STANDARD
BEGIN:STANDARD
DTSTART:20211031T020000
RDATE:20220327T030000
TZOFFSETFROM:+0200
TZOFFSETTO:+0100
TZNAME:Europe/Berlin CET
END:STANDARD
BEGIN:STANDARD
DTSTART:20221030T020000
RDATE:20230326T030000
TZOFFSETFROM:+0200
TZOFFSETTO:+0100
TZNAME:Europe/Berlin CET
END:STANDARD
BEGIN:STANDARD
DTSTART:20231029T020000
RDATE:20240331T030000
TZOFFSETFROM:+0200
TZOFFSETTO:+0100
TZNAME:Europe/Berlin CET
END:STANDARD
BEGIN:DAYLIGHT
DTSTART:20180901T183000
RDATE:20181028T020000
TZOFFSETFROM:+0100
TZOFFSETTO:+0200
TZNAME:Europe/Berlin CEST
END:DAYLIGHT
BEGIN:DAYLIGHT
DTSTART:20190331T030000
RDATE:20191027T020000
TZOFFSETFROM:+0100
TZOFFSETTO:+0200
TZNAME:Europe/Berlin CEST
END:DAYLIGHT
BEGIN:DAYLIGHT
DTSTART:20200329T030000
RDATE:20201025T020000
TZOFFSETFROM:+0100
TZOFFSETTO:+0200
TZNAME:Europe/Berlin CEST
END:DAYLIGHT
BEGIN:DAYLIGHT
DTSTART:20210328T030000
RDATE:20211031T020000
TZOFFSETFROM:+0100
TZOFFSETTO:+0200
TZNAME:Europe/Berlin CEST
END:DAYLIGHT
BEGIN:DAYLIGHT
DTSTART:20220327T030000
RDATE:20221030T020000
TZOFFSETFROM:+0100
TZOFFSETTO:+0200
TZNAME:Europe/Berlin CEST
END:DAYLIGHT
BEGIN:DAYLIGHT
DTSTART:20230326T030000
RDATE:20231029T020000
TZOFFSETFROM:+0100
TZOFFSETTO:+0200
TZNAME:Europe/Berlin CEST
END:DAYLIGHT
END:VTIMEZONE
BEGIN:VEVENT
UID:2f2b3603e8613e7fe95e95f15052842b
CATEGORIES:Sprache
CREATED:20190527T155728
SUMMARY:vereinsinterner Stammdötsch (Öcher Platt e. V. - Stammtisch)
LOCATION:Markt (Stauferkeller) in Haus Löwenstein\, 52062 Aachen
DESCRIPTION;ENCODING=QUOTED-PRINTABLE:Veranstaltung: vereinsinterner Stammdösch \n(Öcher Platt e. V.)Künstler: \n
 \nOs Metjledder met Hein Schnitzler än de Kellersippschaff\nOrt: Markt (Sta
 uferkeller) im Haus Löwenstein, \n52062 Aachen   Termin: 02.09.2019Beginn: 
 18:30 Uhr\nEnde: ca. 21.00 Uhr(Einlass:) ca. 30 Minuten vor Beginn *1   Kos
 ten: Eintritt frei (Mitgliedschaft + Getränkebeitrag) *2Eintritt: ! nur für
  Mitglieder ! Gäste können gerne schnuppern kommen ...Veranstalter: siehe o
 ffizielle Bekanntgabe weitere Infos zum Termin auf: http://www.oecher-platt
 .de/Kalender.html\n\n\nAnmerkungen: (Alle Angaben ohne Gewähr)\n*1: abweich
 ende Einlasszeiten sind (soweit bekannt) angegeben.\n*2: Eintrittskarte pro
  Person, Ermäßigungen bitte beim Veranstalter erfragen\n\n\n\n \n
CONTACT:190000194
DTSTAMP:20260419T193700Z
DTSTART;TZID=Europe/Berlin:20190902T183000
DTEND;TZID=Europe/Berlin:20190902T210000
SEQUENCE:0
TRANSP:OPAQUE
END:VEVENT
END:VCALENDAR