BEGIN:VCALENDAR
VERSION:2.0
PRODID:-//jEvents 2.0 for Joomla//EN
CALSCALE:GREGORIAN
METHOD:PUBLISH
BEGIN:VTIMEZONE
TZID:Europe/Berlin
BEGIN:STANDARD
DTSTART:20181028T020000
RDATE:20190331T030000
TZOFFSETFROM:+0200
TZOFFSETTO:+0100
TZNAME:Europe/Berlin CET
END:STANDARD
BEGIN:STANDARD
DTSTART:20191027T020000
RDATE:20200329T030000
TZOFFSETFROM:+0200
TZOFFSETTO:+0100
TZNAME:Europe/Berlin CET
END:STANDARD
BEGIN:STANDARD
DTSTART:20201025T020000
RDATE:20210328T030000
TZOFFSETFROM:+0200
TZOFFSETTO:+0100
TZNAME:Europe/Berlin CET
END:STANDARD
BEGIN:STANDARD
DTSTART:20211031T020000
RDATE:20220327T030000
TZOFFSETFROM:+0200
TZOFFSETTO:+0100
TZNAME:Europe/Berlin CET
END:STANDARD
BEGIN:STANDARD
DTSTART:20221030T020000
RDATE:20230326T030000
TZOFFSETFROM:+0200
TZOFFSETTO:+0100
TZNAME:Europe/Berlin CET
END:STANDARD
BEGIN:STANDARD
DTSTART:20231029T020000
RDATE:20240331T030000
TZOFFSETFROM:+0200
TZOFFSETTO:+0100
TZNAME:Europe/Berlin CET
END:STANDARD
BEGIN:DAYLIGHT
DTSTART:20181006T183000
RDATE:20181028T020000
TZOFFSETFROM:+0100
TZOFFSETTO:+0200
TZNAME:Europe/Berlin CEST
END:DAYLIGHT
BEGIN:DAYLIGHT
DTSTART:20190331T030000
RDATE:20191027T020000
TZOFFSETFROM:+0100
TZOFFSETTO:+0200
TZNAME:Europe/Berlin CEST
END:DAYLIGHT
BEGIN:DAYLIGHT
DTSTART:20200329T030000
RDATE:20201025T020000
TZOFFSETFROM:+0100
TZOFFSETTO:+0200
TZNAME:Europe/Berlin CEST
END:DAYLIGHT
BEGIN:DAYLIGHT
DTSTART:20210328T030000
RDATE:20211031T020000
TZOFFSETFROM:+0100
TZOFFSETTO:+0200
TZNAME:Europe/Berlin CEST
END:DAYLIGHT
BEGIN:DAYLIGHT
DTSTART:20220327T030000
RDATE:20221030T020000
TZOFFSETFROM:+0100
TZOFFSETTO:+0200
TZNAME:Europe/Berlin CEST
END:DAYLIGHT
BEGIN:DAYLIGHT
DTSTART:20230326T030000
RDATE:20231029T020000
TZOFFSETFROM:+0100
TZOFFSETTO:+0200
TZNAME:Europe/Berlin CEST
END:DAYLIGHT
END:VTIMEZONE
BEGIN:VEVENT
UID:4c04f154006524d52bb16c3784998069
CATEGORIES:Sprache
CREATED:20190527T155811
SUMMARY:vereinsinterner Stammdösch (Öcher Platt e. V. - Stammtisch)
LOCATION:Markt (Stauferkeller) in Haus Löwenstein\, 52062 Aachen
DESCRIPTION;ENCODING=QUOTED-PRINTABLE:Veranstaltung: vereinsinterner Stammdösch \n(Öcher Platt e. V.)Künstler: \n
 \nOs Metjledder met \n\n\nHein Schnitzler än de Kellersippschaff\nOrt: Mark
 t (Stauferkeller) im Haus Löwenstein, \n52062 Aachen   Termin: 07.10.2019Be
 ginn: 18:30 Uhr\nEnde: ca. 21.00 Uhr(Einlass:) ca. 30 Minuten vor Beginn *1
    Kosten: Eintritt frei (Mitgliedschaft + Getränkebeitrag) *2Eintritt: ! n
 ur für Mitglieder ! Gäste können gerne schnuppern kommen ...Veranstalter: s
 iehe offizielle Bekanntgabe weitere Infos zum Termin auf: http://www.oecher
 -platt.de/Kalender.html\n\n\nAnmerkungen: (Alle Angaben ohne Gewähr)\n*1: a
 bweichende Einlasszeiten sind (soweit bekannt) angegeben.\n*2: Eintrittskar
 te pro Person, Ermäßigungen bitte beim Veranstalter erfragen\n\n\n\n \n
CONTACT:190000194
DTSTAMP:20260419T215607Z
DTSTART;TZID=Europe/Berlin:20191007T183000
DTEND;TZID=Europe/Berlin:20191007T210000
SEQUENCE:0
TRANSP:OPAQUE
END:VEVENT
END:VCALENDAR